{"text_format":"1","workbook":"xlsx","n_sheets":31,"sheets":["Introduction & Rules","Guide","Site Inputs","Room Inputs","Emitter Specifications","Certificate","1","2","3","4","5","6","7","8","9","10","11","12","13","14","15","16","17","18","19","20","VTables","UvaluesWRF","UvaluesFlr","UvalueWD","Version History"],"not_rendered":{"charts":0,"images":1,"macros":1,"external_links":0,"defined_names":29,"comments":1,"pivot_tables":0},"unopened":[],"bounds":{"document_bytes":16777216,"sheet_cells":100000,"rows_first":2000,"rows_last":500,"rows_between":2000,"halvings":0,"cell_chars":16384,"cell_head_chars":4096},"cells_cut":0,"cells_raw":0,"read":"whole","date_system":"1900"}

{"sheet":"Introduction & Rules","index":0,"n_rows":0,"n_cols":0,"rows_kept":0,"cut":false,"hidden":false,"merged":[]}

{"sheet":"Guide","index":1,"n_rows":0,"n_cols":0,"rows_kept":0,"cut":false,"hidden":false,"merged":[]}

{"sheet":"Site Inputs","index":2,"n_rows":15,"n_cols":4,"rows_kept":15,"cut":false,"hidden":false,"merged":[[10,2,10,3]]}
[null,"Site factors"]
[null,"Enter data into the pink coloured cells"]
[null,"Heating duration","Intermittent"]
[]
[null,"Source for Design External Temperature (DET)","City and altitude",{"$f":"VTables!$B$28","v":"Specify value"}]
[null,"Local City (to determine DET)","Manchester"]
[null,"Height (m) above mean sea level",100]
[null,"Design External Temperature (DET) in °C",{"$f":"IF(AND(C7=\"\",C3<>VTables!B28),\"\",ROUND(IF(C5=VTables!B27,VLOOKUP('Site Inputs'!C6,DET,IF(C3=VTables!D27,3,4),FALSE)-(C7-VLOOKUP('Site Inputs'!C6,DET,2,FALSE))*0.6/100,C9),1))","v":-3.8}]
[null,{"$f":"\"Enter specified Design External Temperature (DET) in °C\"","v":"Enter specified Design External Temperature (DET) in °C"},-10]
[]
[null,"Building Regulation criteria","Built after 2006 and complies with all current Building Regulations"]
[]
[]
[]
[null,null,{"$f":"\"Tool Version \"&TEXT('Version History'!A4,\"0.0\")&\" - \"&TEXT('Version History'!B4,\"dd.mm.yyyy\")","v":"Tool Version 1.2 - 11.08.2014"}]

{"sheet":"Room Inputs","index":3,"n_rows":167,"n_cols":24,"rows_kept":167,"cut":false,"hidden":false,"merged":[[122,1,126,1],[127,1,131,1],[132,1,136,1],[3,1,16,1],[101,1,105,1],[112,1,116,1],[117,1,121,1],[106,1,111,1],[90,1,95,1],[29,1,35,1],[17,1,22,1],[23,1,28,1],[96,1,100,1],[84,1,89,1],[78,1,83,1],[72,1,77,1],[36,1,41,1],[66,1,71,1],[60,1,65,1],[54,1,59,1],[48,1,53,1],[42,1,47,1]]}
[null,null,null,{"$f":"IF(D5=VTables!$B$33,1,0)","v":0},{"$f":"IF(E5=VTables!$B$33,1,0)","v":0},{"$f":"IF(F5=VTables!$B$33,1,0)","v":1},{"$f":"IF(G5=VTables!$B$33,1,0)","v":0},{"$f":"IF(H5=VTables!$B$33,1,0)","v":0},{"$f":"IF(I5=VTables!$B$33,1,0)","v":0},{"$f":"IF(J5=VTables!$B$33,1,0)","v":0},{"$f":"IF(K5=VTables!$B$33,1,0)","v":0},{"$f":"IF(L5=VTables!$B$33,1,0)","v":0},{"$f":"IF(M5=VTables!$B$33,1,0)","v":0},{"$f":"IF(N5=VTables!$B$33,1,0)","v":0},{"$f":"IF(O5=VTables!$B$33,1,0)","v":0},{"$f":"IF(P5=VTables!$B$33,1,0)","v":0},{"$f":"IF(Q5=VTables!$B$33,1,0)","v":0},{"$f":"IF(R5=VTables!$B$33,1,0)","v":0},{"$f":"IF(S5=VTables!$B$33,1,0)","v":0},{"$f":"IF(T5=VTables!$B$33,1,0)","v":0},{"$f":"IF(U5=VTables!$B$33,1,0)","v":0},{"$f":"IF(V5=VTables!$B$33,1,0)","v":0},{"$f":"IF(W5=VTables!$B$33,1,0)","v":0},{"$f":"IF(X5=VTables!$B$33,1,0)","v":0}]
[null,"Room input data",null,{"$f":"IF(OR(D5=VTables!$B$32,D5=VTables!$B$33,D5=\"\"),0,1)","v":1},{"$f":"IF(OR(E5=VTables!$B$32,E5=VTables!$B$33,E5=\"\"),0,1)","v":0},{"$f":"IF(OR(F5=VTables!$B$32,F5=VTables!$B$33,F5=\"\"),0,1)","v":0},{"$f":"IF(OR(G5=VTables!$B$32,G5=VTables!$B$33,G5=\"\"),0,1)","v":0},{"$f":"IF(OR(H5=VTables!$B$32,H5=VTables!$B$33,H5=\"\"),0,1)","v":0},{"$f":"IF(OR(I5=VTables!$B$32,I5=VTables!$B$33,I5=\"\"),0,1)","v":0},{"$f":"IF(OR(J5=VTables!$B$32,J5=VTables!$B$33,J5=\"\"),0,1)","v":0},{"$f":"IF(OR(K5=VTables!$B$32,K5=VTables!$B$33,K5=\"\"),0,1)","v":0},{"$f":"IF(OR(L5=VTables!$B$32,L5=VTables!$B$33,L5=\"\"),0,1)","v":0},{"$f":"IF(OR(M5=VTables!$B$32,M5=VTables!$B$33,M5=\"\"),0,1)","v":0},{"$f":"IF(OR(N5=VTables!$B$32,N5=VTables!$B$33,N5=\"\"),0,1)","v":0},{"$f":"IF(OR(O5=VTables!$B$32,O5=VTables!$B$33,O5=\"\"),0,1)","v":0},{"$f":"IF(OR(P5=VTables!$B$32,P5=VTables!$B$33,P5=\"\"),0,1)","v":0},{"$f":"IF(OR(Q5=VTables!$B$32,Q5=VTables!$B$33,Q5=\"\"),0,1)","v":0},{"$f":"IF(OR(R5=VTables!$B$32,R5=VTables!$B$33,R5=\"\"),0,1)","v":0},{"$f":"IF(OR(S5=VTables!$B$32,S5=VTables!$B$33,S5=\"\"),0,1)","v":0},{"$f":"IF(OR(T5=VTables!$B$32,T5=VTables!$B$33,T5=\"\"),0,1)","v":0},{"$f":"IF(OR(U5=VTables!$B$32,U5=VTables!$B$33,U5=\"\"),0,1)","v":0},{"$f":"IF(OR(V5=VTables!$B$32,V5=VTables!$B$33,V5=\"\"),0,1)","v":0},{"$f":"IF(OR(W5=VTables!$B$32,W5=VTables!$B$33,W5=\"\"),0,1)","v":0},{"$f":"IF(OR(X5=VTables!$B$32,X5=VTables!$B$33,X5=\"\"),0,1)","v":0}]
[1,null,"Input name","Room1","Room2","Room3","Room4","Room5","Room6","Room7","Room8","Room9","Room10",null,"Room11","Room12","Room13","Room14","Room15","Room16","Room17","Room18","Room19","Room20"]
[2,null,"Room name","Kitchen","Living room","Bedroom 1"]
[3,null,"Emitter type","Underfloor heating (UFH)","Convector","Radiator"]
[4,null,"Temperature factor (convectors only)",{"$f":"'Emitter Specifications'!$J7","v":0.85},{"$f":"'Emitter Specifications'!$J8","v":0.85},{"$f":"'Emitter Specifications'!$J9","v":0.85},{"$f":"'Emitter Specifications'!$J10","v":0.85},{"$f":"'Emitter Specifications'!$J11","v":0.85},{"$f":"'Emitter Specifications'!$J12","v":0.85},{"$f":"'Emitter Specifications'!$J13","v":0.85},{"$f":"'Emitter Specifications'!$J14","v":0.85},{"$f":"'Emitter Specifications'!$J15","v":0.85},{"$f":"'Emitter Specifications'!$J16","v":0.85},null,{"$f":"'Emitter Specifications'!$J17","v":0.85},{"$f":"'Emitter Specifications'!$J18","v":0.85},{"$f":"'Emitter Specifications'!$J19","v":0.85},{"$f":"'Emitter Specifications'!$J20","v":0.85},{"$f":"'Emitter Specifications'!$J21","v":0.85},{"$f":"'Emitter Specifications'!$J22","v":0.85},{"$f":"'Emitter Specifications'!$J23","v":0.85},{"$f":"'Emitter Specifications'!$J24","v":0.85},{"$f":"'Emitter Specifications'!$J25","v":0.85},{"$f":"'Emitter Specifications'!$J26","v":0.85}]
[5,null,"n-coefficient (radiators only)",{"$f":"'Emitter Specifications'!$I7","v":1.3},{"$f":"'Emitter Specifications'!$I8","v":1.3},{"$f":"'Emitter Specifications'!$I9","v":1.3},{"$f":"'Emitter Specifications'!$I10","v":1.3},{"$f":"'Emitter Specifications'!$I11","v":1.3},{"$f":"'Emitter Specifications'!$I12","v":1.3},{"$f":"'Emitter Specifications'!$I13","v":1.3},{"$f":"'Emitter Specifications'!$I14","v":1.3},{"$f":"'Emitter Specifications'!$I15","v":1.3},{"$f":"'Emitter Specifications'!$I16","v":1.3},{"$f":"'Emitter Specifications'!$I7","v":1.3},{"$f":"'Emitter Specifications'!$I17","v":1.3},{"$f":"'Emitter Specifications'!$I18","v":1.3},{"$f":"'Emitter Specifications'!$I19","v":1.3},{"$f":"'Emitter Specifications'!$I20","v":1.3},{"$f":"'Emitter Specifications'!$I21","v":1.3},{"$f":"'Emitter Specifications'!$I22","v":1.3},{"$f":"'Emitter Specifications'!$I23","v":1.3},{"$f":"'Emitter Specifications'!$I24","v":1.3},{"$f":"'Emitter Specifications'!$I25","v":1.3},{"$f":"'Emitter Specifications'!$I26","v":1.3}]
[6,null,"Floor surface type or temperature limit (°C) [underfloor only]","Normally occupied space"]
[7,null,"Floor construction (underfloor only)","Floating screed floor"]
[8,null,"Floor TOG value (underfloor only)",{"$f":"'Emitter Specifications'!$N7","v":0.25},{"$f":"'Emitter Specifications'!$N8","v":0.25},{"$f":"'Emitter Specifications'!$N9","v":0.25},{"$f":"'Emitter Specifications'!$N10","v":0.25},{"$f":"'Emitter Specifications'!$N11","v":0.25},{"$f":"'Emitter Specifications'!$N12","v":0.25},{"$f":"'Emitter Specifications'!$N13","v":0.25},{"$f":"'Emitter Specifications'!$N14","v":0.25},{"$f":"'Emitter Specifications'!$N15","v":0.25},{"$f":"'Emitter Specifications'!$N16","v":0.25},null,{"$f":"'Emitter Specifications'!$N17","v":0.25},{"$f":"'Emitter Specifications'!$N18","v":0.25},{"$f":"'Emitter Specifications'!$N19","v":0.25},{"$f":"'Emitter Specifications'!$N20","v":0.25},{"$f":"'Emitter Specifications'!$N21","v":0.25},{"$f":"'Emitter Specifications'!$N22","v":0.25},{"$f":"'Emitter Specifications'!$N23","v":0.25},{"$f":"'Emitter Specifications'!$N24","v":0.25},{"$f":"'Emitter Specifications'!$N25","v":0.25},{"$f":"'Emitter Specifications'!$N26","v":0.25}]
[9,null,"Active floor area in m² (underfloor only)",25,12]
[10,null,"Room type","Kitchen","Living room","Bedroom"]
[11,null,"Chimney type","No chimney or open fire","No chimney or open fire","No chimney or open fire"]
[12,null,"Design room ventilation rate (air changes per hour)",{"$f":"'1'!$H$8","v":2},{"$f":"'2'!$H$8","v":1.5},{"$f":"'3'!$H$8","v":1},{"$f":"'4'!$H$8","v":{"$error":"#N/A"}},{"$f":"'5'!$H$8","v":{"$error":"#N/A"}},{"$f":"'6'!$H$8","v":{"$error":"#N/A"}},{"$f":"'7'!$H$8","v":{"$error":"#N/A"}},{"$f":"'8'!$H$8","v":{"$error":"#N/A"}},{"$f":"'9'!$H$8","v":{"$error":"#N/A"}},{"$f":"'10'!$H$8","v":{"$error":"#N/A"}},null,{"$f":"'11'!$H$8","v":{"$error":"#N/A"}},{"$f":"'12'!$H$8","v":{"$error":"#N/A"}},{"$f":"'13'!$H$8","v":{"$error":"#N/A"}},{"$f":"'14'!$H$8","v":{"$error":"#N/A"}},{"$f":"'15'!$H$8","v":{"$error":"#N/A"}},{"$f":"'16'!$H$8","v":{"$error":"#N/A"}},{"$f":"'17'!$H$8","v":{"$error":"#N/A"}},{"$f":"'18'!$H$8","v":{"$error":"#N/A"}},{"$f":"'19'!$H$8","v":{"$error":"#N/A"}},{"$f":"'20'!$H$8","v":{"$error":"#N/A"}}]
[13,null,"Room length (m)",5,3,3]
[14,null,"Room width (m)",5,4,3]
[15,null,"Room height (m)",2.4,2.4,2.4]
[16,"Wall, floor, or ceiling 1","Description","External wall","External wall","External wall"]
[17,null,"Space type on other side of construction","Outside","Outside","Outside"]
[18,null,"Height or length (m)",2.4,2.4,2]
[19,null,"Width (m)",5,3,3]
[20,null,"Construction","Enter a U-value","Enter a U-value","Enter a U-value"]
[21,null,"U-value (W/m2K)",0.2,0.3,0.3]
[22,"Wall, floor, or ceiling 2","Description","External wall","External wall","Ceiling"]
[23,null,"Space type on other side of construction","Outside","Outside","Outside"]
[24,null,"Height or length (m)",2.4,2.4,3]
[25,null,"Width (m)",5,4,3]
[26,null,"Construction","Enter a U-value","Enter a U-value","Enter a U-value"]
[27,null,"U-value (W/m2K)",0.2,0.3,0.2]
[28,"Wall, floor, or ceiling 3","Description",null,"Internal wall"]
[29,null,"Space type on other side of construction",null,"Kitchen"]
[30,null,"Height or length (m)",null,2.4]
[31,null,"Width (m)",null,4]
[32,null,"Construction",null,"Plasterboard 12.5mm, studding 75mm, plasterboard 12.5mm"]
[33,null,"U-value (W/m2K)"]
[34]
[35,"Wall, floor, or ceiling 4","Description"]
[36,null,"Space type on other side of construction"]
[37,null,"Height or length (m)"]
[38,null,"Width (m)"]
[39,null,"Construction"]
[40,null,"U-value (W/m2K)"]
[41,"Wall, floor, or ceiling 5","Description"]
[42,null,"Space type on other side of construction"]
[43,null,"Height or length (m)"]
[44,null,"Width (m)"]
[45,null,"Construction"]
[46,null,"U-value (W/m2K)"]
[47,"Wall, floor, or ceiling 6","Description"]
[48,null,"Space type on other side of construction"]
[49,null,"Height or length (m)"]
[50,null,"Width (m)"]
[51,null,"Construction"]
[52,null,"U-value (W/m2K)"]
[53,"Wall, floor, or ceiling 7","Description"]
[54,null,"Space type on other side of construction"]
[55,null,"Height or length (m)"]
[56,null,"Width (m)"]
[57,null,"Construction"]
[58,null,"U-value (W/m2K)"]
[59,"Wall, floor, or ceiling 8","Description"]
[60,null,"Space type on other side of construction"]
[61,null,"Height or length (m)"]
[62,null,"Width (m)"]
[63,null,"Construction"]
[64,null,"U-value (W/m2K)"]
[65,"Wall, floor, or ceiling 9","Description"]
[66,null,"Space type on other side of construction"]
[67,null,"Height or length (m)"]
[68,null,"Width (m)"]
[69,null,"Construction"]
[70,null,"U-value (W/m2K)"]
[71,"Wall, floor, or ceiling 10","Description"]
[72,null,"Space type on other side of construction"]
[73,null,"Height or length (m)"]
[74,null,"Width (m)"]
[75,null,"Construction"]
[76,null,"U-value (W/m2K)"]
[77,"Wall, floor, or ceiling 11","Description"]
[78,null,"Space type on other side of construction"]
[79,null,"Height or length (m)"]
[80,null,"Width (m)"]
[81,null,"Construction"]
[82,null,"U-value (W/m2K)"]
[83,"Wall, floor, or ceiling 12","Description"]
[84,null,"Space type on other side of construction"]
[85,null,"Height or length (m)"]
[86,null,"Width (m)"]
[87,null,"Construction"]
[88,null,"U-value (W/m2K)"]
[89,"Ground floor 1","Short length (m)",5,3]
[90,null,"Long length (m)",5,4]
[91,null,"Edges exposed","Two adjacent edges","Two adjacent edges"]
[92,null,"Insulation type and thickness","Solid floor - Enter a U-value","Solid floor - Enter a U-value"]
[93,null,"U-value (W/m2K)",0.15,0.15]
[94]
[95,"Ground floor 2","Short length (m)"]
[96,null,"Long length (m)"]
[97,null,"Edges exposed"]
[98,null,"Insulation type and thickness"]
[99,null,"U-value (W/m2K)"]
[100,"Ground floor 3","Short length (m)"]
[101,null,"Long length (m)"]
[102,null,"Edges exposed"]
[103,null,"Insulation type and thickness"]
[104,null,"U-value (W/m2K)"]
[105,"Window or door 1","In which wall/ceiling/door","External","External","External Wall"]
[106,null,"Window/door height (m)",0.9,0.9,0.9]
[107,null,"Window/door width (m)",1.6,1.2,1.2]
[108,null,"Frame/glazing type","Wood/PVC Double, low-E glass, argon filled ","Wood/PVC Double, low-E glass, argon filled ","Wood/PVC Double, low-E glass, argon filled "]
[109,null,"U-value (W/m2K)"]
[110]
[111,"Window or door 2","In which wall/ceiling/door"]
[112,null,"Window/door height (m)"]
[113,null,"Window/door width (m)"]
[114,null,"Frame/glazing type"]
[115,null,"U-value (W/m2K)"]
[116,"Window or door 3","In which wall/ceiling/door"]
[117,null,"Window/door height (m)"]
[118,null,"Window/door width (m)"]
[119,null,"Frame/glazing type"]
[120,null,"U-value (W/m2K)"]
[121,"Window or door 4","In which wall/ceiling/door"]
[122,null,"Window/door height (m)"]
[123,null,"Window/door width (m)"]
[124,null,"Frame/glazing type"]
[125,null,"U-value (W/m2K)"]
[126,"Window or door 5","In which wall/ceiling/door"]
[127,null,"Window/door height (m)"]
[128,null,"Window/door width (m)"]
[129,null,"Frame/glazing type"]
[130,null,"U-value (W/m2K)"]
[131,"Window or door 6","In which wall/ceiling/door"]
[132,null,"Window/door height (m)"]
[133,null,"Window/door width (m)"]
[134,null,"Frame/glazing type"]
[135,null,"U-value (W/m2K)"]
[]
[]
[null,null,{"$f":"'Site Inputs'!$C$15","v":"Tool Version 1.2 - 11.08.2014"}]
[null,null,null,"Window in which wall/ceiling/door choices"]
[null,null,null,{"$f":"IF(D18=\"\",\"\",D18)","v":"External wall"},{"$f":"IF(E18=\"\",\"\",E18)","v":"External wall"},"External wall","","","","","","","",null,"","","","","","","","","",""]
[null,null,null,{"$f":"IF(D24=\"\",\"\",D24)","v":"External wall"},{"$f":"IF(E24=\"\",\"\",E24)","v":"External wall"},"Ceiling","","","","","","","",null,"","","","","","","","","",""]
[null,null,null,{"$f":"IF(D30=\"\",\"\",D30)","v":""},{"$f":"IF(E30=\"\",\"\",E30)","v":"Internal wall"},"","","","","","","","",null,"","","","","","","","","",""]
[null,null,null,{"$f":"IF(D37=\"\",\"\",D37)","v":""},{"$f":"IF(E37=\"\",\"\",E37)","v":""},"","","","","","","","",null,"","","","","","","","","",""]
[null,null,null,{"$f":"IF(D43=\"\",\"\",D43)","v":""},{"$f":"IF(E43=\"\",\"\",E43)","v":""},"","","","","","","","",null,"","","","","","","","","",""]
[null,null,null,{"$f":"IF(D49=\"\",\"\",D49)","v":""},{"$f":"IF(E49=\"\",\"\",E49)","v":""},"","","","","","","","",null,"","","","","","","","","",""]
[null,null,null,{"$f":"IF(D55=\"\",\"\",D55)","v":""},{"$f":"IF(E55=\"\",\"\",E55)","v":""},"","","","","","","","",null,"","","","","","","","","",""]
[null,null,null,{"$f":"IF(D61=\"\",\"\",D61)","v":""},{"$f":"IF(E61=\"\",\"\",E61)","v":""},"","","","","","","","",null,"","","","","","","","","",""]
[null,null,null,{"$f":"IF(D67=\"\",\"\",D67)","v":""},{"$f":"IF(E67=\"\",\"\",E67)","v":""},"","","","","","","","",null,"","","","","","","","","",""]
[null,null,null,{"$f":"IF(D73=\"\",\"\",D73)","v":""},{"$f":"IF(E73=\"\",\"\",E73)","v":""},"","","","","","","","",null,"","","","","","","","","",""]
[null,null,null,{"$f":"IF(D79=\"\",\"\",D79)","v":""},{"$f":"IF(E79=\"\",\"\",E79)","v":""},"","","","","","","","",null,"","","","","","","","","",""]
[null,null,null,{"$f":"IF(D85=\"\",\"\",D85)","v":""},{"$f":"IF(E85=\"\",\"\",E85)","v":""},"","","","","","","","",null,"","","","","","","","","",""]
[]
[]
[]
[]
[]
[]
[]
[]
[]
[]
[]
[]
[null,null,null,{"$f":"UvaluesFlr!$U$3","v":"Solid floor - Enter a U-value"}]
[null,null,null,{"$f":"UvaluesFlr!$U$4","v":"Suspended floor - Enter U-value"}]

{"sheet":"Emitter Specifications","index":4,"n_rows":68,"n_cols":54,"rows_kept":68,"cut":false,"hidden":false,"merged":[[4,2,4,4],[7,20,7,21],[4,6,4,12],[4,13,4,18],[0,12,1,12],[2,8,2,10],[2,5,2,7],[5,20,5,21],[6,20,6,21]]}
[null,"Summary of Emitter Specifications",null,null,null,null,null,null,null,null,null,null,"MWT"]
[]
[null,null,null,null,null,"Enter Design flow (Tf) temperature",null,null,"Design flow temperature (Tf) ≤35°C",null,null,null,{"$f":"IF(I3=VTables!D34,(L3*13/14),ROUND(VLOOKUP('Emitter Specifications'!I3,VTables!D31:E34,2,FALSE),1))","v":32.5},{"$f":"VTables!$D$34","v":"Specified design flow temp (Tf) - N/A for SAP 2012"}]
[]
[null,null,"Room details",null,null,"Emitter type","Radiators or convectors, if any",null,null,null,null,null,null,"Underfloor Heating, if any",null,null,null,null,null,null,null,null,null,null,null,null,null,null,null,null,null,null,null,null,"Actual ΔROOM ",{"$f":"M3-20","v":12.5}]
[null,"Room Number","Room name","Design heat loss (W)","Design room temperature (°C)",null,"Radiator Surface Finish Factor F1","Radiator Enclosure Factor \nF2","n-coefficient (radiators only)","Convector Temperature Factor (FTEMP)","Radiator Temperature Factor (FTEMP)",{"$f":"\"Required minimum emitter size (Watts) from EN442 standard test conditions (ΔROOM = 50°C) if actual ΔROOM = \"&ROUND(AJ5,1)&\"°C\"","v":"Required minimum emitter size (Watts) from EN442 standard test conditions (ΔROOM = 50°C) if actual ΔROOM = 12.5°C"},"Actual installed emitter size (Watts) from EN442 standard test conditions (ΔROOM = 50°C) ","Floor Tog Value","Required System Performance Factor KH in W/m2K (from Table 13)","Required minimum pipe spacing from Table 13 (mm)","Minimum pipe spacing from manufacturer's data, if any (mm)","Floor surface temperature (Room specific MWT) limited to lower temperature than MWT?","Limited MWT (°C) / Floor surface temperature for room (only)",null,"Tables from: BRE Trust Report FB 59, Design of low-temperature domestic heating systems\n",null,null,null,null,null,null,null,null,null,null,null,"UFH specifications","Blending valve installed?","Radiator","Not Radiator","Conv or Radiator","Conv","UFH","UFH or Blank  F1 or F2 is zero","F1","F2","Actual Conv or Rad output (Watts)"," qR(W/m2)","Temp limit C","Design Temp restricted"," ΔROOM","KH","Tog","Tog col","tab height","tab row"]
[null,1,{"$f":"'1'!C$3","v":"Kitchen"},{"$f":"'1'!$K$42","v":997.92000000000007},{"$f":"IF(ISERROR('1'!$K$8),\"\",'1'!$K$8)","v":18},{"$f":"IF(AI7,\"Radiator\",IF(AL7,\"Convector\",IF(AM7,\"UFH\",\"\")))","v":"UFH"},1,1,1.3,0.85,{"$f":"IF('1'!F$3=VTables!B$33,(((M$3-'1'!$K$8)/50)^'1'!K$3),\"\")","v":""},{"$f":"IF(AK7,IF('1'!$F$3=VTables!$B$33,D7/(G7*H7*$G$31*$K7),0)+IF('1'!$F$3=VTables!$B$32,D7/($G$31*$J7),0),\"\")","v":""},4000,0.25,{"$f":"AV7","v":5.3436144578313254},{"$f":"BB7","v":"Outside Range"},null,{"$f":"IF(AND($AM7,$AT7<$M$3),\"YES\",IF(AND($AM7,$AS7>$M$3),\"Note: Floor surface temperature capped at MWT\"))","v":"YES"},{"$f":"IF(R7=\"YES\",AT7,\"\")","v":27},null,"Table 5: System parameters",null,null,null,null,null,null,null,null,null,null,null,{"$f":"IF(AM7=TRUE,CONCATENATE($C7,CONCATENATE(\": KH=\",ROUND(O7,2),CONCATENATE(\", Spacing (mm)=\",(MIN(P7:Q7)),CONCATENATE(\"; \")))),\"\")","v":"Kitchen: KH=5.34, Spacing (mm)=0; "},{"$f":"IF(ISNA(R7),\"\",IF(R7=\"YES\",CONCATENATE(C7,\", \"),\"\"))","v":"Kitchen, "},{"$f":"IF('Room Inputs'!$D$5=\"Radiator\",1,0)","v":0},{"$f":"'1'!F$3<>VTables!B$33","v":true},{"$f":"OR('1'!F$3=VTables!B$33,'1'!F$3=VTables!B$32)","v":false},{"$f":"'1'!F$3=VTables!B$32","v":false},{"$f":"OR('1'!F$3=VTables!B$31)","v":true},{"$f":"OR('1'!F$3=VTables!$B$33,'1'!F$3=\"\",AND(OR(G7=0,H7=0)))","v":false},{"$f":"IF(AL7,1,G7)","v":1},{"$f":"IF(AL7,1,H7)","v":1},{"$f":"$M7*$AO7*$AP7*$G$31","v":3320},{"$f":"D7/($G$31*'1'!$K$5)","v":48.092530120481932},{"$f":"IF(ISNUMBER('Room Inputs'!$D$8),'Room Inputs'!$D$8,IF('1'!$C$5=VTables!$B$38,0,'1'!$K$8)+VLOOKUP('1'!$C$5,VTables!$B$36:$C$38,2,FALSE))","v":27},{"$f":"MIN($M$3,AS7)","v":27},{"$f":"AT7-'1'!$K$8","v":9},{"$f":"AR7/AU7","v":5.3436144578313254},{"$f":"'1'!$H$5","v":0.25},{"$f":"MATCH(AW7,W$48:AE$48,1)","v":2},{"$f":"VLOOKUP('1'!$F$5,VTables!B$42:D$44,2,FALSE)","v":5},{"$f":"VLOOKUP('1'!$F$5,VTables!B$42:D$44,3,FALSE)","v":1},{"$f":"MATCH(AV7,OFFSET(V$48,AZ7,AX7,AY7,1),-1)","v":{"$error":"#N/A"}},{"$f":"IF(ISNA(BA7),\"Outside Range\",OFFSET(V$48,AZ7+BA7-1,0,1,1))","v":"Outside Range"}]
[null,2,{"$f":"IF('2'!C$3=0,\"\",'2'!C$3)","v":"Living room"},{"$f":"'2'!$K$42","v":547.87799999999993},{"$f":"IF(ISERROR('2'!$K$8),\"\",'2'!$K$8)","v":21},{"$f":"IF(AI8,\"Radiator\",IF(AL8,\"Convector\",IF(AM8,\"UFH\",\"\")))","v":"Convector"},1,1,1.3,0.85,{"$f":"IF('2'!F$3=VTables!B$33,(((M$3-'2'!$K$8)/50)^'2'!K$3),\"\")","v":""},{"$f":"IF(AK8,IF('2'!$F$3=VTables!$B$33,D8/(G8*H8*$G$31*$K8),0)+IF('2'!$F$3=VTables!$B$32,D8/($G$31*$J8),0),\"\")","v":776.58114812189933},800,0.25,{"$f":"AV8","v":{"$error":"#N/A"}},{"$f":"BB8","v":"Outside Range"},null,{"$error":"#N/A"},{"$f":"IF(R8=\"YES\",AT8,\"\")","v":{"$error":"#N/A"}},null,"Nomenclature",null,null,null,null,null,null,null,null,null,null,null,{"$f":"IF(AM8=TRUE,CONCATENATE($C8,CONCATENATE(\": KH=\",ROUND(O8,2),CONCATENATE(\", Spacing (mm)=\",(MIN(P8:Q8)),CONCATENATE(\"; \")))),\"\")","v":""},{"$f":"IF(ISNA(R8),\"\",IF(R8=\"YES\",CONCATENATE(C8,\", \"),\"\"))","v":""},{"$f":"IF('Room Inputs'!$E$5=\"Radiator\",1,0)","v":0},{"$f":"'2'!F$3<>VTables!B$33","v":true},{"$f":"OR('2'!F$3=VTables!B$33,'2'!F$3=VTables!B$32)","v":true},{"$f":"'2'!F$3=VTables!B$32","v":true},{"$f":"OR('2'!F$3=VTables!B$31)","v":false},{"$f":"OR('2'!F$3=VTables!$B$33,'2'!F$3=\"\",AND(OR(G8=0,H8=0)))","v":false},1,1,{"$f":"$M8*$AO8*$AP8*$G$31","v":664},{"$f":"D8/($G$31*'2'!$K$5)","v":55.007831325301204},{"$f":"IF(ISNUMBER('Room Inputs'!$E$8),'Room Inputs'!$E$8,IF('2'!$C$5=VTables!$B$38,0,'2'!$K$8)+VLOOKUP('2'!$C$5,VTables!$B$36:$C$38,2,FALSE))","v":{"$error":"#N/A"}},{"$f":"MIN($M$3,AS8)","v":{"$error":"#N/A"}},{"$f":"AT8-'2'!$K$8","v":{"$error":"#N/A"}},{"$f":"AR8/AU8","v":{"$error":"#N/A"}},{"$f":"'2'!$H$5","v":0.25},{"$f":"MATCH(AW8,W$48:AE$48,1)","v":2},{"$f":"VLOOKUP('2'!$F$5,VTables!B$42:D$44,2,FALSE)","v":{"$error":"#N/A"}},{"$f":"VLOOKUP('2'!$F$5,VTables!B$42:D$44,3,FALSE)","v":{"$error":"#N/A"}},{"$f":"MATCH(AV8,OFFSET(V$48,AZ8,AX8,AY8,1),-1)","v":{"$error":"#N/A"}},{"$f":"IF(ISNA(BA8),\"Outside Range\",OFFSET(V$48,AZ8+BA8-1,0,1,1))","v":"Outside Range"}]
[null,3,{"$f":"IF('3'!C$3=0,\"\",'3'!C$3)","v":"Bedroom 1"},{"$f":"'3'!$K$42","v":316.274},{"$f":"IF(ISERROR('3'!$K$8),\"\",'3'!$K$8)","v":18},"Radiator",1,1,1.3,0.85,{"$f":"IF('3'!F$3=VTables!B$33,(((M$3-'3'!$K$8)/50)^'3'!K$3),\"\")","v":0.20004025397681269},{"$f":"IF(AK9,IF('3'!$F$3=VTables!$B$33,D9/(G9*H9*$G$31*$K9),0)+IF('3'!$F$3=VTables!$B$32,D9/($G$31*$J9),0),\"\")","v":1904.8816649291093},2000,0.25,{"$f":"AV9","v":{"$error":"#DIV/0!"}},{"$error":"#N/A"},null,{"$error":"#N/A"},{"$error":"#N/A"},null,"Tf","Heat generator flow temperature",null,null,null,null,null,null,null,null,null,null,"","",{"$f":"IF('Room Inputs'!$F$5=\"Radiator\",1,0)","v":1},{"$f":"'3'!F$3<>VTables!B$33","v":false},{"$f":"OR('3'!F$3=VTables!B$33,'3'!F$3=VTables!B$32)","v":true},{"$f":"'3'!F$3=VTables!B$32","v":false},{"$f":"OR('3'!F$3=VTables!B$31)","v":false},{"$f":"OR('3'!F$3=VTables!$B$33,'3'!F$3=\"\",AND(OR(G9=0,H9=0)))","v":true},1,1,1660,{"$f":"D9/($G$31*'3'!$K$5)","v":{"$error":"#DIV/0!"}},{"$f":"IF(ISNUMBER('Room Inputs'!$F$8),'Room Inputs'!$F$8,IF('3'!$C$5=VTables!$B$38,0,'3'!$K$8)+VLOOKUP('3'!$C$5,VTables!$B$36:$C$38,2,FALSE))","v":{"$error":"#N/A"}},{"$error":"#N/A"},{"$f":"AT9-'3'!$K$8","v":{"$error":"#N/A"}},{"$error":"#DIV/0!"},{"$f":"'3'!$H$5","v":0.25},2,{"$f":"VLOOKUP('3'!$F$5,VTables!B$42:D$44,2,FALSE)","v":{"$error":"#N/A"}},{"$f":"VLOOKUP('3'!$F$5,VTables!B$42:D$44,3,FALSE)","v":{"$error":"#N/A"}},{"$error":"#DIV/0!"},{"$error":"#N/A"}]
[null,4,{"$f":"IF('4'!C$3=0,\"\",'4'!C$3)","v":""},{"$f":"'4'!$K$42","v":0},{"$f":"IF(ISERROR('4'!$K$8),\"\",'4'!$K$8)","v":""},"",1,1,1.3,0.85,{"$f":"IF('4'!F$3=VTables!B$33,(((M$3-'4'!$K$8)/50)^'4'!K$3),\"\")","v":""},{"$f":"IF(AK10,IF('4'!$F$3=VTables!$B$33,D10/(G10*H10*$G$31*$K10),0)+IF('4'!$F$3=VTables!$B$32,D10/($G$31*$J10),0),\"\")","v":""},4000,0.25,{"$error":"#DIV/0!"},{"$error":"#N/A"},null,{"$error":"#N/A"},{"$error":"#N/A"},null,"Tf","Heat generator return temperature",null,null,null,null,null,null,null,null,null,null,"","",{"$f":"IF('Room Inputs'!$G$5=\"Radiator\",1,0)","v":0},{"$f":"'4'!F$3<>VTables!B$33","v":true},{"$f":"OR('4'!F$3=VTables!B$33,'4'!F$3=VTables!B$32)","v":false},{"$f":"'4'!F$3=VTables!B$32","v":false},{"$f":"OR('4'!F$3=VTables!B$31)","v":false},{"$f":"OR('4'!F$3=VTables!$B$33,'4'!F$3=\"\",AND(OR(G10=0,H10=0)))","v":false},1,1,3320,{"$f":"D10/($G$31*'4'!$K$5)","v":{"$error":"#DIV/0!"}},{"$f":"IF(ISNUMBER('Room Inputs'!$G$8),'Room Inputs'!$G$8,IF('4'!$C$5=VTables!$B$38,0,'4'!$K$8)+VLOOKUP('4'!$C$5,VTables!$B$36:$C$38,2,FALSE))","v":{"$error":"#N/A"}},{"$error":"#N/A"},{"$f":"AT10-'4'!$K$8","v":{"$error":"#N/A"}},{"$error":"#DIV/0!"},{"$f":"'4'!$H$5","v":0.25},2,{"$f":"VLOOKUP('4'!$F$5,VTables!B$42:D$44,2,FALSE)","v":{"$error":"#N/A"}},{"$f":"VLOOKUP('4'!$F$5,VTables!B$42:D$44,3,FALSE)","v":{"$error":"#N/A"}},{"$error":"#DIV/0!"},{"$error":"#N/A"}]
[null,5,{"$f":"IF('5'!C$3=0,\"\",'5'!C$3)","v":""},{"$f":"'5'!$K$42","v":0},{"$f":"IF(ISERROR('5'!$K$8),\"\",'5'!$K$8)","v":""},"",1,1,1.3,0.85,{"$f":"IF('5'!F$3=VTables!B$33,(((M$3-'5'!$K$8)/50)^'5'!K$3),\"\")","v":""},{"$f":"IF(AK11,IF('5'!$F$3=VTables!$B$33,D11/(G11*H11*$G$31*$K11),0)+IF('5'!$F$3=VTables!$B$32,D11/($G$31*$J11),0),\"\")","v":""},4000,0.25,{"$error":"#DIV/0!"},{"$error":"#N/A"},null,{"$error":"#N/A"},{"$error":"#N/A"},null,"ΔSYSTEM","System temperature drop = Tf - Tr",null,null,null,null,null,null,null,null,null,null,"","",{"$f":"IF('Room Inputs'!$H$5=\"Radiator\",1,0)","v":0},{"$f":"'5'!F$3<>VTables!B$33","v":true},{"$f":"OR('5'!F$3=VTables!B$33,'5'!F$3=VTables!B$32)","v":false},{"$f":"'5'!F$3=VTables!B$32","v":false},{"$f":"OR('5'!F$3=VTables!B$31)","v":false},{"$f":"OR('5'!F$3=VTables!$B$33,'5'!F$3=\"\",AND(OR(G11=0,H11=0)))","v":false},1,1,3320,{"$f":"D11/($G$31*'5'!$K$5)","v":{"$error":"#DIV/0!"}},{"$f":"IF(ISNUMBER('Room Inputs'!$H$8),'Room Inputs'!$H$8,IF('5'!$C$5=VTables!$B$38,0,'5'!$K$8)+VLOOKUP('5'!$C$5,VTables!$B$36:$C$38,2,FALSE))","v":{"$error":"#N/A"}},{"$error":"#N/A"},{"$f":"AT11-'5'!$K$8","v":{"$error":"#N/A"}},{"$error":"#DIV/0!"},{"$f":"'5'!$H$5","v":0.25},2,{"$f":"VLOOKUP('5'!$F$5,VTables!B$42:D$44,2,FALSE)","v":{"$error":"#N/A"}},{"$f":"VLOOKUP('5'!$F$5,VTables!B$42:D$44,3,FALSE)","v":{"$error":"#N/A"}},{"$error":"#DIV/0!"},{"$error":"#N/A"}]
[null,6,{"$f":"IF('6'!C$3=0,\"\",'6'!C$3)","v":""},{"$f":"'6'!$K$42","v":0},{"$f":"IF(ISERROR('6'!$K$8),\"\",'6'!$K$8)","v":""},"",1,1,1.3,0.85,{"$f":"IF('6'!F$3=VTables!B$33,(((M$3-'6'!$K$8)/50)^'6'!K$3),\"\")","v":""},{"$f":"IF(AK12,IF('6'!$F$3=VTables!$B$33,D12/(G12*H12*$G$31*$K12),0)+IF('6'!$F$3=VTables!$B$32,D12/($G$31*$J12),0),\"\")","v":""},4000,0.25,{"$error":"#DIV/0!"},{"$error":"#N/A"},null,{"$error":"#N/A"},{"$error":"#N/A"},null,"MWT","Mean water temperature = (Tf + Tr) / 2",null,null,null,null,null,null,null,null,null,null,"","",{"$f":"IF('Room Inputs'!$I$5=\"Radiator\",1,0)","v":0},{"$f":"'6'!F$3<>VTables!B$33","v":true},{"$f":"OR('6'!F$3=VTables!B$33,'6'!F$3=VTables!B$32)","v":false},{"$f":"'6'!F$3=VTables!B$32","v":false},{"$f":"OR('6'!F$3=VTables!B$31)","v":false},{"$f":"OR('6'!F$3=VTables!$B$33,'6'!F$3=\"\",AND(OR(G12=0,H12=0)))","v":false},1,1,3320,{"$f":"D12/($G$31*'6'!$K$5)","v":{"$error":"#DIV/0!"}},{"$f":"IF(ISNUMBER('Room Inputs'!$I$8),'Room Inputs'!$I$8,IF('6'!$C$5=VTables!$B$38,0,'6'!$K$8)+VLOOKUP('6'!$C$5,VTables!$B$36:$C$38,2,FALSE))","v":{"$error":"#N/A"}},{"$error":"#N/A"},{"$f":"AT12-'6'!$K$8","v":{"$error":"#N/A"}},{"$error":"#DIV/0!"},{"$f":"'6'!$H$5","v":0.25},2,{"$f":"VLOOKUP('6'!$F$5,VTables!B$42:D$44,2,FALSE)","v":{"$error":"#N/A"}},{"$f":"VLOOKUP('6'!$F$5,VTables!B$42:D$44,3,FALSE)","v":{"$error":"#N/A"}},{"$error":"#DIV/0!"},{"$error":"#N/A"}]
[null,7,{"$f":"IF('7'!C$3=0,\"\",'7'!C$3)","v":""},{"$f":"'7'!$K$42","v":0},{"$f":"IF(ISERROR('7'!$K$8),\"\",'7'!$K$8)","v":""},"",1,1,1.3,0.85,{"$f":"IF('7'!F$3=VTables!B$33,(((M$3-'7'!$K$8)/50)^'7'!K$3),\"\")","v":""},{"$f":"IF(AK13,IF('7'!$F$3=VTables!$B$33,D13/(G13*H13*$G$31*$K13),0)+IF('7'!$F$3=VTables!$B$32,D13/($G$31*$J13),0),\"\")","v":""},4000,0.25,{"$error":"#DIV/0!"},{"$error":"#N/A"},null,{"$error":"#N/A"},{"$error":"#N/A"},null,"DRT","Design room temperature",null,null,null,null,null,null,null,null,null,null,"","",{"$f":"IF('Room Inputs'!$J$5=\"Radiator\",1,0)","v":0},{"$f":"'7'!F$3<>VTables!B$33","v":true},{"$f":"OR('7'!F$3=VTables!B$33,'7'!F$3=VTables!B$32)","v":false},{"$f":"'7'!F$3=VTables!B$32","v":false},{"$f":"OR('7'!F$3=VTables!B$31)","v":false},{"$f":"OR('7'!F$3=VTables!$B$33,'7'!F$3=\"\",AND(OR(G13=0,H13=0)))","v":false},1,1,3320,{"$f":"D13/($G$31*'7'!$K$5)","v":{"$error":"#DIV/0!"}},{"$f":"IF(ISNUMBER('Room Inputs'!$J$8),'Room Inputs'!$J$8,IF('7'!$C$5=VTables!$B$38,0,'7'!$K$8)+VLOOKUP('7'!$C$5,VTables!$B$36:$C$38,2,FALSE))","v":{"$error":"#N/A"}},{"$error":"#N/A"},{"$f":"AT13-'7'!$K$8","v":{"$error":"#N/A"}},{"$error":"#DIV/0!"},{"$f":"'7'!$H$5","v":0.25},2,{"$f":"VLOOKUP('7'!$F$5,VTables!B$42:D$44,2,FALSE)","v":{"$error":"#N/A"}},{"$f":"VLOOKUP('7'!$F$5,VTables!B$42:D$44,3,FALSE)","v":{"$error":"#N/A"}},{"$error":"#DIV/0!"},{"$error":"#N/A"}]
[null,8,{"$f":"IF('8'!C$3=0,\"\",'8'!C$3)","v":""},{"$f":"'8'!$K$42","v":0},{"$f":"IF(ISERROR('8'!$K$8),\"\",'8'!$K$8)","v":""},"",1,1,1.3,0.85,{"$f":"IF('8'!F$3=VTables!B$33,(((M$3-'8'!$K$8)/50)^'8'!K$3),\"\")","v":""},{"$f":"IF(AK14,IF('8'!$F$3=VTables!$B$33,D14/(G14*H14*$G$31*$K14),0)+IF('8'!$F$3=VTables!$B$32,D14/($G$31*$J14),0),\"\")","v":""},4000,0.25,{"$error":"#DIV/0!"},{"$error":"#N/A"},null,{"$error":"#N/A"},{"$error":"#N/A"},null,"ΔROOM","Mean water to air temperature difference = MWT - DRT",null,null,null,null,null,null,null,null,null,null,"","",{"$f":"IF('Room Inputs'!$K$5=\"Radiator\",1,0)","v":0},{"$f":"'8'!F$3<>VTables!B$33","v":true},{"$f":"OR('8'!F$3=VTables!B$33,'8'!F$3=VTables!B$32)","v":false},{"$f":"'8'!F$3=VTables!B$32","v":false},{"$f":"OR('8'!F$3=VTables!B$31)","v":false},{"$f":"OR('8'!F$3=VTables!$B$33,'8'!F$3=\"\",AND(OR(G14=0,H14=0)))","v":false},1,1,3320,{"$f":"D14/($G$31*'8'!$K$5)","v":{"$error":"#DIV/0!"}},{"$f":"IF(ISNUMBER('Room Inputs'!$K$8),'Room Inputs'!$K$8,IF('8'!$C$5=VTables!$B$38,0,'8'!$K$8)+VLOOKUP('8'!$C$5,VTables!$B$36:$C$38,2,FALSE))","v":{"$error":"#N/A"}},{"$error":"#N/A"},{"$f":"AT14-'8'!$K$8","v":{"$error":"#N/A"}},{"$error":"#DIV/0!"},{"$f":"'8'!$H$5","v":0.25},2,{"$f":"VLOOKUP('8'!$F$5,VTables!B$42:D$44,2,FALSE)","v":{"$error":"#N/A"}},{"$f":"VLOOKUP('8'!$F$5,VTables!B$42:D$44,3,FALSE)","v":{"$error":"#N/A"}},{"$error":"#DIV/0!"},{"$error":"#N/A"}]
[null,9,{"$f":"IF('9'!C$3=0,\"\",'9'!C$3)","v":""},{"$f":"'9'!$K$42","v":0},{"$f":"IF(ISERROR('9'!$K$8),\"\",'9'!$K$8)","v":""},"",1,1,1.3,0.85,{"$f":"IF('9'!F$3=VTables!B$33,(((M$3-'9'!$K$8)/50)^'9'!K$3),\"\")","v":""},{"$f":"IF(AK15,IF('9'!$F$3=VTables!$B$33,D15/(G15*H15*$G$31*$K15),0)+IF('9'!$F$3=VTables!$B$32,D15/($G$31*$J15),0),\"\")","v":""},4000,0.25,{"$error":"#DIV/0!"},{"$error":"#N/A"},null,{"$error":"#N/A"},{"$error":"#N/A"},null,"DET","Design external temperature",null,null,null,null,null,null,null,null,null,null,"","",{"$f":"IF('Room Inputs'!$L$5=\"Radiator\",1,0)","v":0},{"$f":"'9'!F$3<>VTables!B$33","v":true},{"$f":"OR('9'!F$3=VTables!B$33,'9'!F$3=VTables!B$32)","v":false},{"$f":"'9'!F$3=VTables!B$32","v":false},{"$f":"OR('9'!F$3=VTables!B$31)","v":false},{"$f":"OR('9'!F$3=VTables!$B$33,'9'!F$3=\"\",AND(OR(G15=0,H15=0)))","v":false},1,1,3320,{"$f":"D15/($G$31*'9'!$K$5)","v":{"$error":"#DIV/0!"}},{"$f":"IF(ISNUMBER('Room Inputs'!$L$8),'Room Inputs'!$L$8,IF('9'!$C$5=VTables!$B$38,0,'9'!$K$8)+VLOOKUP('9'!$C$5,VTables!$B$36:$C$38,2,FALSE))","v":{"$error":"#N/A"}},{"$error":"#N/A"},{"$f":"AT15-'9'!$K$8","v":{"$error":"#N/A"}},{"$error":"#DIV/0!"},{"$f":"'9'!$H$5","v":0.25},2,{"$f":"VLOOKUP('9'!$F$5,VTables!B$42:D$44,2,FALSE)","v":{"$error":"#N/A"}},{"$f":"VLOOKUP('9'!$F$5,VTables!B$42:D$44,3,FALSE)","v":{"$error":"#N/A"}},{"$error":"#DIV/0!"},{"$error":"#N/A"}]
[null,10,{"$f":"IF('10'!C$3=0,\"\",'10'!C$3)","v":""},{"$f":"'10'!$K$42","v":0},{"$f":"IF(ISERROR('10'!$K$8),\"\",'10'!$K$8)","v":""},"",1,1,1.3,0.85,{"$f":"IF('10'!F$3=VTables!B$33,(((M$3-'10'!$K$8)/50)^'10'!K$3),\"\")","v":""},{"$f":"IF(AK16,IF('10'!$F$3=VTables!$B$33,D16/(G16*H16*$G$31*$K16),0)+IF('10'!$F$3=VTables!$B$32,D16/($G$31*$J16),0),\"\")","v":""},4000,0.25,{"$error":"#DIV/0!"},{"$error":"#N/A"},null,{"$error":"#N/A"},{"$error":"#N/A"},null,null,null,null,null,null,null,null,null,null,null,null,null,"","",{"$f":"IF('Room Inputs'!$M$5=\"Radiator\",1,0)","v":0},{"$f":"'10'!F$3<>VTables!B$33","v":true},{"$f":"OR('10'!F$3=VTables!B$33,'10'!F$3=VTables!B$32)","v":false},{"$f":"'10'!F$3=VTables!B$32","v":false},{"$f":"OR('10'!F$3=VTables!B$31)","v":false},{"$f":"OR('10'!F$3=VTables!$B$33,'10'!F$3=\"\",AND(OR(G16=0,H16=0)))","v":false},1,1,3320,{"$f":"D16/($G$31*'10'!$K$5)","v":{"$error":"#DIV/0!"}},{"$f":"IF(ISNUMBER('Room Inputs'!$M$8),'Room Inputs'!$M$8,IF('10'!$C$5=VTables!$B$38,0,'10'!$K$8)+VLOOKUP('10'!$C$5,VTables!$B$36:$C$38,2,FALSE))","v":{"$error":"#N/A"}},{"$error":"#N/A"},{"$f":"AT16-'10'!$K$8","v":{"$error":"#N/A"}},{"$error":"#DIV/0!"},{"$f":"'10'!$H$5","v":0.25},2,{"$f":"VLOOKUP('10'!$F$5,VTables!B$42:D$44,2,FALSE)","v":{"$error":"#N/A"}},{"$f":"VLOOKUP('10'!$F$5,VTables!B$42:D$44,3,FALSE)","v":{"$error":"#N/A"}},{"$error":"#DIV/0!"},{"$error":"#N/A"}]
[null,11,{"$f":"IF('11'!C$3=0,\"\",'11'!C$3)","v":""},{"$f":"'11'!$K$42","v":0},{"$f":"IF(ISERROR('11'!$K$8),\"\",'11'!$K$8)","v":""},"",1,1,1.3,0.85,{"$f":"IF('11'!F$3=VTables!B$33,(((M$3-'11'!$K$8)/50)^'11'!K$3),\"\")","v":""},{"$f":"IF(AK17,IF('11'!$F$3=VTables!$B$33,D17/(G17*H17*$G$31*$K17),0)+IF('11'!$F$3=VTables!$B$32,D17/($G$31*$J17),0),\"\")","v":""},4000,0.25,{"$error":"#DIV/0!"},{"$error":"#N/A"},null,{"$error":"#N/A"},{"$error":"#N/A"},null,"Table 6: Installation factors (surface finish)",null,null,null,null,null,null,null,null,null,null,null,"","",{"$f":"IF('Room Inputs'!$O$5=\"Radiator\",1,0)","v":0},{"$f":"'11'!F$3<>VTables!B$33","v":true},{"$f":"OR('11'!F$3=VTables!B$33,'11'!F$3=VTables!B$32)","v":false},{"$f":"'11'!F$3=VTables!B$32","v":false},{"$f":"OR('11'!F$3=VTables!B$31)","v":false},{"$f":"OR('11'!F$3=VTables!$B$33,'11'!F$3=\"\",AND(OR(G17=0,H17=0)))","v":false},1,1,3320,{"$f":"D17/($G$31*'11'!$K$5)","v":{"$error":"#DIV/0!"}},{"$f":"IF(ISNUMBER('Room Inputs'!$O$8),'Room Inputs'!$O$8,IF('11'!$C$5=VTables!$B$38,0,'11'!$K$8)+VLOOKUP('11'!$C$5,VTables!$B$36:$C$38,2,FALSE))","v":{"$error":"#N/A"}},{"$error":"#N/A"},{"$f":"AT17-'11'!$K$8","v":{"$error":"#N/A"}},{"$error":"#DIV/0!"},{"$f":"'11'!$H$5","v":0.25},2,{"$f":"VLOOKUP('11'!$F$5,VTables!B$42:D$44,2,FALSE)","v":{"$error":"#N/A"}},{"$f":"VLOOKUP('11'!$F$5,VTables!B$42:D$44,3,FALSE)","v":{"$error":"#N/A"}},{"$error":"#DIV/0!"},{"$error":"#N/A"}]
[null,12,{"$f":"IF('12'!C$3=0,\"\",'12'!C$3)","v":""},{"$f":"'12'!$K$42","v":0},{"$f":"IF(ISERROR('12'!$K$8),\"\",'12'!$K$8)","v":""},"",1,1,1.3,0.85,{"$f":"IF('12'!F$3=VTables!B$33,(((M$3-'12'!$K$8)/50)^'12'!K$3),\"\")","v":""},{"$f":"IF(AK18,IF('12'!$F$3=VTables!$B$33,D18/(G18*H18*$G$31*$K18),0)+IF('12'!$F$3=VTables!$B$32,D18/($G$31*$J18),0),\"\")","v":""},4000,0.25,{"$error":"#DIV/0!"},{"$error":"#N/A"},null,{"$error":"#N/A"},{"$error":"#N/A"},null,"Paint finish","Factor F1",null,null,null,null,null,null,null,null,null,null,"","",{"$f":"IF('Room Inputs'!$P$5=\"Radiator\",1,0)","v":0},{"$f":"'12'!F$3<>VTables!B$33","v":true},{"$f":"OR('12'!F$3=VTables!B$33,'12'!F$3=VTables!B$32)","v":false},{"$f":"'12'!F$3=VTables!B$32","v":false},{"$f":"OR('12'!F$3=VTables!B$31)","v":false},{"$f":"OR('12'!F$3=VTables!$B$33,'12'!F$3=\"\",AND(OR(G18=0,H18=0)))","v":false},1,1,3320,{"$f":"D18/($G$31*'12'!$K$5)","v":{"$error":"#DIV/0!"}},{"$f":"IF(ISNUMBER('Room Inputs'!$P$8),'Room Inputs'!$P$8,IF('12'!$C$5=VTables!$B$38,0,'12'!$K$8)+VLOOKUP('12'!$C$5,VTables!$B$36:$C$38,2,FALSE))","v":{"$error":"#N/A"}},{"$error":"#N/A"},{"$f":"AT18-'12'!$K$8","v":{"$error":"#N/A"}},{"$error":"#DIV/0!"},{"$f":"'12'!$H$5","v":0.25},2,{"$f":"VLOOKUP('12'!$F$5,VTables!B$42:D$44,2,FALSE)","v":{"$error":"#N/A"}},{"$f":"VLOOKUP('12'!$F$5,VTables!B$42:D$44,3,FALSE)","v":{"$error":"#N/A"}},{"$error":"#DIV/0!"},{"$error":"#N/A"}]
[null,13,{"$f":"IF('13'!C$3=0,\"\",'13'!C$3)","v":""},{"$f":"'13'!$K$42","v":0},{"$f":"IF(ISERROR('13'!$K$8),\"\",'13'!$K$8)","v":""},"",1,1,1.3,0.85,{"$f":"IF('13'!F$3=VTables!B$33,(((M$3-'13'!$K$8)/50)^'13'!K$3),\"\")","v":""},{"$f":"IF(AK19,IF('13'!$F$3=VTables!$B$33,D19/(G19*H19*$G$31*$K19),0)+IF('13'!$F$3=VTables!$B$32,D19/($G$31*$J19),0),\"\")","v":""},4000,0.25,{"$error":"#DIV/0!"},{"$error":"#N/A"},null,{"$error":"#N/A"},{"$error":"#N/A"},null,"Plain paint",1,null,null,null,null,null,null,null,null,null,null,"","",{"$f":"IF('Room Inputs'!$Q$5=\"Radiator\",1,0)","v":0},{"$f":"'13'!F$3<>VTables!B$33","v":true},{"$f":"OR('13'!F$3=VTables!B$33,'13'!F$3=VTables!B$32)","v":false},{"$f":"'13'!F$3=VTables!B$32","v":false},{"$f":"OR('13'!F$3=VTables!B$31)","v":false},{"$f":"OR('13'!F$3=VTables!$B$33,'13'!F$3=\"\",AND(OR(G19=0,H19=0)))","v":false},1,1,3320,{"$f":"D19/($G$31*'13'!$K$5)","v":{"$error":"#DIV/0!"}},{"$f":"IF(ISNUMBER('Room Inputs'!$Q$8),'Room Inputs'!$Q$8,IF('13'!$C$5=VTables!$B$38,0,'13'!$K$8)+VLOOKUP('13'!$C$5,VTables!$B$36:$C$38,2,FALSE))","v":{"$error":"#N/A"}},{"$error":"#N/A"},{"$f":"AT19-'13'!$K$8","v":{"$error":"#N/A"}},{"$error":"#DIV/0!"},{"$f":"'13'!$H$5","v":0.25},2,{"$f":"VLOOKUP('13'!$F$5,VTables!B$42:D$44,2,FALSE)","v":{"$error":"#N/A"}},{"$f":"VLOOKUP('13'!$F$5,VTables!B$42:D$44,3,FALSE)","v":{"$error":"#N/A"}},{"$error":"#DIV/0!"},{"$error":"#N/A"}]
[null,14,{"$f":"IF('14'!C$3=0,\"\",'14'!C$3)","v":""},{"$f":"'14'!$K$42","v":0},{"$f":"IF(ISERROR('14'!$K$8),\"\",'14'!$K$8)","v":""},"",1,1,1.3,0.85,{"$f":"IF('14'!F$3=VTables!B$33,(((M$3-'14'!$K$8)/50)^'14'!K$3),\"\")","v":""},{"$f":"IF(AK20,IF('14'!$F$3=VTables!$B$33,D20/(G20*H20*$G$31*$K20),0)+IF('14'!$F$3=VTables!$B$32,D20/($G$31*$J20),0),\"\")","v":""},4000,0.25,{"$error":"#DIV/0!"},{"$error":"#N/A"},null,{"$error":"#N/A"},{"$error":"#N/A"},null,"Metallic based paint",0.85,null,null,null,null,null,null,null,null,null,null,"","",{"$f":"IF('Room Inputs'!$R$5=\"Radiator\",1,0)","v":0},{"$f":"'14'!F$3<>VTables!B$33","v":true},{"$f":"OR('14'!F$3=VTables!B$33,'14'!F$3=VTables!B$32)","v":false},{"$f":"'14'!F$3=VTables!B$32","v":false},{"$f":"OR('14'!F$3=VTables!B$31)","v":false},{"$f":"OR('14'!F$3=VTables!$B$33,'14'!F$3=\"\",AND(OR(G20=0,H20=0)))","v":false},1,1,3320,{"$f":"D20/($G$31*'14'!$K$5)","v":{"$error":"#DIV/0!"}},{"$f":"IF(ISNUMBER('Room Inputs'!$R$8),'Room Inputs'!$R$8,IF('14'!$C$5=VTables!$B$38,0,'14'!$K$8)+VLOOKUP('14'!$C$5,VTables!$B$36:$C$38,2,FALSE))","v":{"$error":"#N/A"}},{"$error":"#N/A"},{"$f":"AT20-'14'!$K$8","v":{"$error":"#N/A"}},{"$error":"#DIV/0!"},{"$f":"'14'!$H$5","v":0.25},2,{"$f":"VLOOKUP('14'!$F$5,VTables!B$42:D$44,2,FALSE)","v":{"$error":"#N/A"}},{"$f":"VLOOKUP('14'!$F$5,VTables!B$42:D$44,3,FALSE)","v":{"$error":"#N/A"}},{"$error":"#DIV/0!"},{"$error":"#N/A"}]
[null,15,{"$f":"IF('15'!C$3=0,\"\",'15'!C$3)","v":""},{"$f":"'15'!$K$42","v":0},{"$f":"IF(ISERROR('15'!$K$8),\"\",'15'!$K$8)","v":""},"",1,1,1.3,0.85,{"$f":"IF('15'!F$3=VTables!B$33,(((M$3-'15'!$K$8)/50)^'15'!K$3),\"\")","v":""},{"$f":"IF(AK21,IF('15'!$F$3=VTables!$B$33,D21/(G21*H21*$G$31*$K21),0)+IF('15'!$F$3=VTables!$B$32,D21/($G$31*$J21),0),\"\")","v":""},4000,0.25,{"$error":"#DIV/0!"},{"$error":"#N/A"},null,{"$error":"#N/A"},{"$error":"#N/A"},null,"Highly polished, such as chrome plated","Consult manufacturer, or if no information available use 0.65",null,null,null,null,null,null,null,null,null,null,"","",{"$f":"IF('Room Inputs'!$S$5=\"Radiator\",1,0)","v":0},{"$f":"'15'!F$3<>VTables!B$33","v":true},{"$f":"OR('15'!F$3=VTables!B$33,'15'!F$3=VTables!B$32)","v":false},{"$f":"'15'!F$3=VTables!B$32","v":false},{"$f":"OR('15'!F$3=VTables!B$31)","v":false},{"$f":"OR('15'!F$3=VTables!$B$33,'15'!F$3=\"\",AND(OR(G21=0,H21=0)))","v":false},1,1,3320,{"$f":"D21/($G$31*'15'!$K$5)","v":{"$error":"#DIV/0!"}},{"$f":"IF(ISNUMBER('Room Inputs'!$S$8),'Room Inputs'!$S$8,IF('15'!$C$5=VTables!$B$38,0,'15'!$K$8)+VLOOKUP('15'!$C$5,VTables!$B$36:$C$38,2,FALSE))","v":{"$error":"#N/A"}},{"$error":"#N/A"},{"$f":"AT21-'15'!$K$8","v":{"$error":"#N/A"}},{"$error":"#DIV/0!"},{"$f":"'15'!$H$5","v":0.25},2,{"$f":"VLOOKUP('15'!$F$5,VTables!B$42:D$44,2,FALSE)","v":{"$error":"#N/A"}},{"$f":"VLOOKUP('15'!$F$5,VTables!B$42:D$44,3,FALSE)","v":{"$error":"#N/A"}},{"$error":"#DIV/0!"},{"$error":"#N/A"}]
[null,16,{"$f":"IF('16'!C$3=0,\"\",'16'!C$3)","v":""},{"$f":"'16'!$K$42","v":0},{"$f":"IF(ISERROR('16'!$K$8),\"\",'16'!$K$8)","v":""},"",1,1,1.3,0.85,{"$f":"IF('16'!F$3=VTables!B$33,(((M$3-'16'!$K$8)/50)^'16'!K$3),\"\")","v":""},{"$f":"IF(AK22,IF('16'!$F$3=VTables!$B$33,D22/(G22*H22*$G$31*$K22),0)+IF('16'!$F$3=VTables!$B$32,D22/($G$31*$J22),0),\"\")","v":""},4000,0.25,{"$error":"#DIV/0!"},{"$error":"#N/A"},null,{"$error":"#N/A"},{"$error":"#N/A"},null,null,null,null,null,null,null,null,null,null,null,null,null,"","",{"$f":"IF('Room Inputs'!$T$5=\"Radiator\",1,0)","v":0},{"$f":"'16'!F$3<>VTables!B$33","v":true},{"$f":"OR('16'!F$3=VTables!B$33,'16'!F$3=VTables!B$32)","v":false},{"$f":"'16'!F$3=VTables!B$32","v":false},{"$f":"OR('16'!F$3=VTables!B$31)","v":false},{"$f":"OR('16'!F$3=VTables!$B$33,'16'!F$3=\"\",AND(OR(G22=0,H22=0)))","v":false},1,1,3320,{"$f":"D22/($G$31*'16'!$K$5)","v":{"$error":"#DIV/0!"}},{"$f":"IF(ISNUMBER('Room Inputs'!$T$8),'Room Inputs'!$T$8,IF('16'!$C$5=VTables!$B$38,0,'16'!$K$8)+VLOOKUP('16'!$C$5,VTables!$B$36:$C$38,2,FALSE))","v":{"$error":"#N/A"}},{"$error":"#N/A"},{"$f":"AT22-'16'!$K$8","v":{"$error":"#N/A"}},{"$error":"#DIV/0!"},{"$f":"'16'!$H$5","v":0.25},2,{"$f":"VLOOKUP('16'!$F$5,VTables!B$42:D$44,2,FALSE)","v":{"$error":"#N/A"}},{"$f":"VLOOKUP('16'!$F$5,VTables!B$42:D$44,3,FALSE)","v":{"$error":"#N/A"}},{"$error":"#DIV/0!"},{"$error":"#N/A"}]
[null,17,{"$f":"IF('17'!C$3=0,\"\",'17'!C$3)","v":""},{"$f":"'17'!$K$42","v":0},{"$f":"IF(ISERROR('17'!$K$8),\"\",'17'!$K$8)","v":""},"",1,1,1.3,0.85,{"$f":"IF('17'!F$3=VTables!B$33,(((M$3-'17'!$K$8)/50)^'17'!K$3),\"\")","v":""},{"$f":"IF(AK23,IF('17'!$F$3=VTables!$B$33,D23/(G23*H23*$G$31*$K23),0)+IF('17'!$F$3=VTables!$B$32,D23/($G$31*$J23),0),\"\")","v":""},4000,0.25,{"$error":"#DIV/0!"},{"$error":"#N/A"},null,{"$error":"#N/A"},{"$error":"#N/A"},null,"Table 7: Installation factors (enclosure type)",null,null,null,null,null,null,null,null,null,null,null,"","",{"$f":"IF('Room Inputs'!$U$5=\"Radiator\",1,0)","v":0},{"$f":"'17'!F$3<>VTables!B$33","v":true},{"$f":"OR('17'!F$3=VTables!B$33,'17'!F$3=VTables!B$32)","v":false},{"$f":"'17'!F$3=VTables!B$32","v":false},{"$f":"OR('17'!F$3=VTables!B$31)","v":false},{"$f":"OR('17'!F$3=VTables!$B$33,'17'!F$3=\"\",AND(OR(G23=0,H23=0)))","v":false},1,1,3320,{"$f":"D23/($G$31*'17'!$K$5)","v":{"$error":"#DIV/0!"}},{"$f":"IF(ISNUMBER('Room Inputs'!$U$8),'Room Inputs'!$U$8,IF('17'!$C$5=VTables!$B$38,0,'17'!$K$8)+VLOOKUP('17'!$C$5,VTables!$B$36:$C$38,2,FALSE))","v":{"$error":"#N/A"}},{"$error":"#N/A"},{"$f":"AT23-'17'!$K$8","v":{"$error":"#N/A"}},{"$error":"#DIV/0!"},{"$f":"'17'!$H$5","v":0.25},2,{"$f":"VLOOKUP('17'!$F$5,VTables!B$42:D$44,2,FALSE)","v":{"$error":"#N/A"}},{"$f":"VLOOKUP('17'!$F$5,VTables!B$42:D$44,3,FALSE)","v":{"$error":"#N/A"}},{"$error":"#DIV/0!"},{"$error":"#N/A"}]
[null,18,{"$f":"IF('18'!C$3=0,\"\",'18'!C$3)","v":""},{"$f":"'18'!$K$42","v":0},{"$f":"IF(ISERROR('18'!$K$8),\"\",'18'!$K$8)","v":""},"",1,1,1.3,0.85,{"$f":"IF('18'!F$3=VTables!B$33,(((M$3-'18'!$K$8)/50)^'18'!K$3),\"\")","v":""},{"$f":"IF(AK24,IF('18'!$F$3=VTables!$B$33,D24/(G24*H24*$G$31*$K24),0)+IF('18'!$F$3=VTables!$B$32,D24/($G$31*$J24),0),\"\")","v":""},4000,0.25,{"$error":"#DIV/0!"},{"$error":"#N/A"},null,{"$error":"#N/A"},{"$error":"#N/A"},null,"Enclosure type","Factor F2",null,null,null,null,null,null,null,null,null,null,"","",{"$f":"IF('Room Inputs'!$V$5=\"Radiator\",1,0)","v":0},{"$f":"'18'!F$3<>VTables!B$33","v":true},{"$f":"OR('18'!F$3=VTables!B$33,'18'!F$3=VTables!B$32)","v":false},{"$f":"'18'!F$3=VTables!B$32","v":false},{"$f":"OR('18'!F$3=VTables!B$31)","v":false},{"$f":"OR('18'!F$3=VTables!$B$33,'18'!F$3=\"\",AND(OR(G24=0,H24=0)))","v":false},1,1,3320,{"$f":"D24/($G$31*'18'!$K$5)","v":{"$error":"#DIV/0!"}},{"$f":"IF(ISNUMBER('Room Inputs'!$V$8),'Room Inputs'!$V$8,IF('18'!$C$5=VTables!$B$38,0,'18'!$K$8)+VLOOKUP('18'!$C$5,VTables!$B$36:$C$38,2,FALSE))","v":{"$error":"#N/A"}},{"$error":"#N/A"},{"$f":"AT24-'18'!$K$8","v":{"$error":"#N/A"}},{"$error":"#DIV/0!"},{"$f":"'18'!$H$5","v":0.25},2,{"$f":"VLOOKUP('18'!$F$5,VTables!B$42:D$44,2,FALSE)","v":{"$error":"#N/A"}},{"$f":"VLOOKUP('18'!$F$5,VTables!B$42:D$44,3,FALSE)","v":{"$error":"#N/A"}},{"$error":"#DIV/0!"},{"$error":"#N/A"}]
[null,19,{"$f":"IF('19'!C$3=0,\"\",'19'!C$3)","v":""},{"$f":"'19'!$K$42","v":0},{"$f":"IF(ISERROR('19'!$K$8),\"\",'19'!$K$8)","v":""},"",1,1,1.3,0.85,{"$f":"IF('19'!F$3=VTables!B$33,(((M$3-'19'!$K$8)/50)^'19'!K$3),\"\")","v":""},{"$f":"IF(AK25,IF('19'!$F$3=VTables!$B$33,D25/(G25*H25*$G$31*$K25),0)+IF('19'!$F$3=VTables!$B$32,D25/($G$31*$J25),0),\"\")","v":""},4000,0.25,{"$error":"#DIV/0!"},{"$error":"#N/A"},null,{"$error":"#N/A"},{"$error":"#N/A"},null,"No Enclosure, fixed on plain surface",1,null,null,null,null,null,null,null,null,null,null,"","",{"$f":"IF('Room Inputs'!$W$5=\"Radiator\",1,0)","v":0},{"$f":"'19'!F$3<>VTables!B$33","v":true},{"$f":"OR('19'!F$3=VTables!B$33,'19'!F$3=VTables!B$32)","v":false},{"$f":"'19'!F$3=VTables!B$32","v":false},{"$f":"OR('19'!F$3=VTables!B$31)","v":false},{"$f":"OR('19'!F$3=VTables!$B$33,'19'!F$3=\"\",AND(OR(G25=0,H25=0)))","v":false},1,1,3320,{"$f":"D25/($G$31*'19'!$K$5)","v":{"$error":"#DIV/0!"}},{"$f":"IF(ISNUMBER('Room Inputs'!$W$8),'Room Inputs'!$W$8,IF('19'!$C$5=VTables!$B$38,0,'19'!$K$8)+VLOOKUP('19'!$C$5,VTables!$B$36:$C$38,2,FALSE))","v":{"$error":"#N/A"}},{"$error":"#N/A"},{"$f":"AT25-'19'!$K$8","v":{"$error":"#N/A"}},{"$error":"#DIV/0!"},{"$f":"'19'!$H$5","v":0.25},2,{"$f":"VLOOKUP('19'!$F$5,VTables!B$42:D$44,2,FALSE)","v":{"$error":"#N/A"}},{"$f":"VLOOKUP('19'!$F$5,VTables!B$42:D$44,3,FALSE)","v":{"$error":"#N/A"}},{"$error":"#DIV/0!"},{"$error":"#N/A"}]
[null,20,{"$f":"IF('20'!C$3=0,\"\",'20'!C$3)","v":""},{"$f":"'20'!$K$42","v":0},{"$f":"IF(ISERROR('20'!$K$8),\"\",'20'!$K$8)","v":""},"",1,1,1.3,0.85,{"$f":"IF('20'!F$3=VTables!B$33,(((M$3-'20'!$K$8)/50)^'20'!K$3),\"\")","v":""},{"$f":"IF(AK26,IF('20'!$F$3=VTables!$B$33,D26/(G26*H26*$G$31*$K26),0)+IF('20'!$F$3=VTables!$B$32,D26/($G$31*$J26),0),\"\")","v":""},2400,0.25,{"$f":"AV26","v":{"$error":"#DIV/0!"}},{"$f":"BB26","v":{"$error":"#N/A"}},null,{"$f":"IF(AND($AM26,$AT26<$M$3),\"YES\",IF(AND($AM26,$AS26>$M$3),\"Note: Floor surface temperature capped at MWT\"))","v":{"$error":"#N/A"}},{"$error":"#N/A"},null,"Shelf over plain radiator",0.95,null,null,null,null,null,null,null,null,null,null,"","",{"$f":"IF('Room Inputs'!$X$5=\"Radiator\",1,0)","v":0},{"$f":"'20'!F$3<>VTables!B$33","v":true},{"$f":"OR('20'!F$3=VTables!B$33,'20'!F$3=VTables!B$32)","v":false},{"$f":"'20'!F$3=VTables!B$32","v":false},{"$f":"OR('20'!F$3=VTables!B$31)","v":false},{"$f":"OR('20'!F$3=VTables!$B$33,'20'!F$3=\"\",AND(OR(G26=0,H26=0)))","v":false},1,1,1992,{"$f":"D26/($G$31*'20'!$K$5)","v":{"$error":"#DIV/0!"}},{"$f":"IF(ISNUMBER('Room Inputs'!$X$8),'Room Inputs'!$X$8,IF('20'!$C$5=VTables!$B$38,0,'20'!$K$8)+VLOOKUP('20'!$C$5,VTables!$B$36:$C$38,2,FALSE))","v":{"$error":"#N/A"}},{"$error":"#N/A"},{"$f":"AT26-'20'!$K$8","v":{"$error":"#N/A"}},{"$error":"#DIV/0!"},{"$f":"'20'!$H$5","v":0.25},2,{"$f":"VLOOKUP('20'!$F$5,VTables!B$42:D$44,2,FALSE)","v":{"$error":"#N/A"}},{"$f":"VLOOKUP('20'!$F$5,VTables!B$42:D$44,3,FALSE)","v":{"$error":"#N/A"}},{"$error":"#DIV/0!"},{"$error":"#N/A"}]
[null,null,null,null,null,null,null,null,null,null,null,null,null,null,null,null,null,null,null,null,"Fixed in open recess",0.9,null,null,null,null,null,null,null,null,null,null,null,{"$f":"COUNTIF(R7:R26,\"YES\")","v":1},null,null,null,null,{"$f":"COUNTIF(AM7:AM26,\"TRUE\")","v":1}]
[null,null,"Total DHL (W)",{"$f":"SUM(D7:D26)","v":1862.0720000000001},null,null,null,null,null,null,"Total",{"$f":"SUMIF($AK7:$AK26,TRUE,L7:L26)","v":2681.4628130510087},{"$f":"SUMIF($AK7:$AK26,TRUE,M7:M26)","v":2800},null,null,null,null,null,null,null,"Encased cabinet with front and top grill","0.8 to 0.7"]
[]
[null,null,"Total Rad/Conv. contribution to DHL (W)",null,null,null,{"$f":"SUMIF(L7:L26,\">0\",D7:D26)","v":864.15199999999993},null,null,null,null,null,null,null,null,null,null,null,null,null,"Table 9: Intermittency factor"]
[null,null,"Intermittency Factor",null,null,null,{"$f":"IF('Site Inputs'!C3=VTables!D27,0.83,1)","v":0.83},null,null,null,"Radiator/Convector Oversize Factor",null,{"$f":"IF(G30=0,\"\",SUMIF($AK7:$AK26,TRUE,AQ7:AQ26)/G30)","v":2.6893416898878901},null,null,null,null,null,null,null,"Heating pattern","Factor FINTER"]
[null,null,null,null,null,null,null,null,null,null,null,null,null,null,null,null,null,null,null,null,"Intermittent heating (one or two periods per day)",0.83]
[null,null,null,null,null,null,null,null,null,null,null,null,null,null,null,null,null,null,null,null,"Continuous heating",1]
[]
[null,null,null,null,null,null,null,null,null,null,null,null,null,null,null,null,null,null,null,null,"Table 10: Value of n for emitter types"]
[null,null,null,{"$f":"'Site Inputs'!$C$15","v":"Tool Version 1.2 - 11.08.2014"},null,null,null,null,null,null,null,null,null,null,null,null,null,null,null,null,"Standard radiators",1.3]
[null,null,null,null,null,null,null,null,null,null,null,null,null,null,null,null,null,null,null,null,"Fan coil units",1.1000000000000001]
[null,null,null,null,null,null,null,null,null,null,null,null,null,null,null,null,null,null,null,null,"Fan convectors",1]
[]
[null,null,null,null,null,null,null,null,null,null,null,null,null,null,null,null,null,null,null,null,"Table 12: Limiting factors for floor surface temperature"]
[null,null,null,null,null,null,null,null,null,null,null,null,null,null,null,null,null,null,null,null,"Floor type","Maximum floor surface temperature"]
[null,null,null,null,null,null,null,null,null,null,null,null,null,null,null,null,null,null,null,null,"Normally occupied space","DRT + 9°C (q ≈ 100 W/m²)"]
[null,null,null,null,null,null,null,null,null,null,null,null,null,null,null,null,null,null,null,null,"Peripheral zones","DRT + 15°C (q ≈ 175 W/m²)"]
[null,null,null,null,null,null,null,null,null,null,null,null,null,null,null,null,null,null,null,null,"Vinyl floor finish limit","27°C (q ≈ 75 W/m² when DRT = 20°C)"]
[]
[null,null,null,null,null,null,null,null,null,null,null,null,null,null,null,null,null,null,null,null,"Table 13: System performance factor KH (W/m²K)"]
[null,null,null,null,null,null,null,null,null,null,null,null,null,null,null,null,null,null,null,null,"System","Pipe centres (mm)","Tog value of floor finish"]
[null,null,null,null,null,null,null,null,null,null,null,null,null,null,null,null,null,null,null,null,null,null,0,0.25,0.5,0.75,1,1.25,1.5,1.75,2]
[null,null,null,null,null,null,null,null,null,null,null,null,null,null,null,null,null,null,null,null,"Floating screed floor",100,6.27,5.32,4.63,4.0999999999999996,3.68,3.34,3.06,2.83,2.62]
[null,null,null,null,null,null,null,null,null,null,null,null,null,null,null,null,null,null,null,null,null,150,5.42,4.66,4.0999999999999996,3.66,3.32,3.04,2.8,2.6,2.4300000000000002]
[null,null,null,null,null,null,null,null,null,null,null,null,null,null,null,null,null,null,null,null,null,200,4.7,4.09,3.64,3.28,3,2.76,2.56,2.39,2.2400000000000002]
[null,null,null,null,null,null,null,null,null,null,null,null,null,null,null,null,null,null,null,null,null,250,4.09,3.6,3.23,2.95,2.71,2.52,2.35,2.2000000000000002,2.08]
[null,null,null,null,null,null,null,null,null,null,null,null,null,null,null,null,null,null,null,null,null,300,3.56,3.17,2.88,2.65,2.46,2.2999999999999998,2.16,2.0299999999999998,1.92]
[null,null,null,null,null,null,null,null,null,null,null,null,null,null,null,null,null,null,null,null,"Floating dry floor inc. 18 mm chipboard ",150,3.6,3.26,2.98,2.74,2.5299999999999998,2.36,2.21,2.0699999999999998,1.95]
[null,null,null,null,null,null,null,null,null,null,null,null,null,null,null,null,null,null,null,null,null,200,3.34,3.04,2.78,2.57,2.39,2.23,2.09,1.97,1.86]
[null,null,null,null,null,null,null,null,null,null,null,null,null,null,null,null,null,null,null,null,null,250,3.04,2.79,2.57,2.38,2.2200000000000002,2.08,1.96,1.85,1.75]
[null,null,null,null,null,null,null,null,null,null,null,null,null,null,null,null,null,null,null,null,null,300,2.73,2.5099999999999998,2.33,2.17,2.04,1.92,1.81,1.71,1.63]
[null,null,null,null,null,null,null,null,null,null,null,null,null,null,null,null,null,null,null,null,"Floating dry floor\ninc. 18 mm gypsum fibreboard",150,5.58,4.8,4.21,3.75,3.38,3.07,2.82,2.6,2.42]
[null,null,null,null,null,null,null,null,null,null,null,null,null,null,null,null,null,null,null,null,null,200,5.0999999999999996,4.43,3.91,3.5,3.17,2.89,2.66,2.4700000000000002,2.2999999999999998]
[null,null,null,null,null,null,null,null,null,null,null,null,null,null,null,null,null,null,null,null,null,250,4.58,4.0199999999999996,3.58,3.23,2.94,2.7,2.4900000000000002,2.3199999999999998,2.16]
[null,null,null,null,null,null,null,null,null,null,null,null,null,null,null,null,null,null,null,null,null,300,4.04,3.59,3.23,2.94,2.69,2.48,2.31,2.15,2.02]
[]
[null,null,null,null,null,null,null,null,null,null,null,null,null,null,null,null,null,null,null,null,"Table 14: Typical tog values of generic floor coverings"]
[null,null,null,null,null,null,null,null,null,null,null,null,null,null,null,null,null,null,null,null,"Ceramic or stone + adhesive","0.05 – 0.15 tog"]
[null,null,null,null,null,null,null,null,null,null,null,null,null,null,null,null,null,null,null,null,"Vinyl + adhesive","<0.25 tog"]
[null,null,null,null,null,null,null,null,null,null,null,null,null,null,null,null,null,null,null,null,"7 mm laminate + UFH underlay","1.0 tog"]
[null,null,null,null,null,null,null,null,null,null,null,null,null,null,null,null,null,null,null,null,"18 mm hardwood or engineered wood + UFH underlay","1.5 tog"]
[null,null,null,null,null,null,null,null,null,null,null,null,null,null,null,null,null,null,null,null,"12 mm carpet (with pile) + UFH underlay","2.0 tog"]

{"sheet":"Certificate","index":5,"n_rows":32,"n_cols":3,"rows_kept":32,"cut":false,"hidden":false,"merged":[[0,1,0,2],[30,1,30,2],[19,1,19,2],[20,1,20,2],[21,1,21,2],[22,1,22,2],[23,1,23,2],[24,1,24,2],[1,1,1,2],[25,1,25,2],[26,1,26,2],[27,1,27,2],[29,1,29,2]]}
[null,"Low-temperature domestic heating systems - Calculation tool\nDesign, Installation and Commissioning Certificate"]
[null,"Site address:"]
[null,"Date installation was commissioned"]
[null,"Type of heat generator (boiler/heat pump/other)","PLEASE SELECT"]
[null,"Heat loss calculator used for the design (must conform to UK National Annex of EN12831)","BRE Calculation tool for design of low temperature domestic heating systems"]
[null,"Assumed Design External Temperature (DET) for heat loss calculations",{"$f":"'Site Inputs'!C8","v":-3.8}]
[null,"Confirm that assumed internal temperatures were as given in Table 2 of the guide*. If there are any exceptions they should be listed here.","YES"]
[null,"Total building heat loss on the design day, in kW",{"$f":"'Emitter Specifications'!D28/1000","v":1.8620720000000002}]
[null,"Has the installation has been designed for intermittent heating or continuous heating?",{"$f":"'Site Inputs'!C3","v":"Intermittent"}]
[null,"If the installation has been designed for intermittent heating,\n(a) the uplift factor applied to the building heat loss, and\n(b) the uplift factor applied to the heat generator",{"$f":"IF($C$9<>\"Intermittent\",\"N/A\",\"\")","v":""}]
[null,"Mean Water Temperature (MWT) assumed in the design",{"$f":"'Emitter Specifications'!M3","v":32.5}]
[null,"Oversize Factor for Actual Radiators / Convectors (only)",{"$f":"IF('Emitter Specifications'!$M$31=0,\"\",'Emitter Specifications'!$M$31)","v":2.6893416898878901}]
[null,"Underfloor heating (only): \nSystem Performance Factor (KH) (W/m2K)\nMinimum pipe spacing (mm)",{"$f":"IF('Emitter Specifications'!$AM$27=0,\"No UFH installed\",CONCATENATE('Emitter Specifications'!AG7,'Emitter Specifications'!AG8,'Emitter Specifications'!AG9,'Emitter Specifications'!AG10,'Emitter Specifications'!AG11,'Emitter Specifications'!AG12,'Emitter Specifications'!AG13,'Emitter Specifications'!AG14,'Emitter Specifications'!AG15,'Emitter Specifications'!AG16,'Emitter Specifications'!AG17,'Emitter Specifications'!AG18,'Emitter Specifications'!AG19,'Emitter Specifications'!AG20,'Emitter Specifications'!AG21,'Emitter Specifications'!AG22,'Emitter Specifications'!AG23,'Emitter Specifications'!AG24,'Emitter Specifications'!AG25,'Emitter Specifications'!AG26))","v":"Kitchen: KH=5.34, Spacing (mm)=0; "}]
[null,"Design flow temperature (Tf) which is permanently set on the heat generator during commissioning.",{"$f":"ROUND(14/13*C11,0)","v":35}]
[null,"Describe temperature-limiting control installed to ensure design flow temperature (Tf) from heat generator is not exceeded while the system is providing space heating"]
[null,"Has a blending valve been installed for specific rooms with UFH to limit the Floor Surface Temperature?",{"$f":"IF('Emitter Specifications'!AH27=0,\"No blending valves installed [delete if incorrect and specify locations]\",CONCATENATE(\"Yes, fitted in room(s): \",'Emitter Specifications'!AH7,'Emitter Specifications'!AH8,'Emitter Specifications'!AH9,'Emitter Specifications'!AH10,'Emitter Specifications'!AH11,'Emitter Specifications'!AH12,'Emitter Specifications'!AH13,'Emitter Specifications'!AH14,'Emitter Specifications'!AH15,'Emitter Specifications'!AH16,'Emitter Specifications'!AH17,'Emitter Specifications'!AH18,'Emitter Specifications'!AH19,'Emitter Specifications'!AH20,'Emitter Specifications'!AH21,'Emitter Specifications'!AH22,'Emitter Specifications'!AH23,'Emitter Specifications'!AH24,'Emitter Specifications'!AH25,'Emitter Specifications'!AH26,\"[delete if incorrect]\"))","v":"Yes, fitted in room(s): Kitchen, [delete if incorrect]"}]
[null,"If the heat generator also provides hot water service, state what controls are used to ensure it does not supply hot water services and space heating service simultaneously"]
[null,"Confirm that the control settings have been recorded for reference in future and a permanent label or suitable permanent documentation is supplied in close proximity to the controls or heat generator stating the required settings. Confirm location."]
[null,"If the heat generator is a heat pump or biomass boiler, state if the installation has been designed in accordance with the Microgeneration Certification Scheme (MCS) standards","PLEASE SELECT"]
[null,"I certify that:"]
[null,"(i) the central heating installation at the premises whose address is shown above has been designed for low-temperature operation in accordance with the guide*"]
[null,"(ii) the design included a heat loss calculation for every room of the building that is heated by the installation"]
[null,"(iii) the installation conforms with the design"]
[null,"(iv) controls to ensure continued low-temperature operation (limiting flow temperature) have been installed and commissioned in accordance with the design and cannot be overridden by the householder"]
[null,"(v) controls to prevent simultaneous space heating and hot water service have been installed"]
[null,"Name (print):"]
[null,"Signature:"]
[null,"Position/qualification:"]
[null,"If installed by a Microgeneration Certification Scheme (MCS) installation company in compliance with MCS standards, give name, address and certification number of the MCS installation company"]
[null,"Date:"]
[null,"* BRE Trust Report FB 59, Design of low-low temperature domestic heating systems, available from: www.brebookshop.com\n\nNOTE: For SAP purposes, the person responsible for the heating system design must be competent to do so, with evidence demonstrating competency available upon request. This Certificate must be supplied to the dwelling SAP assessor, whilst a copy should be retained for own records and supplied to Building Control (if requested). \n\nDisclaimer: Building Research Establishment Ltd. makes no representation or warranty that the content of this calculation tool is suitable for any use or that it constitutes accurate data and/or advice.\n"]
[null,null,{"$f":"'Site Inputs'!$C$15","v":"Tool Version 1.2 - 11.08.2014"}]

{"sheet":"1","index":6,"n_rows":84,"n_cols":29,"rows_kept":84,"cut":false,"hidden":true,"merged":[[6,1,6,2],[40,1,40,7],[47,8,47,9],[49,2,49,3],[49,8,49,9],[4,8,4,9],[2,8,2,9],[7,7,7,8],[41,8,41,9],[6,4,6,5],[6,7,6,8],[51,7,51,8],[52,1,52,2],[52,4,52,5],[52,7,52,8],[51,1,51,2],[51,4,51,5]]}
[null,{"$f":"'Room Inputs'!D3","v":"Room1"}]
[]
[null,"Room name",{"$f":"HLOOKUP($B$1,'Room Inputs'!$D$3:$X$137,C48,0)","v":"Kitchen"},null,"Emitter type",{"$f":"HLOOKUP($B$1,'Room Inputs'!$D$3:$X$137,F48,0)","v":"Underfloor heating (UFH)"},"For convectors consult the manufacturer's data and enter the temperature factor (FTEMP) for the appropriate fan speed",{"$f":"HLOOKUP($B$1,'Room Inputs'!$D$3:$X$137,H48,0)","v":0.85},"For radiators enter the n-coefficient (exponent) from manufacturer's data.  If unknown 1.3 may be used",null,{"$f":"HLOOKUP($B$1,'Room Inputs'!$D$3:$X$137,K48,0)","v":1.3}]
[]
[null,"Enter floor type and construction",{"$f":"HLOOKUP($B$1,'Room Inputs'!$D$3:$X$137,C50,0)","v":"Normally occupied space"},null,"Enter floor type and construction",{"$f":"HLOOKUP($B$1,'Room Inputs'!$D$3:$X$137,F50,0)","v":"Floating screed floor"},"For UFH enter Tog value (See Table 14)",{"$f":"HLOOKUP($B$1,'Room Inputs'!$D$3:$X$137,H50,0)","v":0.25},"For UFH enter  active or exposed area of the heated floor ",null,{"$f":"HLOOKUP($B$1,'Room Inputs'!$D$3:$X$137,K50,0)","v":25}]
[]
[null,"Enter Room type below",null,null," Enter Open fire/chimney details below ",null,null,"Design room ventilation rate (air changes per hour)",null,null,"Design room temperature °C"]
[null,{"$f":"HLOOKUP($B$1,'Room Inputs'!$D$3:$X$137,B53,0)","v":"Kitchen"},null,null,{"$f":"HLOOKUP($B$1,'Room Inputs'!$D$3:$X$137,E53,0)","v":"No chimney or open fire"},null,null,{"$f":"IF(E8=VTables!B20,VLOOKUP(B8,DRVT,3,FALSE),MAX(VLOOKUP(B8,DRVT,3,FALSE),VLOOKUP(E8,ARVR,2,FALSE)))","v":2},null,null,{"$f":"VLOOKUP(B8,DRVT,2,FALSE)","v":18}]
[null,"Room Dimensions"]
[null,"Length (m)",null,"Width (m)",null,"Height (m)","Room volume (m³) ",null,null,"Design temperature difference","Heat loss (W)"]
[null,{"$f":"HLOOKUP($B$1,'Room Inputs'!$D$3:$X$137,B56,0)","v":5},null,{"$f":"HLOOKUP($B$1,'Room Inputs'!$D$3:$X$137,D56,0)","v":5},null,{"$f":"HLOOKUP($B$1,'Room Inputs'!$D$3:$X$137,F56,0)","v":2.4},{"$f":"B11*D11*F11","v":60},null,null,{"$f":"K8-'Site Inputs'!C8","v":21.8},{"$f":"IF(G11>0,(ROUND(0.33*G11*H8*J11,2)),\"\")","v":863.28}]
[null,"Walls, floors not ground floors and ceiling"]
[null,"Name of wall, floor, ceiling","Space on other side","Height or length (m)","Width (m)","Area (m²)","Construction","Entered U-\u001evalue (W/m²K), if required","U-value (W/m²K)","Design temperature difference","Heat loss (W)",null,"`"]
[null,{"$f":"HLOOKUP($B$1,'Room Inputs'!$D$3:$X$137,B59,0)","v":"External wall"},{"$f":"HLOOKUP($B$1,'Room Inputs'!$D$3:$X$137,C59,0)","v":"Outside"},{"$f":"HLOOKUP($B$1,'Room Inputs'!$D$3:$X$137,D59,0)","v":2.4},{"$f":"HLOOKUP($B$1,'Room Inputs'!$D$3:$X$137,E59,0)","v":5},{"$f":"D14*E14","v":12},{"$f":"HLOOKUP($B$1,'Room Inputs'!$D$3:$X$137,G59,0)","v":"Enter a U-value"},{"$f":"HLOOKUP($B$1,'Room Inputs'!$D$3:$X$137,H59,0)","v":0.2},{"$f":"IF(OR(G14=UvaluesWRF!A$2,ISERROR(VLOOKUP(G14,UvaluesWRF!A$3:B$110,2,FALSE))),\"\",VLOOKUP(G14,UvaluesWRF!A$3:B$110,2,FALSE))","v":""},{"$f":"IF(C14=\"\",\"\",$K$8-VLOOKUP(C14,DRVT,2,FALSE))","v":21.8},{"$f":"IF(G14=UvaluesWRF!A$2,IF(ISERROR(F14*J14*H14),\"\",F14*J14*H14),IF(ISERROR(F14*J14*I14),\"\",F14*J14*I14))","v":52.320000000000007}]
[null,{"$f":"HLOOKUP($B$1,'Room Inputs'!$D$3:$X$137,B60,0)","v":"External wall"},{"$f":"HLOOKUP($B$1,'Room Inputs'!$D$3:$X$137,C60,0)","v":"Outside"},{"$f":"HLOOKUP($B$1,'Room Inputs'!$D$3:$X$137,D60,0)","v":2.4},{"$f":"HLOOKUP($B$1,'Room Inputs'!$D$3:$X$137,E60,0)","v":5},{"$f":"D15*E15","v":12},{"$f":"HLOOKUP($B$1,'Room Inputs'!$D$3:$X$137,G60,0)","v":"Enter a U-value"},{"$f":"HLOOKUP($B$1,'Room Inputs'!$D$3:$X$137,H60,0)","v":0.2},{"$f":"IF(OR(G15=UvaluesWRF!A$2,ISERROR(VLOOKUP(G15,UvaluesWRF!A$3:B$110,2,FALSE))),\"\",VLOOKUP(G15,UvaluesWRF!A$3:B$110,2,FALSE))","v":""},{"$f":"IF(C15=\"\",\"\",$K$8-VLOOKUP(C15,DRVT,2,FALSE))","v":21.8},{"$f":"IF(G15=UvaluesWRF!A$2,IF(ISERROR(F15*J15*H15),\"\",F15*J15*H15),IF(ISERROR(F15*J15*I15),\"\",F15*J15*I15))","v":52.320000000000007}]
[null,{"$f":"HLOOKUP($B$1,'Room Inputs'!$D$3:$X$137,B61,0)","v":0},{"$f":"HLOOKUP($B$1,'Room Inputs'!$D$3:$X$137,C61,0)","v":0},{"$f":"HLOOKUP($B$1,'Room Inputs'!$D$3:$X$137,D61,0)","v":0},{"$f":"HLOOKUP($B$1,'Room Inputs'!$D$3:$X$137,E61,0)","v":0},0,{"$f":"HLOOKUP($B$1,'Room Inputs'!$D$3:$X$137,G61,0)","v":0},{"$f":"HLOOKUP($B$1,'Room Inputs'!$D$3:$X$137,H61,0)","v":0},{"$f":"IF(OR(G16=UvaluesWRF!A$2,ISERROR(VLOOKUP(G16,UvaluesWRF!A$3:B$110,2,FALSE))),\"\",VLOOKUP(G16,UvaluesWRF!A$3:B$110,2,FALSE))","v":""},{"$error":"#N/A"},{"$f":"IF(G16=UvaluesWRF!A$2,IF(ISERROR(F16*J16*H16),\"\",F16*J16*H16),IF(ISERROR(F16*J16*I16),\"\",F16*J16*I16))","v":""}]
[null,{"$f":"HLOOKUP($B$1,'Room Inputs'!$D$3:$X$137,B62,0)","v":0},{"$f":"HLOOKUP($B$1,'Room Inputs'!$D$3:$X$137,C62,0)","v":0},{"$f":"HLOOKUP($B$1,'Room Inputs'!$D$3:$X$137,D62,0)","v":0},{"$f":"HLOOKUP($B$1,'Room Inputs'!$D$3:$X$137,E62,0)","v":0},0,{"$f":"HLOOKUP($B$1,'Room Inputs'!$D$3:$X$137,G62,0)","v":0},{"$f":"HLOOKUP($B$1,'Room Inputs'!$D$3:$X$137,H62,0)","v":0},{"$f":"IF(OR(G17=UvaluesWRF!A$2,ISERROR(VLOOKUP(G17,UvaluesWRF!A$3:B$110,2,FALSE))),\"\",VLOOKUP(G17,UvaluesWRF!A$3:B$110,2,FALSE))","v":""},{"$error":"#N/A"},{"$f":"IF(G17=UvaluesWRF!A$2,IF(ISERROR(F17*J17*H17),\"\",F17*J17*H17),IF(ISERROR(F17*J17*I17),\"\",F17*J17*I17))","v":""}]
[null,{"$f":"HLOOKUP($B$1,'Room Inputs'!$D$3:$X$137,B63,0)","v":0},{"$f":"HLOOKUP($B$1,'Room Inputs'!$D$3:$X$137,C63,0)","v":0},{"$f":"HLOOKUP($B$1,'Room Inputs'!$D$3:$X$137,D63,0)","v":0},{"$f":"HLOOKUP($B$1,'Room Inputs'!$D$3:$X$137,E63,0)","v":0},0,{"$f":"HLOOKUP($B$1,'Room Inputs'!$D$3:$X$137,G63,0)","v":0},{"$f":"HLOOKUP($B$1,'Room Inputs'!$D$3:$X$137,H63,0)","v":0},{"$f":"IF(OR(G18=UvaluesWRF!A$2,ISERROR(VLOOKUP(G18,UvaluesWRF!A$3:B$110,2,FALSE))),\"\",VLOOKUP(G18,UvaluesWRF!A$3:B$110,2,FALSE))","v":""},{"$error":"#N/A"},{"$f":"IF(G18=UvaluesWRF!A$2,IF(ISERROR(F18*J18*H18),\"\",F18*J18*H18),IF(ISERROR(F18*J18*I18),\"\",F18*J18*I18))","v":""}]
[null,{"$f":"HLOOKUP($B$1,'Room Inputs'!$D$3:$X$137,B64,0)","v":0},{"$f":"HLOOKUP($B$1,'Room Inputs'!$D$3:$X$137,C64,0)","v":0},{"$f":"HLOOKUP($B$1,'Room Inputs'!$D$3:$X$137,D64,0)","v":0},{"$f":"HLOOKUP($B$1,'Room Inputs'!$D$3:$X$137,E64,0)","v":0},0,{"$f":"HLOOKUP($B$1,'Room Inputs'!$D$3:$X$137,G64,0)","v":0},{"$f":"HLOOKUP($B$1,'Room Inputs'!$D$3:$X$137,H64,0)","v":0},{"$f":"IF(OR(G19=UvaluesWRF!A$2,ISERROR(VLOOKUP(G19,UvaluesWRF!A$3:B$110,2,FALSE))),\"\",VLOOKUP(G19,UvaluesWRF!A$3:B$110,2,FALSE))","v":""},{"$error":"#N/A"},{"$f":"IF(G19=UvaluesWRF!A$2,IF(ISERROR(F19*J19*H19),\"\",F19*J19*H19),IF(ISERROR(F19*J19*I19),\"\",F19*J19*I19))","v":""}]
[null,{"$f":"HLOOKUP($B$1,'Room Inputs'!$D$3:$X$137,B65,0)","v":0},{"$f":"HLOOKUP($B$1,'Room Inputs'!$D$3:$X$137,C65,0)","v":0},{"$f":"HLOOKUP($B$1,'Room Inputs'!$D$3:$X$137,D65,0)","v":0},{"$f":"HLOOKUP($B$1,'Room Inputs'!$D$3:$X$137,E65,0)","v":0},0,{"$f":"HLOOKUP($B$1,'Room Inputs'!$D$3:$X$137,G65,0)","v":0},{"$f":"HLOOKUP($B$1,'Room Inputs'!$D$3:$X$137,H65,0)","v":0},{"$f":"IF(OR(G20=UvaluesWRF!A$2,ISERROR(VLOOKUP(G20,UvaluesWRF!A$3:B$110,2,FALSE))),\"\",VLOOKUP(G20,UvaluesWRF!A$3:B$110,2,FALSE))","v":""},{"$error":"#N/A"},{"$f":"IF(G20=UvaluesWRF!A$2,IF(ISERROR(F20*J20*H20),\"\",F20*J20*H20),IF(ISERROR(F20*J20*I20),\"\",F20*J20*I20))","v":""}]
[null,{"$f":"HLOOKUP($B$1,'Room Inputs'!$D$3:$X$137,B66,0)","v":0},{"$f":"HLOOKUP($B$1,'Room Inputs'!$D$3:$X$137,C66,0)","v":0},{"$f":"HLOOKUP($B$1,'Room Inputs'!$D$3:$X$137,D66,0)","v":0},{"$f":"HLOOKUP($B$1,'Room Inputs'!$D$3:$X$137,E66,0)","v":0},0,{"$f":"HLOOKUP($B$1,'Room Inputs'!$D$3:$X$137,G66,0)","v":0},{"$f":"HLOOKUP($B$1,'Room Inputs'!$D$3:$X$137,H66,0)","v":0},{"$f":"IF(OR(G21=UvaluesWRF!A$2,ISERROR(VLOOKUP(G21,UvaluesWRF!A$3:B$110,2,FALSE))),\"\",VLOOKUP(G21,UvaluesWRF!A$3:B$110,2,FALSE))","v":""},{"$error":"#N/A"},{"$f":"IF(G21=UvaluesWRF!A$2,IF(ISERROR(F21*J21*H21),\"\",F21*J21*H21),IF(ISERROR(F21*J21*I21),\"\",F21*J21*I21))","v":""}]
[null,{"$f":"HLOOKUP($B$1,'Room Inputs'!$D$3:$X$137,B67,0)","v":0},{"$f":"HLOOKUP($B$1,'Room Inputs'!$D$3:$X$137,C67,0)","v":0},{"$f":"HLOOKUP($B$1,'Room Inputs'!$D$3:$X$137,D67,0)","v":0},{"$f":"HLOOKUP($B$1,'Room Inputs'!$D$3:$X$137,E67,0)","v":0},0,{"$f":"HLOOKUP($B$1,'Room Inputs'!$D$3:$X$137,G67,0)","v":0},{"$f":"HLOOKUP($B$1,'Room Inputs'!$D$3:$X$137,H67,0)","v":0},{"$f":"IF(OR(G22=UvaluesWRF!A$2,ISERROR(VLOOKUP(G22,UvaluesWRF!A$3:B$110,2,FALSE))),\"\",VLOOKUP(G22,UvaluesWRF!A$3:B$110,2,FALSE))","v":""},{"$error":"#N/A"},{"$f":"IF(G22=UvaluesWRF!A$2,IF(ISERROR(F22*J22*H22),\"\",F22*J22*H22),IF(ISERROR(F22*J22*I22),\"\",F22*J22*I22))","v":""}]
[null,{"$f":"HLOOKUP($B$1,'Room Inputs'!$D$3:$X$137,B68,0)","v":0},{"$f":"HLOOKUP($B$1,'Room Inputs'!$D$3:$X$137,C68,0)","v":0},{"$f":"HLOOKUP($B$1,'Room Inputs'!$D$3:$X$137,D68,0)","v":0},{"$f":"HLOOKUP($B$1,'Room Inputs'!$D$3:$X$137,E68,0)","v":0},0,{"$f":"HLOOKUP($B$1,'Room Inputs'!$D$3:$X$137,G68,0)","v":0},{"$f":"HLOOKUP($B$1,'Room Inputs'!$D$3:$X$137,H68,0)","v":0},{"$f":"IF(OR(G23=UvaluesWRF!A$2,ISERROR(VLOOKUP(G23,UvaluesWRF!A$3:B$110,2,FALSE))),\"\",VLOOKUP(G23,UvaluesWRF!A$3:B$110,2,FALSE))","v":""},{"$error":"#N/A"},{"$f":"IF(G23=UvaluesWRF!A$2,IF(ISERROR(F23*J23*H23),\"\",F23*J23*H23),IF(ISERROR(F23*J23*I23),\"\",F23*J23*I23))","v":""}]
[null,{"$f":"HLOOKUP($B$1,'Room Inputs'!$D$3:$X$137,B69,0)","v":0},{"$f":"HLOOKUP($B$1,'Room Inputs'!$D$3:$X$137,C69,0)","v":0},{"$f":"HLOOKUP($B$1,'Room Inputs'!$D$3:$X$137,D69,0)","v":0},{"$f":"HLOOKUP($B$1,'Room Inputs'!$D$3:$X$137,E69,0)","v":0},0,{"$f":"HLOOKUP($B$1,'Room Inputs'!$D$3:$X$137,G69,0)","v":0},{"$f":"HLOOKUP($B$1,'Room Inputs'!$D$3:$X$137,H69,0)","v":0},{"$f":"IF(OR(G24=UvaluesWRF!A$2,ISERROR(VLOOKUP(G24,UvaluesWRF!A$3:B$110,2,FALSE))),\"\",VLOOKUP(G24,UvaluesWRF!A$3:B$110,2,FALSE))","v":""},{"$error":"#N/A"},{"$f":"IF(G24=UvaluesWRF!A$2,IF(ISERROR(F24*J24*H24),\"\",F24*J24*H24),IF(ISERROR(F24*J24*I24),\"\",F24*J24*I24))","v":""}]
[null,{"$f":"HLOOKUP($B$1,'Room Inputs'!$D$3:$X$137,B70,0)","v":0},{"$f":"HLOOKUP($B$1,'Room Inputs'!$D$3:$X$137,C70,0)","v":0},{"$f":"HLOOKUP($B$1,'Room Inputs'!$D$3:$X$137,D70,0)","v":0},{"$f":"HLOOKUP($B$1,'Room Inputs'!$D$3:$X$137,E70,0)","v":0},0,{"$f":"HLOOKUP($B$1,'Room Inputs'!$D$3:$X$137,G70,0)","v":0},{"$f":"HLOOKUP($B$1,'Room Inputs'!$D$3:$X$137,H70,0)","v":0},{"$f":"IF(OR(G25=UvaluesWRF!A$2,ISERROR(VLOOKUP(G25,UvaluesWRF!A$3:B$110,2,FALSE))),\"\",VLOOKUP(G25,UvaluesWRF!A$3:B$110,2,FALSE))","v":""},{"$error":"#N/A"},{"$f":"IF(G25=UvaluesWRF!A$2,IF(ISERROR(F25*J25*H25),\"\",F25*J25*H25),IF(ISERROR(F25*J25*I25),\"\",F25*J25*I25))","v":""}]
[null,"Ground floors \nShort length (m)","long length\n(m)","Edges exposed",null,null,"Type and Insulation  thickness",null,null,null,null,null,"U-value","Edge","Insulation","Column",null,1,2,3,4,5.3,5.4,5.5,5.6,6.3,6.4,6.5,6.6]
[null,{"$f":"HLOOKUP($B$1,'Room Inputs'!$D$3:$X$137,B72,0)","v":5},{"$f":"HLOOKUP($B$1,'Room Inputs'!$D$3:$X$137,C72,0)","v":5},{"$f":"HLOOKUP($B$1,'Room Inputs'!$D$3:$X$137,D72,0)","v":"Two adjacent edges"},{"$f":"HLOOKUP($B$1,'Room Inputs'!$D$3:$X$137,E72,0)","v":"Solid floor - Enter a U-value"},{"$f":"B27*C27","v":25},{"$f":"HLOOKUP($B$1,'Room Inputs'!$D$3:$X$137,G72,0)","v":"Solid floor - Enter a U-value"},{"$f":"HLOOKUP($B$1,'Room Inputs'!$D$3:$X$137,H72,0)","v":0.15},{"$f":"IF(OR(G27=UvaluesFlr!$U$3,G27=UvaluesFlr!$U$4,ISERROR(M27)),\"\",M27)","v":""},{"$f":"$K$8-IF(LEFT(G27,2)=\"So\",10,'Site Inputs'!$C$8)","v":8},{"$f":"IF(OR(G27=UvaluesFlr!$U$3,G27=UvaluesFlr!$U$4),IF(ISERROR(F27*J27*H27),\"\",F27*J27*H27),IF(ISERROR(F27*J27*I27),\"\",F27*J27*I27))","v":30},null,{"$f":"HLOOKUP(N27+MIN(0.6,IF(N27>4,O27/10,0)),$R$26:$AC$29,2,TRUE)","v":{"$error":"#VALUE!"}},{"$f":"VLOOKUP(D27,UvaluesFlr!$U$17:$V$22,2,FALSE)","v":3},{"$f":"VLOOKUP(G27,UvaluesFlr!$U$3:$W$14,2,FALSE)","v":0},{"$f":"VLOOKUP(G27,UvaluesFlr!$U$3:$W$14,3,FALSE)","v":0},null,{"$f":"VLOOKUP(C27,UvaluesFlr!$C$53:$P$59,$P27,TRUE)","v":{"$error":"#VALUE!"}},{"$f":"VLOOKUP(B27,UvaluesFlr!$C$53:$P$59,$P27,TRUE)","v":{"$error":"#VALUE!"}},{"$f":"VLOOKUP(B27+C27,UvaluesFlr!$C$4:$P$12,$P27,TRUE)","v":{"$error":"#VALUE!"}},{"$f":"VLOOKUP(B27,UvaluesFlr!$C$16:$P$21,$P27,TRUE)","v":{"$error":"#VALUE!"}},{"$f":"VLOOKUP($C27,UvaluesFlr!$D$26:$P$29,$P27-1,TRUE)","v":{"$error":"#VALUE!"}},{"$f":"VLOOKUP($C27,UvaluesFlr!$D$30:$P$31,$P27-1,TRUE)","v":{"$error":"#VALUE!"}},{"$f":"VLOOKUP($C27,UvaluesFlr!$D$32:$P$33,$P27-1,TRUE)","v":{"$error":"#VALUE!"}},{"$f":"VLOOKUP($C27,UvaluesFlr!$D$34:$P$35,$P27-1,TRUE)","v":{"$error":"#N/A"}},{"$f":"VLOOKUP($C27,UvaluesFlr!$D$39:$P$42,$P27-1,TRUE)","v":{"$error":"#VALUE!"}},{"$f":"VLOOKUP($C27,UvaluesFlr!$D$43:$P$45,$P27-1,TRUE)","v":{"$error":"#VALUE!"}},{"$f":"VLOOKUP($C27,UvaluesFlr!$D$46:$P$48,$P27-1,TRUE)","v":{"$error":"#VALUE!"}},{"$f":"VLOOKUP($C27,UvaluesFlr!$D$49:$P$50,$P27-1,TRUE)","v":{"$error":"#N/A"}}]
[null,{"$f":"HLOOKUP($B$1,'Room Inputs'!$D$3:$X$137,B73,0)","v":0},{"$f":"HLOOKUP($B$1,'Room Inputs'!$D$3:$X$137,C73,0)","v":0},{"$f":"HLOOKUP($B$1,'Room Inputs'!$D$3:$X$137,D73,0)","v":0},{"$f":"HLOOKUP($B$1,'Room Inputs'!$D$3:$X$137,E73,0)","v":{"$error":"#VALUE!"}},{"$f":"B28*C28","v":0},{"$f":"HLOOKUP($B$1,'Room Inputs'!$D$3:$X$137,G73,0)","v":0},{"$f":"HLOOKUP($B$1,'Room Inputs'!$D$3:$X$137,H73,0)","v":0},{"$f":"IF(OR(G28=UvaluesFlr!$U$3,G28=UvaluesFlr!$U$4,ISERROR(M28)),\"\",M28)","v":""},{"$f":"$K$8-IF(LEFT(G28,2)=\"So\",10,'Site Inputs'!$C$8)","v":21.8},{"$f":"IF(OR(G28=UvaluesFlr!$U$3,G28=UvaluesFlr!$U$4),IF(ISERROR(F28*J28*H28),\"\",F28*J28*H28),IF(ISERROR(F28*J28*I28),\"\",F28*J28*I28))","v":""},null,{"$f":"HLOOKUP(N28+MIN(0.6,IF(N28>4,O28/10,0)),$R$26:$AC$29,3,TRUE)","v":{"$error":"#N/A"}},{"$f":"VLOOKUP(D28,UvaluesFlr!$U$17:$V$22,2,FALSE)","v":{"$error":"#N/A"}},{"$f":"VLOOKUP(G28,UvaluesFlr!$U$3:$W$14,2,FALSE)","v":{"$error":"#N/A"}},{"$f":"VLOOKUP(G28,UvaluesFlr!$U$3:$W$14,3,FALSE)","v":{"$error":"#N/A"}},null,{"$f":"VLOOKUP(C28,UvaluesFlr!$C$53:$P$59,$P28,TRUE)","v":{"$error":"#N/A"}},{"$f":"VLOOKUP(B28,UvaluesFlr!$C$53:$P$59,$P28,TRUE)","v":{"$error":"#N/A"}},{"$f":"VLOOKUP(B28+C28,UvaluesFlr!$C$4:$P$12,$P28,TRUE)","v":{"$error":"#N/A"}},{"$f":"VLOOKUP(B28,UvaluesFlr!$C$16:$P$21,$P28,TRUE)","v":{"$error":"#N/A"}},{"$f":"VLOOKUP($C28,UvaluesFlr!$D$26:$P$29,$P28-1,TRUE)","v":{"$error":"#N/A"}},{"$f":"VLOOKUP($C28,UvaluesFlr!$D$30:$P$31,$P28-1,TRUE)","v":{"$error":"#N/A"}},{"$f":"VLOOKUP($C28,UvaluesFlr!$D$32:$P$33,$P28-1,TRUE)","v":{"$error":"#N/A"}},{"$f":"VLOOKUP($C28,UvaluesFlr!$D$34:$P$35,$P28-1,TRUE)","v":{"$error":"#N/A"}},{"$f":"VLOOKUP($C28,UvaluesFlr!$D$39:$P$42,$P28-1,TRUE)","v":{"$error":"#N/A"}},{"$f":"VLOOKUP($C28,UvaluesFlr!$D$43:$P$45,$P28-1,TRUE)","v":{"$error":"#N/A"}},{"$f":"VLOOKUP($C28,UvaluesFlr!$D$46:$P$48,$P28-1,TRUE)","v":{"$error":"#N/A"}},{"$f":"VLOOKUP($C28,UvaluesFlr!$D$49:$P$50,$P28-1,TRUE)","v":{"$error":"#N/A"}}]
[null,{"$f":"HLOOKUP($B$1,'Room Inputs'!$D$3:$X$137,B74,0)","v":0},{"$f":"HLOOKUP($B$1,'Room Inputs'!$D$3:$X$137,C74,0)","v":0},{"$f":"HLOOKUP($B$1,'Room Inputs'!$D$3:$X$137,D74,0)","v":0},{"$f":"HLOOKUP($B$1,'Room Inputs'!$D$3:$X$137,E74,0)","v":{"$error":"#VALUE!"}},{"$f":"B29*C29","v":0},{"$f":"HLOOKUP($B$1,'Room Inputs'!$D$3:$X$137,G74,0)","v":0},{"$f":"HLOOKUP($B$1,'Room Inputs'!$D$3:$X$137,H74,0)","v":0},{"$f":"IF(OR(G29=UvaluesFlr!$U$3,G29=UvaluesFlr!$U$4,ISERROR(M29)),\"\",M29)","v":""},{"$f":"$K$8-IF(LEFT(G29,2)=\"So\",10,'Site Inputs'!$C$8)","v":21.8},{"$f":"IF(OR(G29=UvaluesFlr!$U$3,G29=UvaluesFlr!$U$4),IF(ISERROR(F29*J29*H29),\"\",F29*J29*H29),IF(ISERROR(F29*J29*I29),\"\",F29*J29*I29))","v":""},null,{"$f":"HLOOKUP(N29+MIN(0.6,IF(N29>4,O29/10,0)),$R$26:$AC$29,4,TRUE)","v":{"$error":"#N/A"}},{"$f":"VLOOKUP(D29,UvaluesFlr!$U$17:$V$22,2,FALSE)","v":{"$error":"#N/A"}},{"$f":"VLOOKUP(G29,UvaluesFlr!$U$3:$W$14,2,FALSE)","v":{"$error":"#N/A"}},{"$f":"VLOOKUP(G29,UvaluesFlr!$U$3:$W$14,3,FALSE)","v":{"$error":"#N/A"}},null,{"$f":"VLOOKUP(C29,UvaluesFlr!$C$53:$P$59,$P29,TRUE)","v":{"$error":"#N/A"}},{"$f":"VLOOKUP(B29,UvaluesFlr!$C$53:$P$59,$P29,TRUE)","v":{"$error":"#N/A"}},{"$f":"VLOOKUP(B29+C29,UvaluesFlr!$C$4:$P$12,$P29,TRUE)","v":{"$error":"#N/A"}},{"$f":"VLOOKUP(B29,UvaluesFlr!$C$16:$P$21,$P29,TRUE)","v":{"$error":"#N/A"}},{"$f":"VLOOKUP($C29,UvaluesFlr!$D$26:$P$29,$P29-1,TRUE)","v":{"$error":"#N/A"}},{"$f":"VLOOKUP($C29,UvaluesFlr!$D$30:$P$31,$P29-1,TRUE)","v":{"$error":"#N/A"}},{"$f":"VLOOKUP($C29,UvaluesFlr!$D$32:$P$33,$P29-1,TRUE)","v":{"$error":"#N/A"}},{"$f":"VLOOKUP($C29,UvaluesFlr!$D$34:$P$35,$P29-1,TRUE)","v":{"$error":"#N/A"}},{"$f":"VLOOKUP($C29,UvaluesFlr!$D$39:$P$42,$P29-1,TRUE)","v":{"$error":"#N/A"}},{"$f":"VLOOKUP($C29,UvaluesFlr!$D$43:$P$45,$P29-1,TRUE)","v":{"$error":"#N/A"}},{"$f":"VLOOKUP($C29,UvaluesFlr!$D$46:$P$48,$P29-1,TRUE)","v":{"$error":"#N/A"}},{"$f":"VLOOKUP($C29,UvaluesFlr!$D$49:$P$50,$P29-1,TRUE)","v":{"$error":"#N/A"}}]
[]
[]
[null,"Windows and doors"]
[null,"Wall or roof with window or door","Window or door height (m)","Window or door width (m)","Area (m²)","Wall/roof U-value (W/m²K)","Frame and glazing type ","Entered U-\u001evalue (W/m²K), if required","U-value","Design temperature difference","Heat loss (W)*"]
[null,{"$f":"HLOOKUP($B$1,'Room Inputs'!$D$3:$X$137,B79,0)","v":"External"},{"$f":"HLOOKUP($B$1,'Room Inputs'!$D$3:$X$137,C79,0)","v":0.9},{"$f":"HLOOKUP($B$1,'Room Inputs'!$D$3:$X$137,D79,0)","v":1.6},{"$f":"C34*D34","v":1.4400000000000002},{"$f":"IF(B34<>\"\",IF(VLOOKUP(B34,B$14:I$25,6,FALSE)=UvalueWD!$C$6,VLOOKUP(B34,B$14:I$25,7,FALSE),VLOOKUP(B34,B$14:I$25,8,FALSE)),\"\")","v":{"$error":"#N/A"}},{"$f":"HLOOKUP($B$1,'Room Inputs'!$D$3:$X$137,G79,0)","v":"Wood/PVC Double, low-E glass, argon filled "},{"$f":"HLOOKUP($B$1,'Room Inputs'!$D$3:$X$137,H79,0)","v":0},{"$f":"IF(OR(G34=UvalueWD!C$6,G34=\"\"),\"\",VLOOKUP(G34,Windows,2,FALSE))","v":2.1},{"$f":"IF(ISERROR(VLOOKUP(B34,B$13:K$29,9,FALSE)),\"\",VLOOKUP(B34,B$13:K$29,9,FALSE))","v":""},{"$f":"IF(G34=UvaluesWRF!A$2,IF(ISERROR(F34*J34*(H34-F34)),\"\",F34*J34*(H34-F34)),IF(ISERROR(F34*J34*(F34-I34)),\"\",(I34-F34)*J34*I34))","v":""}]
[null,{"$f":"HLOOKUP($B$1,'Room Inputs'!$D$3:$X$137,B80,0)","v":0},{"$f":"HLOOKUP($B$1,'Room Inputs'!$D$3:$X$137,C80,0)","v":0},{"$f":"HLOOKUP($B$1,'Room Inputs'!$D$3:$X$137,D80,0)","v":0},{"$f":"C35*D35","v":0},{"$f":"IF(B35<>\"\",IF(VLOOKUP(B35,B$14:I$25,6,FALSE)=UvalueWD!$C$6,VLOOKUP(B35,B$14:I$25,7,FALSE),VLOOKUP(B35,B$14:I$25,8,FALSE)),\"\")","v":""},{"$f":"HLOOKUP($B$1,'Room Inputs'!$D$3:$X$137,G80,0)","v":0},{"$f":"HLOOKUP($B$1,'Room Inputs'!$D$3:$X$137,H80,0)","v":0},{"$f":"IF(OR(G35=UvalueWD!C$6,G35=\"\"),\"\",VLOOKUP(G35,Windows,2,FALSE))","v":{"$error":"#N/A"}},"",{"$f":"IF(G35=UvaluesWRF!A$2,IF(ISERROR(F35*J35*(H35-F35)),\"\",F35*J35*(H35-F35)),IF(ISERROR(F35*J35*(F35-I35)),\"\",(I35-F35)*J35*I35))","v":""}]
[null,{"$f":"HLOOKUP($B$1,'Room Inputs'!$D$3:$X$137,B81,0)","v":0},{"$f":"HLOOKUP($B$1,'Room Inputs'!$D$3:$X$137,C81,0)","v":0},{"$f":"HLOOKUP($B$1,'Room Inputs'!$D$3:$X$137,D81,0)","v":0},0,{"$f":"IF(B36<>\"\",IF(VLOOKUP(B36,B$14:I$25,6,FALSE)=UvalueWD!$C$6,VLOOKUP(B36,B$14:I$25,7,FALSE),VLOOKUP(B36,B$14:I$25,8,FALSE)),\"\")","v":""},{"$f":"HLOOKUP($B$1,'Room Inputs'!$D$3:$X$137,G81,0)","v":0},{"$f":"HLOOKUP($B$1,'Room Inputs'!$D$3:$X$137,H81,0)","v":0},{"$f":"IF(OR(G36=UvalueWD!C$6,G36=\"\"),\"\",VLOOKUP(G36,Windows,2,FALSE))","v":{"$error":"#N/A"}},"",{"$f":"IF(G36=UvaluesWRF!A$2,IF(ISERROR(F36*J36*(H36-F36)),\"\",F36*J36*(H36-F36)),IF(ISERROR(F36*J36*(F36-I36)),\"\",(I36-F36)*J36*I36))","v":""}]
[null,{"$f":"HLOOKUP($B$1,'Room Inputs'!$D$3:$X$137,B82,0)","v":0},{"$f":"HLOOKUP($B$1,'Room Inputs'!$D$3:$X$137,C82,0)","v":0},{"$f":"HLOOKUP($B$1,'Room Inputs'!$D$3:$X$137,D82,0)","v":0},0,{"$f":"IF(B37<>\"\",IF(VLOOKUP(B37,B$14:I$25,6,FALSE)=UvalueWD!$C$6,VLOOKUP(B37,B$14:I$25,7,FALSE),VLOOKUP(B37,B$14:I$25,8,FALSE)),\"\")","v":""},{"$f":"HLOOKUP($B$1,'Room Inputs'!$D$3:$X$137,G82,0)","v":0},{"$f":"HLOOKUP($B$1,'Room Inputs'!$D$3:$X$137,H82,0)","v":0},{"$f":"IF(OR(G37=UvalueWD!C$6,G37=\"\"),\"\",VLOOKUP(G37,Windows,2,FALSE))","v":{"$error":"#N/A"}},"",{"$f":"IF(G37=UvaluesWRF!A$2,IF(ISERROR(F37*J37*(H37-F37)),\"\",F37*J37*(H37-F37)),IF(ISERROR(F37*J37*(F37-I37)),\"\",(I37-F37)*J37*I37))","v":""}]
[null,{"$f":"HLOOKUP($B$1,'Room Inputs'!$D$3:$X$137,B83,0)","v":0},{"$f":"HLOOKUP($B$1,'Room Inputs'!$D$3:$X$137,C83,0)","v":0},{"$f":"HLOOKUP($B$1,'Room Inputs'!$D$3:$X$137,D83,0)","v":0},0,{"$f":"IF(B38<>\"\",IF(VLOOKUP(B38,B$14:I$25,6,FALSE)=UvalueWD!$C$6,VLOOKUP(B38,B$14:I$25,7,FALSE),VLOOKUP(B38,B$14:I$25,8,FALSE)),\"\")","v":""},{"$f":"HLOOKUP($B$1,'Room Inputs'!$D$3:$X$137,G83,0)","v":0},{"$f":"HLOOKUP($B$1,'Room Inputs'!$D$3:$X$137,H83,0)","v":0},{"$f":"IF(OR(G38=UvalueWD!C$6,G38=\"\"),\"\",VLOOKUP(G38,Windows,2,FALSE))","v":{"$error":"#N/A"}},"",{"$f":"IF(G38=UvaluesWRF!A$2,IF(ISERROR(F38*J38*(H38-F38)),\"\",F38*J38*(H38-F38)),IF(ISERROR(F38*J38*(F38-I38)),\"\",(I38-F38)*J38*I38))","v":""}]
[null,{"$f":"HLOOKUP($B$1,'Room Inputs'!$D$3:$X$137,B84,0)","v":0},{"$f":"HLOOKUP($B$1,'Room Inputs'!$D$3:$X$137,C84,0)","v":0},{"$f":"HLOOKUP($B$1,'Room Inputs'!$D$3:$X$137,D84,0)","v":0},0,{"$f":"IF(B39<>\"\",IF(VLOOKUP(B39,B$14:I$25,6,FALSE)=UvalueWD!$C$6,VLOOKUP(B39,B$14:I$25,7,FALSE),VLOOKUP(B39,B$14:I$25,8,FALSE)),\"\")","v":""},{"$f":"HLOOKUP($B$1,'Room Inputs'!$D$3:$X$137,G84,0)","v":0},{"$f":"HLOOKUP($B$1,'Room Inputs'!$D$3:$X$137,H84,0)","v":0},{"$f":"IF(OR(G39=UvalueWD!C$6,G39=\"\"),\"\",VLOOKUP(G39,Windows,2,FALSE))","v":{"$error":"#N/A"}},"",{"$f":"IF(G39=UvaluesWRF!A$2,IF(ISERROR(F39*J39*(H39-F39)),\"\",F39*J39*(H39-F39)),IF(ISERROR(F39*J39*(F39-I39)),\"\",(I39-F39)*J39*I39))","v":""}]
[]
[null,"* this is net heat loss (i.e. the heat loss of the window minus that of a wall of the same area) and so can be negative.  This is done so that the area of the window or door does not have to be subtracted from the wall area.  "]
[null,null,null,null,null,null,null,null,"Room heat loss (W)",null,{"$f":"SUM(K10:K39)","v":997.92000000000007}]
[]
[]
[]
[null,"Row number lookup map"]
[]
[null,"Room name",2,null,"Emitter type",3,"For convectors consult the manufacturer's data and enter the temperature factor (FTEMP) for the appropriate fan speed",4,"For radiators enter the n-coefficient (exponent) from manufacturer's data.  If unknown 1.3 may be used",null,5]
[]
[null,"Enter floor type and construction",6,null,"Enter floor type and construction",7,"For UFH enter Tog value (See Table 14)",8,"For UFH enter  active or exposed area of the heated floor ",null,9]
[]
[null,"Enter Room type below",null,null," Enter Open fire/chimney details below "]
[null,10,null,null,11]
[null,"Room Dimensions"]
[null,"Length (m)",null,"Width (m)",null,"Height (m)"]
[null,13,null,14,null,15]
[null,"Walls, floors not ground floors and ceiling"]
[null,"Name of wall, floor, ceiling","Space on other side","Height or length (m)","Width (m)",null,"Construction","Entered U-\u001evalue (W/m²K), if required"]
[null,16,17,18,19,null,20,21]
[null,22,23,24,25,null,26,27]
[null,28,29,30,31,null,32,33]
[null,35,36,37,38,null,39,40]
[null,41,42,43,44,null,45,46]
[null,47,48,49,50,null,51,52]
[null,53,54,55,56,null,57,58]
[null,59,60,61,62,null,63,64]
[null,65,66,67,68,null,69,70]
[null,71,72,73,74,null,75,76]
[null,77,78,79,80,null,81,82]
[null,83,84,85,86,null,87,88]
[null,"Ground floors \nShort length (m)","long length\n(m)","Edges exposed",null,null,"Type and Insulation  thickness"]
[null,89,90,91,92,null,92,93]
[null,95,96,97,null,null,98,99]
[null,100,101,102,null,null,103,104]
[]
[]
[null,"Windows and doors"]
[null,"Wall or roof with window or door","Window or door height (m)","Window or door width (m)","Area (m²)","Wall/roof U-value (W/m²K)","Frame and glazing type ","Entered U-\u001evalue (W/m²K), if required"]
[null,105,106,107,null,null,108,109]
[null,111,112,113,null,null,114,115]
[null,116,117,118,null,null,119,120]
[null,121,122,123,null,null,124,125]
[null,126,127,128,null,null,129,130]
[null,131,132,133,null,null,134,135]

{"sheet":"2","index":7,"n_rows":84,"n_cols":29,"rows_kept":84,"cut":false,"hidden":true,"merged":[[52,1,52,2],[52,4,52,5],[52,7,52,8],[47,8,47,9],[49,2,49,3],[49,8,49,9],[51,1,51,2],[51,4,51,5],[51,7,51,8],[6,1,6,2],[6,4,6,5],[6,7,6,8],[40,1,40,7],[41,8,41,9],[7,7,7,8],[2,8,2,9],[4,8,4,9],[72,3,72,4],[73,3,73,4],[71,3,71,4]]}
[null,{"$f":"'Room Inputs'!E3","v":"Room2"}]
[]
[null,"Room name",{"$f":"HLOOKUP($B$1,'Room Inputs'!$D$3:$X$137,C48,0)","v":"Living room"},null,"Emitter type",{"$f":"HLOOKUP($B$1,'Room Inputs'!$D$3:$X$137,F48,0)","v":"Convector"},"For convectors consult the manufacturer's data and enter the temperature factor (FTEMP) for the appropriate fan speed",{"$f":"HLOOKUP($B$1,'Room Inputs'!$D$3:$X$137,H48,0)","v":0.85},"For radiators enter the n-coefficient (exponent) from manufacturer's data.  If unknown 1.3 may be used",null,{"$f":"HLOOKUP($B$1,'Room Inputs'!$D$3:$X$137,K48,0)","v":1.3}]
[]
[null,"Enter floor type and construction",{"$f":"HLOOKUP($B$1,'Room Inputs'!$D$3:$X$137,C50,0)","v":0},null,"Enter floor type and construction",{"$f":"HLOOKUP($B$1,'Room Inputs'!$D$3:$X$137,F50,0)","v":0},"For UFH enter Tog value (See Table 14)",{"$f":"HLOOKUP($B$1,'Room Inputs'!$D$3:$X$137,H50,0)","v":0.25},"For UFH enter  active or exposed area of the heated floor ",null,{"$f":"HLOOKUP($B$1,'Room Inputs'!$D$3:$X$137,K50,0)","v":12}]
[]
[null,"Enter Room type below",null,null," Enter Open fire/chimney details below ",null,null,"Design room ventilation rate (air changes per hour)",null,null,"Design room temperature °C"]
[null,{"$f":"HLOOKUP($B$1,'Room Inputs'!$D$3:$X$137,B53,0)","v":"Living room"},null,null,{"$f":"HLOOKUP($B$1,'Room Inputs'!$D$3:$X$137,E53,0)","v":"No chimney or open fire"},null,null,{"$f":"IF(E8=VTables!B20,VLOOKUP(B8,DRVT,3,FALSE),MAX(VLOOKUP(B8,DRVT,3,FALSE),VLOOKUP(E8,ARVR,2,FALSE)))","v":1.5},null,null,{"$f":"VLOOKUP(B8,DRVT,2,FALSE)","v":21}]
[null,"Room Dimensions"]
[null,"Length (m)",null,"Width (m)",null,"Height (m)","Room volume (m³) ",null,null,"Design temperature difference","Heat loss (W)"]
[null,{"$f":"HLOOKUP($B$1,'Room Inputs'!$D$3:$X$137,B56,0)","v":3},null,{"$f":"HLOOKUP($B$1,'Room Inputs'!$D$3:$X$137,D56,0)","v":4},null,{"$f":"HLOOKUP($B$1,'Room Inputs'!$D$3:$X$137,F56,0)","v":2.4},{"$f":"B11*D11*F11","v":28.799999999999997},null,null,{"$f":"K8-'Site Inputs'!C8","v":24.8},{"$f":"IF(G11>0,(ROUND(0.33*G11*H8*J11,2)),\"\")","v":353.55}]
[null,"Walls, floors not ground floors and ceiling"]
[null,"Name of wall, floor, ceiling","Space on other side","Height or length (m)","Width (m)","Area (m²)","Construction","Entered U-\u001evalue (W/m²K), if required","U-value (W/m²K)","Design temperature difference","Heat loss (W)",null,"`"]
[null,{"$f":"HLOOKUP($B$1,'Room Inputs'!$D$3:$X$137,B59,0)","v":"External wall"},{"$f":"HLOOKUP($B$1,'Room Inputs'!$D$3:$X$137,C59,0)","v":"Outside"},{"$f":"HLOOKUP($B$1,'Room Inputs'!$D$3:$X$137,D59,0)","v":2.4},{"$f":"HLOOKUP($B$1,'Room Inputs'!$D$3:$X$137,E59,0)","v":3},{"$f":"D14*E14","v":7.1999999999999993},{"$f":"HLOOKUP($B$1,'Room Inputs'!$D$3:$X$137,G59,0)","v":"Enter a U-value"},{"$f":"HLOOKUP($B$1,'Room Inputs'!$D$3:$X$137,H59,0)","v":0.3},{"$f":"IF(OR(G14=UvaluesWRF!A$2,ISERROR(VLOOKUP(G14,UvaluesWRF!A$3:B$110,2,FALSE))),\"\",VLOOKUP(G14,UvaluesWRF!A$3:B$110,2,FALSE))","v":""},{"$f":"IF(C14=\"\",\"\",$K$8-VLOOKUP(C14,DRVT,2,FALSE))","v":24.8},{"$f":"IF(G14=UvaluesWRF!A$2,IF(ISERROR(F14*J14*H14),\"\",F14*J14*H14),IF(ISERROR(F14*J14*I14),\"\",F14*J14*I14))","v":53.567999999999991}]
[null,{"$f":"HLOOKUP($B$1,'Room Inputs'!$D$3:$X$137,B60,0)","v":"External wall"},{"$f":"HLOOKUP($B$1,'Room Inputs'!$D$3:$X$137,C60,0)","v":"Outside"},{"$f":"HLOOKUP($B$1,'Room Inputs'!$D$3:$X$137,D60,0)","v":2.4},{"$f":"HLOOKUP($B$1,'Room Inputs'!$D$3:$X$137,E60,0)","v":4},{"$f":"D15*E15","v":9.6},{"$f":"HLOOKUP($B$1,'Room Inputs'!$D$3:$X$137,G60,0)","v":"Enter a U-value"},{"$f":"HLOOKUP($B$1,'Room Inputs'!$D$3:$X$137,H60,0)","v":0.3},{"$f":"IF(OR(G15=UvaluesWRF!A$2,ISERROR(VLOOKUP(G15,UvaluesWRF!A$3:B$110,2,FALSE))),\"\",VLOOKUP(G15,UvaluesWRF!A$3:B$110,2,FALSE))","v":""},24.8,{"$f":"IF(G15=UvaluesWRF!A$2,IF(ISERROR(F15*J15*H15),\"\",F15*J15*H15),IF(ISERROR(F15*J15*I15),\"\",F15*J15*I15))","v":71.423999999999992}]
[null,{"$f":"HLOOKUP($B$1,'Room Inputs'!$D$3:$X$137,B61,0)","v":"Internal wall"},{"$f":"HLOOKUP($B$1,'Room Inputs'!$D$3:$X$137,C61,0)","v":"Kitchen"},{"$f":"HLOOKUP($B$1,'Room Inputs'!$D$3:$X$137,D61,0)","v":2.4},{"$f":"HLOOKUP($B$1,'Room Inputs'!$D$3:$X$137,E61,0)","v":4},9.6,{"$f":"HLOOKUP($B$1,'Room Inputs'!$D$3:$X$137,G61,0)","v":"Plasterboard 12.5mm, studding 75mm, plasterboard 12.5mm"},{"$f":"HLOOKUP($B$1,'Room Inputs'!$D$3:$X$137,H61,0)","v":0},{"$f":"IF(OR(G16=UvaluesWRF!A$2,ISERROR(VLOOKUP(G16,UvaluesWRF!A$3:B$110,2,FALSE))),\"\",VLOOKUP(G16,UvaluesWRF!A$3:B$110,2,FALSE))","v":1.72},3,{"$f":"IF(G16=UvaluesWRF!A$2,IF(ISERROR(F16*J16*H16),\"\",F16*J16*H16),IF(ISERROR(F16*J16*I16),\"\",F16*J16*I16))","v":49.535999999999994}]
[null,{"$f":"HLOOKUP($B$1,'Room Inputs'!$D$3:$X$137,B62,0)","v":0},{"$f":"HLOOKUP($B$1,'Room Inputs'!$D$3:$X$137,C62,0)","v":0},{"$f":"HLOOKUP($B$1,'Room Inputs'!$D$3:$X$137,D62,0)","v":0},{"$f":"HLOOKUP($B$1,'Room Inputs'!$D$3:$X$137,E62,0)","v":0},0,{"$f":"HLOOKUP($B$1,'Room Inputs'!$D$3:$X$137,G62,0)","v":0},{"$f":"HLOOKUP($B$1,'Room Inputs'!$D$3:$X$137,H62,0)","v":0},{"$f":"IF(OR(G17=UvaluesWRF!A$2,ISERROR(VLOOKUP(G17,UvaluesWRF!A$3:B$110,2,FALSE))),\"\",VLOOKUP(G17,UvaluesWRF!A$3:B$110,2,FALSE))","v":""},{"$error":"#N/A"},{"$f":"IF(G17=UvaluesWRF!A$2,IF(ISERROR(F17*J17*H17),\"\",F17*J17*H17),IF(ISERROR(F17*J17*I17),\"\",F17*J17*I17))","v":""}]
[null,{"$f":"HLOOKUP($B$1,'Room Inputs'!$D$3:$X$137,B63,0)","v":0},{"$f":"HLOOKUP($B$1,'Room Inputs'!$D$3:$X$137,C63,0)","v":0},{"$f":"HLOOKUP($B$1,'Room Inputs'!$D$3:$X$137,D63,0)","v":0},{"$f":"HLOOKUP($B$1,'Room Inputs'!$D$3:$X$137,E63,0)","v":0},0,{"$f":"HLOOKUP($B$1,'Room Inputs'!$D$3:$X$137,G63,0)","v":0},{"$f":"HLOOKUP($B$1,'Room Inputs'!$D$3:$X$137,H63,0)","v":0},{"$f":"IF(OR(G18=UvaluesWRF!A$2,ISERROR(VLOOKUP(G18,UvaluesWRF!A$3:B$110,2,FALSE))),\"\",VLOOKUP(G18,UvaluesWRF!A$3:B$110,2,FALSE))","v":""},{"$error":"#N/A"},{"$f":"IF(G18=UvaluesWRF!A$2,IF(ISERROR(F18*J18*H18),\"\",F18*J18*H18),IF(ISERROR(F18*J18*I18),\"\",F18*J18*I18))","v":""}]
[null,{"$f":"HLOOKUP($B$1,'Room Inputs'!$D$3:$X$137,B64,0)","v":0},{"$f":"HLOOKUP($B$1,'Room Inputs'!$D$3:$X$137,C64,0)","v":0},{"$f":"HLOOKUP($B$1,'Room Inputs'!$D$3:$X$137,D64,0)","v":0},{"$f":"HLOOKUP($B$1,'Room Inputs'!$D$3:$X$137,E64,0)","v":0},0,{"$f":"HLOOKUP($B$1,'Room Inputs'!$D$3:$X$137,G64,0)","v":0},{"$f":"HLOOKUP($B$1,'Room Inputs'!$D$3:$X$137,H64,0)","v":0},{"$f":"IF(OR(G19=UvaluesWRF!A$2,ISERROR(VLOOKUP(G19,UvaluesWRF!A$3:B$110,2,FALSE))),\"\",VLOOKUP(G19,UvaluesWRF!A$3:B$110,2,FALSE))","v":""},{"$error":"#N/A"},{"$f":"IF(G19=UvaluesWRF!A$2,IF(ISERROR(F19*J19*H19),\"\",F19*J19*H19),IF(ISERROR(F19*J19*I19),\"\",F19*J19*I19))","v":""}]
[null,{"$f":"HLOOKUP($B$1,'Room Inputs'!$D$3:$X$137,B65,0)","v":0},{"$f":"HLOOKUP($B$1,'Room Inputs'!$D$3:$X$137,C65,0)","v":0},{"$f":"HLOOKUP($B$1,'Room Inputs'!$D$3:$X$137,D65,0)","v":0},{"$f":"HLOOKUP($B$1,'Room Inputs'!$D$3:$X$137,E65,0)","v":0},0,{"$f":"HLOOKUP($B$1,'Room Inputs'!$D$3:$X$137,G65,0)","v":0},{"$f":"HLOOKUP($B$1,'Room Inputs'!$D$3:$X$137,H65,0)","v":0},{"$f":"IF(OR(G20=UvaluesWRF!A$2,ISERROR(VLOOKUP(G20,UvaluesWRF!A$3:B$110,2,FALSE))),\"\",VLOOKUP(G20,UvaluesWRF!A$3:B$110,2,FALSE))","v":""},{"$error":"#N/A"},{"$f":"IF(G20=UvaluesWRF!A$2,IF(ISERROR(F20*J20*H20),\"\",F20*J20*H20),IF(ISERROR(F20*J20*I20),\"\",F20*J20*I20))","v":""}]
[null,{"$f":"HLOOKUP($B$1,'Room Inputs'!$D$3:$X$137,B66,0)","v":0},{"$f":"HLOOKUP($B$1,'Room Inputs'!$D$3:$X$137,C66,0)","v":0},{"$f":"HLOOKUP($B$1,'Room Inputs'!$D$3:$X$137,D66,0)","v":0},{"$f":"HLOOKUP($B$1,'Room Inputs'!$D$3:$X$137,E66,0)","v":0},0,{"$f":"HLOOKUP($B$1,'Room Inputs'!$D$3:$X$137,G66,0)","v":0},{"$f":"HLOOKUP($B$1,'Room Inputs'!$D$3:$X$137,H66,0)","v":0},{"$f":"IF(OR(G21=UvaluesWRF!A$2,ISERROR(VLOOKUP(G21,UvaluesWRF!A$3:B$110,2,FALSE))),\"\",VLOOKUP(G21,UvaluesWRF!A$3:B$110,2,FALSE))","v":""},{"$error":"#N/A"},{"$f":"IF(G21=UvaluesWRF!A$2,IF(ISERROR(F21*J21*H21),\"\",F21*J21*H21),IF(ISERROR(F21*J21*I21),\"\",F21*J21*I21))","v":""}]
[null,{"$f":"HLOOKUP($B$1,'Room Inputs'!$D$3:$X$137,B67,0)","v":0},{"$f":"HLOOKUP($B$1,'Room Inputs'!$D$3:$X$137,C67,0)","v":0},{"$f":"HLOOKUP($B$1,'Room Inputs'!$D$3:$X$137,D67,0)","v":0},{"$f":"HLOOKUP($B$1,'Room Inputs'!$D$3:$X$137,E67,0)","v":0},0,{"$f":"HLOOKUP($B$1,'Room Inputs'!$D$3:$X$137,G67,0)","v":0},{"$f":"HLOOKUP($B$1,'Room Inputs'!$D$3:$X$137,H67,0)","v":0},{"$f":"IF(OR(G22=UvaluesWRF!A$2,ISERROR(VLOOKUP(G22,UvaluesWRF!A$3:B$110,2,FALSE))),\"\",VLOOKUP(G22,UvaluesWRF!A$3:B$110,2,FALSE))","v":""},{"$error":"#N/A"},{"$f":"IF(G22=UvaluesWRF!A$2,IF(ISERROR(F22*J22*H22),\"\",F22*J22*H22),IF(ISERROR(F22*J22*I22),\"\",F22*J22*I22))","v":""}]
[null,{"$f":"HLOOKUP($B$1,'Room Inputs'!$D$3:$X$137,B68,0)","v":0},{"$f":"HLOOKUP($B$1,'Room Inputs'!$D$3:$X$137,C68,0)","v":0},{"$f":"HLOOKUP($B$1,'Room Inputs'!$D$3:$X$137,D68,0)","v":0},{"$f":"HLOOKUP($B$1,'Room Inputs'!$D$3:$X$137,E68,0)","v":0},0,{"$f":"HLOOKUP($B$1,'Room Inputs'!$D$3:$X$137,G68,0)","v":0},{"$f":"HLOOKUP($B$1,'Room Inputs'!$D$3:$X$137,H68,0)","v":0},{"$f":"IF(OR(G23=UvaluesWRF!A$2,ISERROR(VLOOKUP(G23,UvaluesWRF!A$3:B$110,2,FALSE))),\"\",VLOOKUP(G23,UvaluesWRF!A$3:B$110,2,FALSE))","v":""},{"$error":"#N/A"},{"$f":"IF(G23=UvaluesWRF!A$2,IF(ISERROR(F23*J23*H23),\"\",F23*J23*H23),IF(ISERROR(F23*J23*I23),\"\",F23*J23*I23))","v":""}]
[null,{"$f":"HLOOKUP($B$1,'Room Inputs'!$D$3:$X$137,B69,0)","v":0},{"$f":"HLOOKUP($B$1,'Room Inputs'!$D$3:$X$137,C69,0)","v":0},{"$f":"HLOOKUP($B$1,'Room Inputs'!$D$3:$X$137,D69,0)","v":0},{"$f":"HLOOKUP($B$1,'Room Inputs'!$D$3:$X$137,E69,0)","v":0},0,{"$f":"HLOOKUP($B$1,'Room Inputs'!$D$3:$X$137,G69,0)","v":0},{"$f":"HLOOKUP($B$1,'Room Inputs'!$D$3:$X$137,H69,0)","v":0},{"$f":"IF(OR(G24=UvaluesWRF!A$2,ISERROR(VLOOKUP(G24,UvaluesWRF!A$3:B$110,2,FALSE))),\"\",VLOOKUP(G24,UvaluesWRF!A$3:B$110,2,FALSE))","v":""},{"$error":"#N/A"},{"$f":"IF(G24=UvaluesWRF!A$2,IF(ISERROR(F24*J24*H24),\"\",F24*J24*H24),IF(ISERROR(F24*J24*I24),\"\",F24*J24*I24))","v":""}]
[null,{"$f":"HLOOKUP($B$1,'Room Inputs'!$D$3:$X$137,B70,0)","v":0},{"$f":"HLOOKUP($B$1,'Room Inputs'!$D$3:$X$137,C70,0)","v":0},{"$f":"HLOOKUP($B$1,'Room Inputs'!$D$3:$X$137,D70,0)","v":0},{"$f":"HLOOKUP($B$1,'Room Inputs'!$D$3:$X$137,E70,0)","v":0},0,{"$f":"HLOOKUP($B$1,'Room Inputs'!$D$3:$X$137,G70,0)","v":0},{"$f":"HLOOKUP($B$1,'Room Inputs'!$D$3:$X$137,H70,0)","v":0},{"$f":"IF(OR(G25=UvaluesWRF!A$2,ISERROR(VLOOKUP(G25,UvaluesWRF!A$3:B$110,2,FALSE))),\"\",VLOOKUP(G25,UvaluesWRF!A$3:B$110,2,FALSE))","v":""},{"$error":"#N/A"},{"$f":"IF(G25=UvaluesWRF!A$2,IF(ISERROR(F25*J25*H25),\"\",F25*J25*H25),IF(ISERROR(F25*J25*I25),\"\",F25*J25*I25))","v":""}]
[null,"Ground floors \nShort length (m)","long length\n(m)","Edges exposed",null,null,"Type and Insulation  thickness",null,null,null,null,null,"U-value","Edge","Insulation","Column",null,1,2,3,4,5.3,5.4,5.5,5.6,6.3,6.4,6.5,6.6]
[null,{"$f":"HLOOKUP($B$1,'Room Inputs'!$D$3:$X$137,B72,0)","v":3},{"$f":"HLOOKUP($B$1,'Room Inputs'!$D$3:$X$137,C72,0)","v":4},{"$f":"HLOOKUP($B$1,'Room Inputs'!$D$3:$X$137,D72,0)","v":"Two adjacent edges"},{"$f":"HLOOKUP($B$1,'Room Inputs'!$D$3:$X$137,E72,0)","v":"Solid floor - Enter a U-value"},{"$f":"B27*C27","v":12},{"$f":"HLOOKUP($B$1,'Room Inputs'!$D$3:$X$137,G72,0)","v":"Solid floor - Enter a U-value"},{"$f":"HLOOKUP($B$1,'Room Inputs'!$D$3:$X$137,H72,0)","v":0.15},{"$f":"IF(OR(G27=UvaluesFlr!$U$3,G27=UvaluesFlr!$U$4,ISERROR(M27)),\"\",M27)","v":""},{"$f":"$K$8-IF(LEFT(G27,2)=\"So\",10,'Site Inputs'!$C$8)","v":11},{"$f":"IF(OR(G27=UvaluesFlr!$U$3,G27=UvaluesFlr!$U$4),IF(ISERROR(F27*J27*H27),\"\",F27*J27*H27),IF(ISERROR(F27*J27*I27),\"\",F27*J27*I27))","v":19.8},null,{"$f":"HLOOKUP(N27+MIN(0.6,IF(N27>4,O27/10,0)),$R$26:$AC$29,2,TRUE)","v":{"$error":"#VALUE!"}},{"$f":"VLOOKUP(D27,UvaluesFlr!$U$17:$V$22,2,FALSE)","v":3},{"$f":"VLOOKUP(G27,UvaluesFlr!$U$3:$W$14,2,FALSE)","v":0},{"$f":"VLOOKUP(G27,UvaluesFlr!$U$3:$W$14,3,FALSE)","v":0},null,{"$f":"VLOOKUP(C27,UvaluesFlr!$C$53:$P$59,$P27,TRUE)","v":{"$error":"#VALUE!"}},{"$f":"VLOOKUP(B27,UvaluesFlr!$C$53:$P$59,$P27,TRUE)","v":{"$error":"#VALUE!"}},{"$f":"VLOOKUP(B27+C27,UvaluesFlr!$C$4:$P$12,$P27,TRUE)","v":{"$error":"#VALUE!"}},{"$f":"VLOOKUP(B27,UvaluesFlr!$C$16:$P$21,$P27,TRUE)","v":{"$error":"#VALUE!"}},{"$f":"VLOOKUP($C27,UvaluesFlr!$D$26:$P$29,$P27-1,TRUE)","v":{"$error":"#VALUE!"}},{"$f":"VLOOKUP($C27,UvaluesFlr!$D$30:$P$31,$P27-1,TRUE)","v":{"$error":"#VALUE!"}},{"$f":"VLOOKUP($C27,UvaluesFlr!$D$32:$P$33,$P27-1,TRUE)","v":{"$error":"#N/A"}},{"$f":"VLOOKUP($C27,UvaluesFlr!$D$34:$P$35,$P27-1,TRUE)","v":{"$error":"#N/A"}},{"$f":"VLOOKUP($C27,UvaluesFlr!$D$39:$P$42,$P27-1,TRUE)","v":{"$error":"#VALUE!"}},{"$f":"VLOOKUP($C27,UvaluesFlr!$D$43:$P$45,$P27-1,TRUE)","v":{"$error":"#VALUE!"}},{"$f":"VLOOKUP($C27,UvaluesFlr!$D$46:$P$48,$P27-1,TRUE)","v":{"$error":"#N/A"}},{"$f":"VLOOKUP($C27,UvaluesFlr!$D$49:$P$50,$P27-1,TRUE)","v":{"$error":"#N/A"}}]
[null,{"$f":"HLOOKUP($B$1,'Room Inputs'!$D$3:$X$137,B73,0)","v":0},{"$f":"HLOOKUP($B$1,'Room Inputs'!$D$3:$X$137,C73,0)","v":0},{"$f":"HLOOKUP($B$1,'Room Inputs'!$D$3:$X$137,D73,0)","v":0},{"$f":"HLOOKUP($B$1,'Room Inputs'!$D$3:$X$137,E73,0)","v":{"$error":"#VALUE!"}},{"$f":"B28*C28","v":0},{"$f":"HLOOKUP($B$1,'Room Inputs'!$D$3:$X$137,G73,0)","v":0},{"$f":"HLOOKUP($B$1,'Room Inputs'!$D$3:$X$137,H73,0)","v":0},{"$f":"IF(OR(G28=UvaluesFlr!$U$3,G28=UvaluesFlr!$U$4,ISERROR(M28)),\"\",M28)","v":""},{"$f":"$K$8-IF(LEFT(G28,2)=\"So\",10,'Site Inputs'!$C$8)","v":24.8},{"$f":"IF(OR(G28=UvaluesFlr!$U$3,G28=UvaluesFlr!$U$4),IF(ISERROR(F28*J28*H28),\"\",F28*J28*H28),IF(ISERROR(F28*J28*I28),\"\",F28*J28*I28))","v":""},null,{"$f":"HLOOKUP(N28+MIN(0.6,IF(N28>4,O28/10,0)),$R$26:$AC$29,3,TRUE)","v":{"$error":"#N/A"}},{"$f":"VLOOKUP(D28,UvaluesFlr!$U$17:$V$22,2,FALSE)","v":{"$error":"#N/A"}},{"$f":"VLOOKUP(G28,UvaluesFlr!$U$3:$W$14,2,FALSE)","v":{"$error":"#N/A"}},{"$f":"VLOOKUP(G28,UvaluesFlr!$U$3:$W$14,3,FALSE)","v":{"$error":"#N/A"}},null,{"$f":"VLOOKUP(C28,UvaluesFlr!$C$53:$P$59,$P28,TRUE)","v":{"$error":"#N/A"}},{"$f":"VLOOKUP(B28,UvaluesFlr!$C$53:$P$59,$P28,TRUE)","v":{"$error":"#N/A"}},{"$f":"VLOOKUP(B28+C28,UvaluesFlr!$C$4:$P$12,$P28,TRUE)","v":{"$error":"#N/A"}},{"$f":"VLOOKUP(B28,UvaluesFlr!$C$16:$P$21,$P28,TRUE)","v":{"$error":"#N/A"}},{"$f":"VLOOKUP($C28,UvaluesFlr!$D$26:$P$29,$P28-1,TRUE)","v":{"$error":"#N/A"}},{"$f":"VLOOKUP($C28,UvaluesFlr!$D$30:$P$31,$P28-1,TRUE)","v":{"$error":"#N/A"}},{"$f":"VLOOKUP($C28,UvaluesFlr!$D$32:$P$33,$P28-1,TRUE)","v":{"$error":"#N/A"}},{"$f":"VLOOKUP($C28,UvaluesFlr!$D$34:$P$35,$P28-1,TRUE)","v":{"$error":"#N/A"}},{"$f":"VLOOKUP($C28,UvaluesFlr!$D$39:$P$42,$P28-1,TRUE)","v":{"$error":"#N/A"}},{"$f":"VLOOKUP($C28,UvaluesFlr!$D$43:$P$45,$P28-1,TRUE)","v":{"$error":"#N/A"}},{"$f":"VLOOKUP($C28,UvaluesFlr!$D$46:$P$48,$P28-1,TRUE)","v":{"$error":"#N/A"}},{"$f":"VLOOKUP($C28,UvaluesFlr!$D$49:$P$50,$P28-1,TRUE)","v":{"$error":"#N/A"}}]
[null,{"$f":"HLOOKUP($B$1,'Room Inputs'!$D$3:$X$137,B74,0)","v":0},{"$f":"HLOOKUP($B$1,'Room Inputs'!$D$3:$X$137,C74,0)","v":0},{"$f":"HLOOKUP($B$1,'Room Inputs'!$D$3:$X$137,D74,0)","v":0},{"$f":"HLOOKUP($B$1,'Room Inputs'!$D$3:$X$137,E74,0)","v":{"$error":"#VALUE!"}},{"$f":"B29*C29","v":0},{"$f":"HLOOKUP($B$1,'Room Inputs'!$D$3:$X$137,G74,0)","v":0},{"$f":"HLOOKUP($B$1,'Room Inputs'!$D$3:$X$137,H74,0)","v":0},{"$f":"IF(OR(G29=UvaluesFlr!$U$3,G29=UvaluesFlr!$U$4,ISERROR(M29)),\"\",M29)","v":""},{"$f":"$K$8-IF(LEFT(G29,2)=\"So\",10,'Site Inputs'!$C$8)","v":24.8},{"$f":"IF(OR(G29=UvaluesFlr!$U$3,G29=UvaluesFlr!$U$4),IF(ISERROR(F29*J29*H29),\"\",F29*J29*H29),IF(ISERROR(F29*J29*I29),\"\",F29*J29*I29))","v":""},null,{"$f":"HLOOKUP(N29+MIN(0.6,IF(N29>4,O29/10,0)),$R$26:$AC$29,4,TRUE)","v":{"$error":"#N/A"}},{"$f":"VLOOKUP(D29,UvaluesFlr!$U$17:$V$22,2,FALSE)","v":{"$error":"#N/A"}},{"$f":"VLOOKUP(G29,UvaluesFlr!$U$3:$W$14,2,FALSE)","v":{"$error":"#N/A"}},{"$f":"VLOOKUP(G29,UvaluesFlr!$U$3:$W$14,3,FALSE)","v":{"$error":"#N/A"}},null,{"$f":"VLOOKUP(C29,UvaluesFlr!$C$53:$P$59,$P29,TRUE)","v":{"$error":"#N/A"}},{"$f":"VLOOKUP(B29,UvaluesFlr!$C$53:$P$59,$P29,TRUE)","v":{"$error":"#N/A"}},{"$f":"VLOOKUP(B29+C29,UvaluesFlr!$C$4:$P$12,$P29,TRUE)","v":{"$error":"#N/A"}},{"$f":"VLOOKUP(B29,UvaluesFlr!$C$16:$P$21,$P29,TRUE)","v":{"$error":"#N/A"}},{"$f":"VLOOKUP($C29,UvaluesFlr!$D$26:$P$29,$P29-1,TRUE)","v":{"$error":"#N/A"}},{"$f":"VLOOKUP($C29,UvaluesFlr!$D$30:$P$31,$P29-1,TRUE)","v":{"$error":"#N/A"}},{"$f":"VLOOKUP($C29,UvaluesFlr!$D$32:$P$33,$P29-1,TRUE)","v":{"$error":"#N/A"}},{"$f":"VLOOKUP($C29,UvaluesFlr!$D$34:$P$35,$P29-1,TRUE)","v":{"$error":"#N/A"}},{"$f":"VLOOKUP($C29,UvaluesFlr!$D$39:$P$42,$P29-1,TRUE)","v":{"$error":"#N/A"}},{"$f":"VLOOKUP($C29,UvaluesFlr!$D$43:$P$45,$P29-1,TRUE)","v":{"$error":"#N/A"}},{"$f":"VLOOKUP($C29,UvaluesFlr!$D$46:$P$48,$P29-1,TRUE)","v":{"$error":"#N/A"}},{"$f":"VLOOKUP($C29,UvaluesFlr!$D$49:$P$50,$P29-1,TRUE)","v":{"$error":"#N/A"}}]
[]
[]
[null,"Windows and doors"]
[null,"Wall or roof with window or door","Window or door height (m)","Window or door width (m)","Area (m²)","Wall/roof U-value (W/m²K)","Frame and glazing type ","Entered U-\u001evalue (W/m²K), if required","U-value","Design temperature difference","Heat loss (W)*"]
[null,{"$f":"HLOOKUP($B$1,'Room Inputs'!$D$3:$X$137,B79,0)","v":"External"},{"$f":"HLOOKUP($B$1,'Room Inputs'!$D$3:$X$137,C79,0)","v":0.9},{"$f":"HLOOKUP($B$1,'Room Inputs'!$D$3:$X$137,D79,0)","v":1.2},{"$f":"C34*D34","v":1.08},{"$f":"IF(B34<>\"\",IF(VLOOKUP(B34,B$14:I$25,6,FALSE)=UvalueWD!$C$6,VLOOKUP(B34,B$14:I$25,7,FALSE),VLOOKUP(B34,B$14:I$25,8,FALSE)),\"\")","v":{"$error":"#N/A"}},{"$f":"HLOOKUP($B$1,'Room Inputs'!$D$3:$X$137,G79,0)","v":"Wood/PVC Double, low-E glass, argon filled "},{"$f":"HLOOKUP($B$1,'Room Inputs'!$D$3:$X$137,H79,0)","v":0},{"$f":"IF(OR(G34=UvalueWD!C$6,G34=\"\"),\"\",VLOOKUP(G34,Windows,2,FALSE))","v":2.1},{"$f":"IF(ISERROR(VLOOKUP(B34,B$13:K$29,9,FALSE)),\"\",VLOOKUP(B34,B$13:K$29,9,FALSE))","v":""},{"$f":"IF(G34=UvaluesWRF!A$2,IF(ISERROR(F34*J34*(H34-F34)),\"\",F34*J34*(H34-F34)),IF(ISERROR(F34*J34*(F34-I34)),\"\",(I34-F34)*J34*I34))","v":""}]
[null,{"$f":"HLOOKUP($B$1,'Room Inputs'!$D$3:$X$137,B80,0)","v":0},{"$f":"HLOOKUP($B$1,'Room Inputs'!$D$3:$X$137,C80,0)","v":0},{"$f":"HLOOKUP($B$1,'Room Inputs'!$D$3:$X$137,D80,0)","v":0},0,{"$f":"IF(B35<>\"\",IF(VLOOKUP(B35,B$14:I$25,6,FALSE)=UvalueWD!$C$6,VLOOKUP(B35,B$14:I$25,7,FALSE),VLOOKUP(B35,B$14:I$25,8,FALSE)),\"\")","v":""},{"$f":"HLOOKUP($B$1,'Room Inputs'!$D$3:$X$137,G80,0)","v":0},{"$f":"HLOOKUP($B$1,'Room Inputs'!$D$3:$X$137,H80,0)","v":0},{"$f":"IF(OR(G35=UvalueWD!C$6,G35=\"\"),\"\",VLOOKUP(G35,Windows,2,FALSE))","v":{"$error":"#N/A"}},"",{"$f":"IF(G35=UvaluesWRF!A$2,IF(ISERROR(F35*J35*(H35-F35)),\"\",F35*J35*(H35-F35)),IF(ISERROR(F35*J35*(F35-I35)),\"\",(I35-F35)*J35*I35))","v":""}]
[null,{"$f":"HLOOKUP($B$1,'Room Inputs'!$D$3:$X$137,B81,0)","v":0},{"$f":"HLOOKUP($B$1,'Room Inputs'!$D$3:$X$137,C81,0)","v":0},{"$f":"HLOOKUP($B$1,'Room Inputs'!$D$3:$X$137,D81,0)","v":0},0,{"$f":"IF(B36<>\"\",IF(VLOOKUP(B36,B$14:I$25,6,FALSE)=UvalueWD!$C$6,VLOOKUP(B36,B$14:I$25,7,FALSE),VLOOKUP(B36,B$14:I$25,8,FALSE)),\"\")","v":""},{"$f":"HLOOKUP($B$1,'Room Inputs'!$D$3:$X$137,G81,0)","v":0},{"$f":"HLOOKUP($B$1,'Room Inputs'!$D$3:$X$137,H81,0)","v":0},{"$f":"IF(OR(G36=UvalueWD!C$6,G36=\"\"),\"\",VLOOKUP(G36,Windows,2,FALSE))","v":{"$error":"#N/A"}},"",{"$f":"IF(G36=UvaluesWRF!A$2,IF(ISERROR(F36*J36*(H36-F36)),\"\",F36*J36*(H36-F36)),IF(ISERROR(F36*J36*(F36-I36)),\"\",(I36-F36)*J36*I36))","v":""}]
[null,{"$f":"HLOOKUP($B$1,'Room Inputs'!$D$3:$X$137,B82,0)","v":0},{"$f":"HLOOKUP($B$1,'Room Inputs'!$D$3:$X$137,C82,0)","v":0},{"$f":"HLOOKUP($B$1,'Room Inputs'!$D$3:$X$137,D82,0)","v":0},0,{"$f":"IF(B37<>\"\",IF(VLOOKUP(B37,B$14:I$25,6,FALSE)=UvalueWD!$C$6,VLOOKUP(B37,B$14:I$25,7,FALSE),VLOOKUP(B37,B$14:I$25,8,FALSE)),\"\")","v":""},{"$f":"HLOOKUP($B$1,'Room Inputs'!$D$3:$X$137,G82,0)","v":0},{"$f":"HLOOKUP($B$1,'Room Inputs'!$D$3:$X$137,H82,0)","v":0},{"$f":"IF(OR(G37=UvalueWD!C$6,G37=\"\"),\"\",VLOOKUP(G37,Windows,2,FALSE))","v":{"$error":"#N/A"}},"",{"$f":"IF(G37=UvaluesWRF!A$2,IF(ISERROR(F37*J37*(H37-F37)),\"\",F37*J37*(H37-F37)),IF(ISERROR(F37*J37*(F37-I37)),\"\",(I37-F37)*J37*I37))","v":""}]
[null,{"$f":"HLOOKUP($B$1,'Room Inputs'!$D$3:$X$137,B83,0)","v":0},{"$f":"HLOOKUP($B$1,'Room Inputs'!$D$3:$X$137,C83,0)","v":0},{"$f":"HLOOKUP($B$1,'Room Inputs'!$D$3:$X$137,D83,0)","v":0},0,{"$f":"IF(B38<>\"\",IF(VLOOKUP(B38,B$14:I$25,6,FALSE)=UvalueWD!$C$6,VLOOKUP(B38,B$14:I$25,7,FALSE),VLOOKUP(B38,B$14:I$25,8,FALSE)),\"\")","v":""},{"$f":"HLOOKUP($B$1,'Room Inputs'!$D$3:$X$137,G83,0)","v":0},{"$f":"HLOOKUP($B$1,'Room Inputs'!$D$3:$X$137,H83,0)","v":0},{"$f":"IF(OR(G38=UvalueWD!C$6,G38=\"\"),\"\",VLOOKUP(G38,Windows,2,FALSE))","v":{"$error":"#N/A"}},"",{"$f":"IF(G38=UvaluesWRF!A$2,IF(ISERROR(F38*J38*(H38-F38)),\"\",F38*J38*(H38-F38)),IF(ISERROR(F38*J38*(F38-I38)),\"\",(I38-F38)*J38*I38))","v":""}]
[null,{"$f":"HLOOKUP($B$1,'Room Inputs'!$D$3:$X$137,B84,0)","v":0},{"$f":"HLOOKUP($B$1,'Room Inputs'!$D$3:$X$137,C84,0)","v":0},{"$f":"HLOOKUP($B$1,'Room Inputs'!$D$3:$X$137,D84,0)","v":0},0,{"$f":"IF(B39<>\"\",IF(VLOOKUP(B39,B$14:I$25,6,FALSE)=UvalueWD!$C$6,VLOOKUP(B39,B$14:I$25,7,FALSE),VLOOKUP(B39,B$14:I$25,8,FALSE)),\"\")","v":""},{"$f":"HLOOKUP($B$1,'Room Inputs'!$D$3:$X$137,G84,0)","v":0},{"$f":"HLOOKUP($B$1,'Room Inputs'!$D$3:$X$137,H84,0)","v":0},{"$f":"IF(OR(G39=UvalueWD!C$6,G39=\"\"),\"\",VLOOKUP(G39,Windows,2,FALSE))","v":{"$error":"#N/A"}},"",{"$f":"IF(G39=UvaluesWRF!A$2,IF(ISERROR(F39*J39*(H39-F39)),\"\",F39*J39*(H39-F39)),IF(ISERROR(F39*J39*(F39-I39)),\"\",(I39-F39)*J39*I39))","v":""}]
[]
[null,"* this is net heat loss (i.e. the heat loss of the window minus that of a wall of the same area) and so can be negative.  This is done so that the area of the window or door does not have to be subtracted from the wall area.  "]
[null,null,null,null,null,null,null,null,"Room heat loss (W)",null,{"$f":"SUM(K10:K39)","v":547.87799999999993}]
[]
[]
[]
[null,"Row number lookup map"]
[]
[null,"Room name",2,null,"Emitter type",3,"For convectors consult the manufacturer's data and enter the temperature factor (FTEMP) for the appropriate fan speed",4,"For radiators enter the n-coefficient (exponent) from manufacturer's data.  If unknown 1.3 may be used",null,5]
[]
[null,"Enter floor type and construction",6,null,"Enter floor type and construction",7,"For UFH enter Tog value (See Table 14)",8,"For UFH enter  active or exposed area of the heated floor ",null,9]
[]
[null,"Enter Room type below",null,null," Enter Open fire/chimney details below "]
[null,10,null,null,11]
[null,"Room Dimensions"]
[null,"Length (m)",null,"Width (m)",null,"Height (m)"]
[null,13,null,14,null,15]
[null,"Walls, floors not ground floors and ceiling"]
[null,"Name of wall, floor, ceiling","Space on other side","Height or length (m)","Width (m)",null,"Construction","Entered U-\u001evalue (W/m²K), if required"]
[null,16,17,18,19,null,20,21]
[null,22,23,24,25,null,26,27]
[null,28,29,30,31,null,32,33]
[null,35,36,37,38,null,39,40]
[null,41,42,43,44,null,45,46]
[null,47,48,49,50,null,51,52]
[null,53,54,55,56,null,57,58]
[null,59,60,61,62,null,63,64]
[null,65,66,67,68,null,69,70]
[null,71,72,73,74,null,75,76]
[null,77,78,79,80,null,81,82]
[null,83,84,85,86,null,87,88]
[null,"Ground floors \nShort length (m)","long length\n(m)","Edges exposed",null,null,"Type and Insulation  thickness"]
[null,89,90,91,92,null,92,93]
[null,95,96,97,null,null,98,99]
[null,100,101,102,null,null,103,104]
[]
[]
[null,"Windows and doors"]
[null,"Wall or roof with window or door","Window or door height (m)","Window or door width (m)","Area (m²)","Wall/roof U-value (W/m²K)","Frame and glazing type ","Entered U-\u001evalue (W/m²K), if required"]
[null,105,106,107,null,null,108,109]
[null,111,112,113,null,null,114,115]
[null,116,117,118,null,null,119,120]
[null,121,122,123,null,null,124,125]
[null,126,127,128,null,null,129,130]
[null,131,132,133,null,null,134,135]

{"sheet":"3","index":8,"n_rows":84,"n_cols":29,"rows_kept":84,"cut":false,"hidden":true,"merged":[[2,8,2,9],[4,8,4,9],[6,1,6,2],[6,4,6,5],[6,7,6,8],[73,3,73,4],[71,3,71,4],[7,7,7,8],[47,8,47,9],[49,2,49,3],[49,8,49,9],[51,1,51,2],[51,4,51,5],[51,7,51,8],[52,1,52,2],[40,1,40,7],[41,8,41,9],[52,4,52,5],[52,7,52,8],[72,3,72,4]]}
[null,{"$f":"'Room Inputs'!F3","v":"Room3"}]
[]
[null,"Room name",{"$f":"HLOOKUP($B$1,'Room Inputs'!$D$3:$X$137,C48,0)","v":"Bedroom 1"},null,"Emitter type",{"$f":"HLOOKUP($B$1,'Room Inputs'!$D$3:$X$137,F48,0)","v":"Radiator"},"For convectors consult the manufacturer's data and enter the temperature factor (FTEMP) for the appropriate fan speed",{"$f":"HLOOKUP($B$1,'Room Inputs'!$D$3:$X$137,H48,0)","v":0.85},"For radiators enter the n-coefficient (exponent) from manufacturer's data.  If unknown 1.3 may be used",null,{"$f":"HLOOKUP($B$1,'Room Inputs'!$D$3:$X$137,K48,0)","v":1.3}]
[]
[null,"Enter floor type and construction",{"$f":"HLOOKUP($B$1,'Room Inputs'!$D$3:$X$137,C50,0)","v":0},null,"Enter floor type and construction",{"$f":"HLOOKUP($B$1,'Room Inputs'!$D$3:$X$137,F50,0)","v":0},"For UFH enter Tog value (See Table 14)",{"$f":"HLOOKUP($B$1,'Room Inputs'!$D$3:$X$137,H50,0)","v":0.25},"For UFH enter  active or exposed area of the heated floor ",null,{"$f":"HLOOKUP($B$1,'Room Inputs'!$D$3:$X$137,K50,0)","v":0}]
[]
[null,"Enter Room type below",null,null," Enter Open fire/chimney details below ",null,null,"Design room ventilation rate (air changes per hour)",null,null,"Design room temperature °C"]
[null,{"$f":"HLOOKUP($B$1,'Room Inputs'!$D$3:$X$137,B53,0)","v":"Bedroom"},null,null,{"$f":"HLOOKUP($B$1,'Room Inputs'!$D$3:$X$137,E53,0)","v":"No chimney or open fire"},null,null,{"$f":"IF(E8=VTables!B20,VLOOKUP(B8,DRVT,3,FALSE),MAX(VLOOKUP(B8,DRVT,3,FALSE),VLOOKUP(E8,ARVR,2,FALSE)))","v":1},null,null,{"$f":"VLOOKUP(B8,DRVT,2,FALSE)","v":18}]
[null,"Room Dimensions"]
[null,"Length (m)",null,"Width (m)",null,"Height (m)","Room volume (m³) ",null,null,"Design temperature difference","Heat loss (W)"]
[null,{"$f":"HLOOKUP($B$1,'Room Inputs'!$D$3:$X$137,B56,0)","v":3},null,{"$f":"HLOOKUP($B$1,'Room Inputs'!$D$3:$X$137,D56,0)","v":3},null,{"$f":"HLOOKUP($B$1,'Room Inputs'!$D$3:$X$137,F56,0)","v":2.4},{"$f":"B11*D11*F11","v":21.599999999999998},null,null,{"$f":"K8-'Site Inputs'!C8","v":21.8},{"$f":"IF(G11>0,(ROUND(0.33*G11*H8*J11,2)),\"\")","v":155.38999999999999}]
[null,"Walls, floors not ground floors and ceiling"]
[null,"Name of wall, floor, ceiling","Space on other side","Height or length (m)","Width (m)","Area (m²)","Construction","Entered U-\u001evalue (W/m²K), if required","U-value (W/m²K)","Design temperature difference","Heat loss (W)",null,"`"]
[null,{"$f":"HLOOKUP($B$1,'Room Inputs'!$D$3:$X$137,B59,0)","v":"External wall"},{"$f":"HLOOKUP($B$1,'Room Inputs'!$D$3:$X$137,C59,0)","v":"Outside"},{"$f":"HLOOKUP($B$1,'Room Inputs'!$D$3:$X$137,D59,0)","v":2},{"$f":"HLOOKUP($B$1,'Room Inputs'!$D$3:$X$137,E59,0)","v":3},{"$f":"D14*E14","v":6},{"$f":"HLOOKUP($B$1,'Room Inputs'!$D$3:$X$137,G59,0)","v":"Enter a U-value"},{"$f":"HLOOKUP($B$1,'Room Inputs'!$D$3:$X$137,H59,0)","v":0.3},{"$f":"IF(OR(G14=UvaluesWRF!A$2,ISERROR(VLOOKUP(G14,UvaluesWRF!A$3:B$110,2,FALSE))),\"\",VLOOKUP(G14,UvaluesWRF!A$3:B$110,2,FALSE))","v":""},{"$f":"IF(C14=\"\",\"\",$K$8-VLOOKUP(C14,DRVT,2,FALSE))","v":21.8},{"$f":"IF(G14=UvaluesWRF!A$2,IF(ISERROR(F14*J14*H14),\"\",F14*J14*H14),IF(ISERROR(F14*J14*I14),\"\",F14*J14*I14))","v":39.24}]
[null,{"$f":"HLOOKUP($B$1,'Room Inputs'!$D$3:$X$137,B60,0)","v":"Ceiling"},{"$f":"HLOOKUP($B$1,'Room Inputs'!$D$3:$X$137,C60,0)","v":"Outside"},{"$f":"HLOOKUP($B$1,'Room Inputs'!$D$3:$X$137,D60,0)","v":3},{"$f":"HLOOKUP($B$1,'Room Inputs'!$D$3:$X$137,E60,0)","v":3},{"$f":"D15*E15","v":9},{"$f":"HLOOKUP($B$1,'Room Inputs'!$D$3:$X$137,G60,0)","v":"Enter a U-value"},{"$f":"HLOOKUP($B$1,'Room Inputs'!$D$3:$X$137,H60,0)","v":0.2},{"$f":"IF(OR(G15=UvaluesWRF!A$2,ISERROR(VLOOKUP(G15,UvaluesWRF!A$3:B$110,2,FALSE))),\"\",VLOOKUP(G15,UvaluesWRF!A$3:B$110,2,FALSE))","v":""},21.8,{"$f":"IF(G15=UvaluesWRF!A$2,IF(ISERROR(F15*J15*H15),\"\",F15*J15*H15),IF(ISERROR(F15*J15*I15),\"\",F15*J15*I15))","v":39.240000000000009}]
[null,{"$f":"HLOOKUP($B$1,'Room Inputs'!$D$3:$X$137,B61,0)","v":0},{"$f":"HLOOKUP($B$1,'Room Inputs'!$D$3:$X$137,C61,0)","v":0},{"$f":"HLOOKUP($B$1,'Room Inputs'!$D$3:$X$137,D61,0)","v":0},{"$f":"HLOOKUP($B$1,'Room Inputs'!$D$3:$X$137,E61,0)","v":0},0,{"$f":"HLOOKUP($B$1,'Room Inputs'!$D$3:$X$137,G61,0)","v":0},{"$f":"HLOOKUP($B$1,'Room Inputs'!$D$3:$X$137,H61,0)","v":0},{"$f":"IF(OR(G16=UvaluesWRF!A$2,ISERROR(VLOOKUP(G16,UvaluesWRF!A$3:B$110,2,FALSE))),\"\",VLOOKUP(G16,UvaluesWRF!A$3:B$110,2,FALSE))","v":""},{"$error":"#N/A"},{"$f":"IF(G16=UvaluesWRF!A$2,IF(ISERROR(F16*J16*H16),\"\",F16*J16*H16),IF(ISERROR(F16*J16*I16),\"\",F16*J16*I16))","v":""}]
[null,{"$f":"HLOOKUP($B$1,'Room Inputs'!$D$3:$X$137,B62,0)","v":0},{"$f":"HLOOKUP($B$1,'Room Inputs'!$D$3:$X$137,C62,0)","v":0},{"$f":"HLOOKUP($B$1,'Room Inputs'!$D$3:$X$137,D62,0)","v":0},{"$f":"HLOOKUP($B$1,'Room Inputs'!$D$3:$X$137,E62,0)","v":0},0,{"$f":"HLOOKUP($B$1,'Room Inputs'!$D$3:$X$137,G62,0)","v":0},{"$f":"HLOOKUP($B$1,'Room Inputs'!$D$3:$X$137,H62,0)","v":0},{"$f":"IF(OR(G17=UvaluesWRF!A$2,ISERROR(VLOOKUP(G17,UvaluesWRF!A$3:B$110,2,FALSE))),\"\",VLOOKUP(G17,UvaluesWRF!A$3:B$110,2,FALSE))","v":""},{"$error":"#N/A"},{"$f":"IF(G17=UvaluesWRF!A$2,IF(ISERROR(F17*J17*H17),\"\",F17*J17*H17),IF(ISERROR(F17*J17*I17),\"\",F17*J17*I17))","v":""}]
[null,{"$f":"HLOOKUP($B$1,'Room Inputs'!$D$3:$X$137,B63,0)","v":0},{"$f":"HLOOKUP($B$1,'Room Inputs'!$D$3:$X$137,C63,0)","v":0},{"$f":"HLOOKUP($B$1,'Room Inputs'!$D$3:$X$137,D63,0)","v":0},{"$f":"HLOOKUP($B$1,'Room Inputs'!$D$3:$X$137,E63,0)","v":0},0,{"$f":"HLOOKUP($B$1,'Room Inputs'!$D$3:$X$137,G63,0)","v":0},{"$f":"HLOOKUP($B$1,'Room Inputs'!$D$3:$X$137,H63,0)","v":0},{"$f":"IF(OR(G18=UvaluesWRF!A$2,ISERROR(VLOOKUP(G18,UvaluesWRF!A$3:B$110,2,FALSE))),\"\",VLOOKUP(G18,UvaluesWRF!A$3:B$110,2,FALSE))","v":""},{"$error":"#N/A"},{"$f":"IF(G18=UvaluesWRF!A$2,IF(ISERROR(F18*J18*H18),\"\",F18*J18*H18),IF(ISERROR(F18*J18*I18),\"\",F18*J18*I18))","v":""}]
[null,{"$f":"HLOOKUP($B$1,'Room Inputs'!$D$3:$X$137,B64,0)","v":0},{"$f":"HLOOKUP($B$1,'Room Inputs'!$D$3:$X$137,C64,0)","v":0},{"$f":"HLOOKUP($B$1,'Room Inputs'!$D$3:$X$137,D64,0)","v":0},{"$f":"HLOOKUP($B$1,'Room Inputs'!$D$3:$X$137,E64,0)","v":0},0,{"$f":"HLOOKUP($B$1,'Room Inputs'!$D$3:$X$137,G64,0)","v":0},{"$f":"HLOOKUP($B$1,'Room Inputs'!$D$3:$X$137,H64,0)","v":0},{"$f":"IF(OR(G19=UvaluesWRF!A$2,ISERROR(VLOOKUP(G19,UvaluesWRF!A$3:B$110,2,FALSE))),\"\",VLOOKUP(G19,UvaluesWRF!A$3:B$110,2,FALSE))","v":""},{"$error":"#N/A"},{"$f":"IF(G19=UvaluesWRF!A$2,IF(ISERROR(F19*J19*H19),\"\",F19*J19*H19),IF(ISERROR(F19*J19*I19),\"\",F19*J19*I19))","v":""}]
[null,{"$f":"HLOOKUP($B$1,'Room Inputs'!$D$3:$X$137,B65,0)","v":0},{"$f":"HLOOKUP($B$1,'Room Inputs'!$D$3:$X$137,C65,0)","v":0},{"$f":"HLOOKUP($B$1,'Room Inputs'!$D$3:$X$137,D65,0)","v":0},{"$f":"HLOOKUP($B$1,'Room Inputs'!$D$3:$X$137,E65,0)","v":0},0,{"$f":"HLOOKUP($B$1,'Room Inputs'!$D$3:$X$137,G65,0)","v":0},{"$f":"HLOOKUP($B$1,'Room Inputs'!$D$3:$X$137,H65,0)","v":0},{"$f":"IF(OR(G20=UvaluesWRF!A$2,ISERROR(VLOOKUP(G20,UvaluesWRF!A$3:B$110,2,FALSE))),\"\",VLOOKUP(G20,UvaluesWRF!A$3:B$110,2,FALSE))","v":""},{"$error":"#N/A"},{"$f":"IF(G20=UvaluesWRF!A$2,IF(ISERROR(F20*J20*H20),\"\",F20*J20*H20),IF(ISERROR(F20*J20*I20),\"\",F20*J20*I20))","v":""}]
[null,{"$f":"HLOOKUP($B$1,'Room Inputs'!$D$3:$X$137,B66,0)","v":0},{"$f":"HLOOKUP($B$1,'Room Inputs'!$D$3:$X$137,C66,0)","v":0},{"$f":"HLOOKUP($B$1,'Room Inputs'!$D$3:$X$137,D66,0)","v":0},{"$f":"HLOOKUP($B$1,'Room Inputs'!$D$3:$X$137,E66,0)","v":0},0,{"$f":"HLOOKUP($B$1,'Room Inputs'!$D$3:$X$137,G66,0)","v":0},{"$f":"HLOOKUP($B$1,'Room Inputs'!$D$3:$X$137,H66,0)","v":0},{"$f":"IF(OR(G21=UvaluesWRF!A$2,ISERROR(VLOOKUP(G21,UvaluesWRF!A$3:B$110,2,FALSE))),\"\",VLOOKUP(G21,UvaluesWRF!A$3:B$110,2,FALSE))","v":""},{"$error":"#N/A"},{"$f":"IF(G21=UvaluesWRF!A$2,IF(ISERROR(F21*J21*H21),\"\",F21*J21*H21),IF(ISERROR(F21*J21*I21),\"\",F21*J21*I21))","v":""}]
[null,{"$f":"HLOOKUP($B$1,'Room Inputs'!$D$3:$X$137,B67,0)","v":0},{"$f":"HLOOKUP($B$1,'Room Inputs'!$D$3:$X$137,C67,0)","v":0},{"$f":"HLOOKUP($B$1,'Room Inputs'!$D$3:$X$137,D67,0)","v":0},{"$f":"HLOOKUP($B$1,'Room Inputs'!$D$3:$X$137,E67,0)","v":0},0,{"$f":"HLOOKUP($B$1,'Room Inputs'!$D$3:$X$137,G67,0)","v":0},{"$f":"HLOOKUP($B$1,'Room Inputs'!$D$3:$X$137,H67,0)","v":0},{"$f":"IF(OR(G22=UvaluesWRF!A$2,ISERROR(VLOOKUP(G22,UvaluesWRF!A$3:B$110,2,FALSE))),\"\",VLOOKUP(G22,UvaluesWRF!A$3:B$110,2,FALSE))","v":""},{"$error":"#N/A"},{"$f":"IF(G22=UvaluesWRF!A$2,IF(ISERROR(F22*J22*H22),\"\",F22*J22*H22),IF(ISERROR(F22*J22*I22),\"\",F22*J22*I22))","v":""}]
[null,{"$f":"HLOOKUP($B$1,'Room Inputs'!$D$3:$X$137,B68,0)","v":0},{"$f":"HLOOKUP($B$1,'Room Inputs'!$D$3:$X$137,C68,0)","v":0},{"$f":"HLOOKUP($B$1,'Room Inputs'!$D$3:$X$137,D68,0)","v":0},{"$f":"HLOOKUP($B$1,'Room Inputs'!$D$3:$X$137,E68,0)","v":0},0,{"$f":"HLOOKUP($B$1,'Room Inputs'!$D$3:$X$137,G68,0)","v":0},{"$f":"HLOOKUP($B$1,'Room Inputs'!$D$3:$X$137,H68,0)","v":0},{"$f":"IF(OR(G23=UvaluesWRF!A$2,ISERROR(VLOOKUP(G23,UvaluesWRF!A$3:B$110,2,FALSE))),\"\",VLOOKUP(G23,UvaluesWRF!A$3:B$110,2,FALSE))","v":""},{"$error":"#N/A"},{"$f":"IF(G23=UvaluesWRF!A$2,IF(ISERROR(F23*J23*H23),\"\",F23*J23*H23),IF(ISERROR(F23*J23*I23),\"\",F23*J23*I23))","v":""}]
[null,{"$f":"HLOOKUP($B$1,'Room Inputs'!$D$3:$X$137,B69,0)","v":0},{"$f":"HLOOKUP($B$1,'Room Inputs'!$D$3:$X$137,C69,0)","v":0},{"$f":"HLOOKUP($B$1,'Room Inputs'!$D$3:$X$137,D69,0)","v":0},{"$f":"HLOOKUP($B$1,'Room Inputs'!$D$3:$X$137,E69,0)","v":0},0,{"$f":"HLOOKUP($B$1,'Room Inputs'!$D$3:$X$137,G69,0)","v":0},{"$f":"HLOOKUP($B$1,'Room Inputs'!$D$3:$X$137,H69,0)","v":0},{"$f":"IF(OR(G24=UvaluesWRF!A$2,ISERROR(VLOOKUP(G24,UvaluesWRF!A$3:B$110,2,FALSE))),\"\",VLOOKUP(G24,UvaluesWRF!A$3:B$110,2,FALSE))","v":""},{"$error":"#N/A"},{"$f":"IF(G24=UvaluesWRF!A$2,IF(ISERROR(F24*J24*H24),\"\",F24*J24*H24),IF(ISERROR(F24*J24*I24),\"\",F24*J24*I24))","v":""}]
[null,{"$f":"HLOOKUP($B$1,'Room Inputs'!$D$3:$X$137,B70,0)","v":0},{"$f":"HLOOKUP($B$1,'Room Inputs'!$D$3:$X$137,C70,0)","v":0},{"$f":"HLOOKUP($B$1,'Room Inputs'!$D$3:$X$137,D70,0)","v":0},{"$f":"HLOOKUP($B$1,'Room Inputs'!$D$3:$X$137,E70,0)","v":0},0,{"$f":"HLOOKUP($B$1,'Room Inputs'!$D$3:$X$137,G70,0)","v":0},{"$f":"HLOOKUP($B$1,'Room Inputs'!$D$3:$X$137,H70,0)","v":0},{"$f":"IF(OR(G25=UvaluesWRF!A$2,ISERROR(VLOOKUP(G25,UvaluesWRF!A$3:B$110,2,FALSE))),\"\",VLOOKUP(G25,UvaluesWRF!A$3:B$110,2,FALSE))","v":""},{"$error":"#N/A"},{"$f":"IF(G25=UvaluesWRF!A$2,IF(ISERROR(F25*J25*H25),\"\",F25*J25*H25),IF(ISERROR(F25*J25*I25),\"\",F25*J25*I25))","v":""}]
[null,"Ground floors \nShort length (m)","long length\n(m)","Edges exposed",null,null,"Type and Insulation  thickness",null,null,null,null,null,"U-value","Edge","Insulation","Column",null,1,2,3,4,5.3,5.4,5.5,5.6,6.3,6.4,6.5,6.6]
[null,{"$f":"HLOOKUP($B$1,'Room Inputs'!$D$3:$X$137,B72,0)","v":0},{"$f":"HLOOKUP($B$1,'Room Inputs'!$D$3:$X$137,C72,0)","v":0},{"$f":"HLOOKUP($B$1,'Room Inputs'!$D$3:$X$137,D72,0)","v":0},{"$f":"HLOOKUP($B$1,'Room Inputs'!$D$3:$X$137,E72,0)","v":0},{"$f":"B27*C27","v":0},{"$f":"HLOOKUP($B$1,'Room Inputs'!$D$3:$X$137,G72,0)","v":0},{"$f":"HLOOKUP($B$1,'Room Inputs'!$D$3:$X$137,H72,0)","v":0},{"$f":"IF(OR(G27=UvaluesFlr!$U$3,G27=UvaluesFlr!$U$4,ISERROR(M27)),\"\",M27)","v":""},{"$f":"$K$8-IF(LEFT(G27,2)=\"So\",10,'Site Inputs'!$C$8)","v":21.8},{"$f":"IF(OR(G27=UvaluesFlr!$U$3,G27=UvaluesFlr!$U$4),IF(ISERROR(F27*J27*H27),\"\",F27*J27*H27),IF(ISERROR(F27*J27*I27),\"\",F27*J27*I27))","v":""},null,{"$f":"HLOOKUP(N27+MIN(0.6,IF(N27>4,O27/10,0)),$R$26:$AC$29,2,TRUE)","v":{"$error":"#N/A"}},{"$f":"VLOOKUP(D27,UvaluesFlr!$U$17:$V$22,2,FALSE)","v":{"$error":"#N/A"}},{"$f":"VLOOKUP(G27,UvaluesFlr!$U$3:$W$14,2,FALSE)","v":{"$error":"#N/A"}},{"$f":"VLOOKUP(G27,UvaluesFlr!$U$3:$W$14,3,FALSE)","v":{"$error":"#N/A"}},null,{"$f":"VLOOKUP(C27,UvaluesFlr!$C$53:$P$59,$P27,TRUE)","v":{"$error":"#N/A"}},{"$f":"VLOOKUP(B27,UvaluesFlr!$C$53:$P$59,$P27,TRUE)","v":{"$error":"#N/A"}},{"$f":"VLOOKUP(B27+C27,UvaluesFlr!$C$4:$P$12,$P27,TRUE)","v":{"$error":"#N/A"}},{"$f":"VLOOKUP(B27,UvaluesFlr!$C$16:$P$21,$P27,TRUE)","v":{"$error":"#N/A"}},{"$f":"VLOOKUP($C27,UvaluesFlr!$D$26:$P$29,$P27-1,TRUE)","v":{"$error":"#N/A"}},{"$f":"VLOOKUP($C27,UvaluesFlr!$D$30:$P$31,$P27-1,TRUE)","v":{"$error":"#N/A"}},{"$f":"VLOOKUP($C27,UvaluesFlr!$D$32:$P$33,$P27-1,TRUE)","v":{"$error":"#N/A"}},{"$f":"VLOOKUP($C27,UvaluesFlr!$D$34:$P$35,$P27-1,TRUE)","v":{"$error":"#N/A"}},{"$f":"VLOOKUP($C27,UvaluesFlr!$D$39:$P$42,$P27-1,TRUE)","v":{"$error":"#N/A"}},{"$f":"VLOOKUP($C27,UvaluesFlr!$D$43:$P$45,$P27-1,TRUE)","v":{"$error":"#N/A"}},{"$f":"VLOOKUP($C27,UvaluesFlr!$D$46:$P$48,$P27-1,TRUE)","v":{"$error":"#N/A"}},{"$f":"VLOOKUP($C27,UvaluesFlr!$D$49:$P$50,$P27-1,TRUE)","v":{"$error":"#N/A"}}]
[null,{"$f":"HLOOKUP($B$1,'Room Inputs'!$D$3:$X$137,B73,0)","v":0},{"$f":"HLOOKUP($B$1,'Room Inputs'!$D$3:$X$137,C73,0)","v":0},{"$f":"HLOOKUP($B$1,'Room Inputs'!$D$3:$X$137,D73,0)","v":0},{"$f":"HLOOKUP($B$1,'Room Inputs'!$D$3:$X$137,E73,0)","v":{"$error":"#VALUE!"}},{"$f":"B28*C28","v":0},{"$f":"HLOOKUP($B$1,'Room Inputs'!$D$3:$X$137,G73,0)","v":0},{"$f":"HLOOKUP($B$1,'Room Inputs'!$D$3:$X$137,H73,0)","v":0},{"$f":"IF(OR(G28=UvaluesFlr!$U$3,G28=UvaluesFlr!$U$4,ISERROR(M28)),\"\",M28)","v":""},{"$f":"$K$8-IF(LEFT(G28,2)=\"So\",10,'Site Inputs'!$C$8)","v":21.8},{"$f":"IF(OR(G28=UvaluesFlr!$U$3,G28=UvaluesFlr!$U$4),IF(ISERROR(F28*J28*H28),\"\",F28*J28*H28),IF(ISERROR(F28*J28*I28),\"\",F28*J28*I28))","v":""},null,{"$f":"HLOOKUP(N28+MIN(0.6,IF(N28>4,O28/10,0)),$R$26:$AC$29,3,TRUE)","v":{"$error":"#N/A"}},{"$f":"VLOOKUP(D28,UvaluesFlr!$U$17:$V$22,2,FALSE)","v":{"$error":"#N/A"}},{"$f":"VLOOKUP(G28,UvaluesFlr!$U$3:$W$14,2,FALSE)","v":{"$error":"#N/A"}},{"$f":"VLOOKUP(G28,UvaluesFlr!$U$3:$W$14,3,FALSE)","v":{"$error":"#N/A"}},null,{"$f":"VLOOKUP(C28,UvaluesFlr!$C$53:$P$59,$P28,TRUE)","v":{"$error":"#N/A"}},{"$f":"VLOOKUP(B28,UvaluesFlr!$C$53:$P$59,$P28,TRUE)","v":{"$error":"#N/A"}},{"$f":"VLOOKUP(B28+C28,UvaluesFlr!$C$4:$P$12,$P28,TRUE)","v":{"$error":"#N/A"}},{"$f":"VLOOKUP(B28,UvaluesFlr!$C$16:$P$21,$P28,TRUE)","v":{"$error":"#N/A"}},{"$f":"VLOOKUP($C28,UvaluesFlr!$D$26:$P$29,$P28-1,TRUE)","v":{"$error":"#N/A"}},{"$f":"VLOOKUP($C28,UvaluesFlr!$D$30:$P$31,$P28-1,TRUE)","v":{"$error":"#N/A"}},{"$f":"VLOOKUP($C28,UvaluesFlr!$D$32:$P$33,$P28-1,TRUE)","v":{"$error":"#N/A"}},{"$f":"VLOOKUP($C28,UvaluesFlr!$D$34:$P$35,$P28-1,TRUE)","v":{"$error":"#N/A"}},{"$f":"VLOOKUP($C28,UvaluesFlr!$D$39:$P$42,$P28-1,TRUE)","v":{"$error":"#N/A"}},{"$f":"VLOOKUP($C28,UvaluesFlr!$D$43:$P$45,$P28-1,TRUE)","v":{"$error":"#N/A"}},{"$f":"VLOOKUP($C28,UvaluesFlr!$D$46:$P$48,$P28-1,TRUE)","v":{"$error":"#N/A"}},{"$f":"VLOOKUP($C28,UvaluesFlr!$D$49:$P$50,$P28-1,TRUE)","v":{"$error":"#N/A"}}]
[null,{"$f":"HLOOKUP($B$1,'Room Inputs'!$D$3:$X$137,B74,0)","v":0},{"$f":"HLOOKUP($B$1,'Room Inputs'!$D$3:$X$137,C74,0)","v":0},{"$f":"HLOOKUP($B$1,'Room Inputs'!$D$3:$X$137,D74,0)","v":0},{"$f":"HLOOKUP($B$1,'Room Inputs'!$D$3:$X$137,E74,0)","v":{"$error":"#VALUE!"}},{"$f":"B29*C29","v":0},{"$f":"HLOOKUP($B$1,'Room Inputs'!$D$3:$X$137,G74,0)","v":0},{"$f":"HLOOKUP($B$1,'Room Inputs'!$D$3:$X$137,H74,0)","v":0},{"$f":"IF(OR(G29=UvaluesFlr!$U$3,G29=UvaluesFlr!$U$4,ISERROR(M29)),\"\",M29)","v":""},{"$f":"$K$8-IF(LEFT(G29,2)=\"So\",10,'Site Inputs'!$C$8)","v":21.8},{"$f":"IF(OR(G29=UvaluesFlr!$U$3,G29=UvaluesFlr!$U$4),IF(ISERROR(F29*J29*H29),\"\",F29*J29*H29),IF(ISERROR(F29*J29*I29),\"\",F29*J29*I29))","v":""},null,{"$f":"HLOOKUP(N29+MIN(0.6,IF(N29>4,O29/10,0)),$R$26:$AC$29,4,TRUE)","v":{"$error":"#N/A"}},{"$f":"VLOOKUP(D29,UvaluesFlr!$U$17:$V$22,2,FALSE)","v":{"$error":"#N/A"}},{"$f":"VLOOKUP(G29,UvaluesFlr!$U$3:$W$14,2,FALSE)","v":{"$error":"#N/A"}},{"$f":"VLOOKUP(G29,UvaluesFlr!$U$3:$W$14,3,FALSE)","v":{"$error":"#N/A"}},null,{"$f":"VLOOKUP(C29,UvaluesFlr!$C$53:$P$59,$P29,TRUE)","v":{"$error":"#N/A"}},{"$f":"VLOOKUP(B29,UvaluesFlr!$C$53:$P$59,$P29,TRUE)","v":{"$error":"#N/A"}},{"$f":"VLOOKUP(B29+C29,UvaluesFlr!$C$4:$P$12,$P29,TRUE)","v":{"$error":"#N/A"}},{"$f":"VLOOKUP(B29,UvaluesFlr!$C$16:$P$21,$P29,TRUE)","v":{"$error":"#N/A"}},{"$f":"VLOOKUP($C29,UvaluesFlr!$D$26:$P$29,$P29-1,TRUE)","v":{"$error":"#N/A"}},{"$f":"VLOOKUP($C29,UvaluesFlr!$D$30:$P$31,$P29-1,TRUE)","v":{"$error":"#N/A"}},{"$f":"VLOOKUP($C29,UvaluesFlr!$D$32:$P$33,$P29-1,TRUE)","v":{"$error":"#N/A"}},{"$f":"VLOOKUP($C29,UvaluesFlr!$D$34:$P$35,$P29-1,TRUE)","v":{"$error":"#N/A"}},{"$f":"VLOOKUP($C29,UvaluesFlr!$D$39:$P$42,$P29-1,TRUE)","v":{"$error":"#N/A"}},{"$f":"VLOOKUP($C29,UvaluesFlr!$D$43:$P$45,$P29-1,TRUE)","v":{"$error":"#N/A"}},{"$f":"VLOOKUP($C29,UvaluesFlr!$D$46:$P$48,$P29-1,TRUE)","v":{"$error":"#N/A"}},{"$f":"VLOOKUP($C29,UvaluesFlr!$D$49:$P$50,$P29-1,TRUE)","v":{"$error":"#N/A"}}]
[]
[]
[null,"Windows and doors"]
[null,"Wall or roof with window or door","Window or door height (m)","Window or door width (m)","Area (m²)","Wall/roof U-value (W/m²K)","Frame and glazing type ","Entered U-\u001evalue (W/m²K), if required","U-value","Design temperature difference","Heat loss (W)*"]
[null,{"$f":"HLOOKUP($B$1,'Room Inputs'!$D$3:$X$137,B79,0)","v":"External Wall"},{"$f":"HLOOKUP($B$1,'Room Inputs'!$D$3:$X$137,C79,0)","v":0.9},{"$f":"HLOOKUP($B$1,'Room Inputs'!$D$3:$X$137,D79,0)","v":1.2},{"$f":"C34*D34","v":1.08},{"$f":"IF(B34<>\"\",IF(VLOOKUP(B34,B$14:I$25,6,FALSE)=UvalueWD!$C$6,VLOOKUP(B34,B$14:I$25,7,FALSE),VLOOKUP(B34,B$14:I$25,8,FALSE)),\"\")","v":0.3},{"$f":"HLOOKUP($B$1,'Room Inputs'!$D$3:$X$137,G79,0)","v":"Wood/PVC Double, low-E glass, argon filled "},{"$f":"HLOOKUP($B$1,'Room Inputs'!$D$3:$X$137,H79,0)","v":0},{"$f":"IF(OR(G34=UvalueWD!C$6,G34=\"\"),\"\",VLOOKUP(G34,Windows,2,FALSE))","v":2.1},{"$f":"IF(ISERROR(VLOOKUP(B34,B$13:K$29,9,FALSE)),\"\",VLOOKUP(B34,B$13:K$29,9,FALSE))","v":21.8},{"$f":"IF(G34=UvaluesWRF!A$2,IF(ISERROR(F34*J34*(H34-F34)),\"\",F34*J34*(H34-F34)),IF(ISERROR(F34*J34*(F34-I34)),\"\",(I34-F34)*J34*I34))","v":82.404000000000011}]
[null,{"$f":"HLOOKUP($B$1,'Room Inputs'!$D$3:$X$137,B80,0)","v":0},{"$f":"HLOOKUP($B$1,'Room Inputs'!$D$3:$X$137,C80,0)","v":0},{"$f":"HLOOKUP($B$1,'Room Inputs'!$D$3:$X$137,D80,0)","v":0},0,{"$f":"IF(B35<>\"\",IF(VLOOKUP(B35,B$14:I$25,6,FALSE)=UvalueWD!$C$6,VLOOKUP(B35,B$14:I$25,7,FALSE),VLOOKUP(B35,B$14:I$25,8,FALSE)),\"\")","v":""},{"$f":"HLOOKUP($B$1,'Room Inputs'!$D$3:$X$137,G80,0)","v":0},{"$f":"HLOOKUP($B$1,'Room Inputs'!$D$3:$X$137,H80,0)","v":0},{"$f":"IF(OR(G35=UvalueWD!C$6,G35=\"\"),\"\",VLOOKUP(G35,Windows,2,FALSE))","v":{"$error":"#N/A"}},"",{"$f":"IF(G35=UvaluesWRF!A$2,IF(ISERROR(F35*J35*(H35-F35)),\"\",F35*J35*(H35-F35)),IF(ISERROR(F35*J35*(F35-I35)),\"\",(I35-F35)*J35*I35))","v":""}]
[null,{"$f":"HLOOKUP($B$1,'Room Inputs'!$D$3:$X$137,B81,0)","v":0},{"$f":"HLOOKUP($B$1,'Room Inputs'!$D$3:$X$137,C81,0)","v":0},{"$f":"HLOOKUP($B$1,'Room Inputs'!$D$3:$X$137,D81,0)","v":0},0,{"$f":"IF(B36<>\"\",IF(VLOOKUP(B36,B$14:I$25,6,FALSE)=UvalueWD!$C$6,VLOOKUP(B36,B$14:I$25,7,FALSE),VLOOKUP(B36,B$14:I$25,8,FALSE)),\"\")","v":""},{"$f":"HLOOKUP($B$1,'Room Inputs'!$D$3:$X$137,G81,0)","v":0},{"$f":"HLOOKUP($B$1,'Room Inputs'!$D$3:$X$137,H81,0)","v":0},{"$f":"IF(OR(G36=UvalueWD!C$6,G36=\"\"),\"\",VLOOKUP(G36,Windows,2,FALSE))","v":{"$error":"#N/A"}},"",{"$f":"IF(G36=UvaluesWRF!A$2,IF(ISERROR(F36*J36*(H36-F36)),\"\",F36*J36*(H36-F36)),IF(ISERROR(F36*J36*(F36-I36)),\"\",(I36-F36)*J36*I36))","v":""}]
[null,{"$f":"HLOOKUP($B$1,'Room Inputs'!$D$3:$X$137,B82,0)","v":0},{"$f":"HLOOKUP($B$1,'Room Inputs'!$D$3:$X$137,C82,0)","v":0},{"$f":"HLOOKUP($B$1,'Room Inputs'!$D$3:$X$137,D82,0)","v":0},0,{"$f":"IF(B37<>\"\",IF(VLOOKUP(B37,B$14:I$25,6,FALSE)=UvalueWD!$C$6,VLOOKUP(B37,B$14:I$25,7,FALSE),VLOOKUP(B37,B$14:I$25,8,FALSE)),\"\")","v":""},{"$f":"HLOOKUP($B$1,'Room Inputs'!$D$3:$X$137,G82,0)","v":0},{"$f":"HLOOKUP($B$1,'Room Inputs'!$D$3:$X$137,H82,0)","v":0},{"$f":"IF(OR(G37=UvalueWD!C$6,G37=\"\"),\"\",VLOOKUP(G37,Windows,2,FALSE))","v":{"$error":"#N/A"}},"",{"$f":"IF(G37=UvaluesWRF!A$2,IF(ISERROR(F37*J37*(H37-F37)),\"\",F37*J37*(H37-F37)),IF(ISERROR(F37*J37*(F37-I37)),\"\",(I37-F37)*J37*I37))","v":""}]
[null,{"$f":"HLOOKUP($B$1,'Room Inputs'!$D$3:$X$137,B83,0)","v":0},{"$f":"HLOOKUP($B$1,'Room Inputs'!$D$3:$X$137,C83,0)","v":0},{"$f":"HLOOKUP($B$1,'Room Inputs'!$D$3:$X$137,D83,0)","v":0},0,{"$f":"IF(B38<>\"\",IF(VLOOKUP(B38,B$14:I$25,6,FALSE)=UvalueWD!$C$6,VLOOKUP(B38,B$14:I$25,7,FALSE),VLOOKUP(B38,B$14:I$25,8,FALSE)),\"\")","v":""},{"$f":"HLOOKUP($B$1,'Room Inputs'!$D$3:$X$137,G83,0)","v":0},{"$f":"HLOOKUP($B$1,'Room Inputs'!$D$3:$X$137,H83,0)","v":0},{"$f":"IF(OR(G38=UvalueWD!C$6,G38=\"\"),\"\",VLOOKUP(G38,Windows,2,FALSE))","v":{"$error":"#N/A"}},"",{"$f":"IF(G38=UvaluesWRF!A$2,IF(ISERROR(F38*J38*(H38-F38)),\"\",F38*J38*(H38-F38)),IF(ISERROR(F38*J38*(F38-I38)),\"\",(I38-F38)*J38*I38))","v":""}]
[null,{"$f":"HLOOKUP($B$1,'Room Inputs'!$D$3:$X$137,B84,0)","v":0},{"$f":"HLOOKUP($B$1,'Room Inputs'!$D$3:$X$137,C84,0)","v":0},{"$f":"HLOOKUP($B$1,'Room Inputs'!$D$3:$X$137,D84,0)","v":0},0,{"$f":"IF(B39<>\"\",IF(VLOOKUP(B39,B$14:I$25,6,FALSE)=UvalueWD!$C$6,VLOOKUP(B39,B$14:I$25,7,FALSE),VLOOKUP(B39,B$14:I$25,8,FALSE)),\"\")","v":""},{"$f":"HLOOKUP($B$1,'Room Inputs'!$D$3:$X$137,G84,0)","v":0},{"$f":"HLOOKUP($B$1,'Room Inputs'!$D$3:$X$137,H84,0)","v":0},{"$f":"IF(OR(G39=UvalueWD!C$6,G39=\"\"),\"\",VLOOKUP(G39,Windows,2,FALSE))","v":{"$error":"#N/A"}},"",{"$f":"IF(G39=UvaluesWRF!A$2,IF(ISERROR(F39*J39*(H39-F39)),\"\",F39*J39*(H39-F39)),IF(ISERROR(F39*J39*(F39-I39)),\"\",(I39-F39)*J39*I39))","v":""}]
[]
[null,"* this is net heat loss (i.e. the heat loss of the window minus that of a wall of the same area) and so can be negative.  This is done so that the area of the window or door does not have to be subtracted from the wall area.  "]
[null,null,null,null,null,null,null,null,"Room heat loss (W)",null,{"$f":"SUM(K10:K39)","v":316.274}]
[]
[]
[]
[null,"Row number lookup map"]
[]
[null,"Room name",2,null,"Emitter type",3,"For convectors consult the manufacturer's data and enter the temperature factor (FTEMP) for the appropriate fan speed",4,"For radiators enter the n-coefficient (exponent) from manufacturer's data.  If unknown 1.3 may be used",null,5]
[]
[null,"Enter floor type and construction",6,null,"Enter floor type and construction",7,"For UFH enter Tog value (See Table 14)",8,"For UFH enter  active or exposed area of the heated floor ",null,9]
[]
[null,"Enter Room type below",null,null," Enter Open fire/chimney details below "]
[null,10,null,null,11]
[null,"Room Dimensions"]
[null,"Length (m)",null,"Width (m)",null,"Height (m)"]
[null,13,null,14,null,15]
[null,"Walls, floors not ground floors and ceiling"]
[null,"Name of wall, floor, ceiling","Space on other side","Height or length (m)","Width (m)",null,"Construction","Entered U-\u001evalue (W/m²K), if required"]
[null,16,17,18,19,null,20,21]
[null,22,23,24,25,null,26,27]
[null,28,29,30,31,null,32,33]
[null,35,36,37,38,null,39,40]
[null,41,42,43,44,null,45,46]
[null,47,48,49,50,null,51,52]
[null,53,54,55,56,null,57,58]
[null,59,60,61,62,null,63,64]
[null,65,66,67,68,null,69,70]
[null,71,72,73,74,null,75,76]
[null,77,78,79,80,null,81,82]
[null,83,84,85,86,null,87,88]
[null,"Ground floors \nShort length (m)","long length\n(m)","Edges exposed",null,null,"Type and Insulation  thickness"]
[null,89,90,91,92,null,92,93]
[null,95,96,97,null,null,98,99]
[null,100,101,102,null,null,103,104]
[]
[]
[null,"Windows and doors"]
[null,"Wall or roof with window or door","Window or door height (m)","Window or door width (m)","Area (m²)","Wall/roof U-value (W/m²K)","Frame and glazing type ","Entered U-\u001evalue (W/m²K), if required"]
[null,105,106,107,null,null,108,109]
[null,111,112,113,null,null,114,115]
[null,116,117,118,null,null,119,120]
[null,121,122,123,null,null,124,125]
[null,126,127,128,null,null,129,130]
[null,131,132,133,null,null,134,135]

{"sheet":"4","index":9,"n_rows":84,"n_cols":29,"rows_kept":84,"cut":false,"hidden":true,"merged":[[40,1,40,7],[41,8,41,9],[7,7,7,8],[4,8,4,9],[6,1,6,2],[6,4,6,5],[6,7,6,8],[47,8,47,9],[49,2,49,3],[49,8,49,9],[51,1,51,2],[51,4,51,5],[51,7,51,8],[52,1,52,2],[52,4,52,5],[52,7,52,8],[72,3,72,4],[73,3,73,4],[71,3,71,4]]}
[null,{"$f":"'Room Inputs'!G3","v":"Room4"}]
[]
[null,"Room name",{"$f":"HLOOKUP($B$1,'Room Inputs'!$D$3:$X$137,C48,0)","v":0},null,"Emitter type",{"$f":"HLOOKUP($B$1,'Room Inputs'!$D$3:$X$137,F48,0)","v":0},"For convectors consult the manufacturer's data and enter the temperature factor (FTEMP) for the appropriate fan speed",{"$f":"HLOOKUP($B$1,'Room Inputs'!$D$3:$X$137,H48,0)","v":0.85},"For radiators enter the n-coefficient (exponent) from manufacturer's data.  If unknown 1.3 may be used",null,{"$f":"HLOOKUP($B$1,'Room Inputs'!$D$3:$X$137,K48,0)","v":1.3}]
[]
[null,"Enter floor type and construction",{"$f":"HLOOKUP($B$1,'Room Inputs'!$D$3:$X$137,C50,0)","v":0},null,"Enter floor type and construction",{"$f":"HLOOKUP($B$1,'Room Inputs'!$D$3:$X$137,F50,0)","v":0},"For UFH enter Tog value (See Table 14)",{"$f":"HLOOKUP($B$1,'Room Inputs'!$D$3:$X$137,H50,0)","v":0.25},"For UFH enter  active or exposed area of the heated floor ",null,{"$f":"HLOOKUP($B$1,'Room Inputs'!$D$3:$X$137,K50,0)","v":0}]
[]
[null,"Enter Room type below",null,null," Enter Open fire/chimney details below ",null,null,"Design room ventilation rate (air changes per hour)",null,null,"Design room temperature °C"]
[null,{"$f":"HLOOKUP($B$1,'Room Inputs'!$D$3:$X$137,B53,0)","v":0},null,null,{"$f":"HLOOKUP($B$1,'Room Inputs'!$D$3:$X$137,E53,0)","v":0},null,null,{"$f":"IF(E8=VTables!B20,VLOOKUP(B8,DRVT,3,FALSE),MAX(VLOOKUP(B8,DRVT,3,FALSE),VLOOKUP(E8,ARVR,2,FALSE)))","v":{"$error":"#N/A"}},null,null,{"$f":"VLOOKUP(B8,DRVT,2,FALSE)","v":{"$error":"#N/A"}}]
[null,"Room Dimensions"]
[null,"Length (m)",null,"Width (m)",null,"Height (m)","Room volume (m³) ",null,null,"Design temperature difference","Heat loss (W)"]
[null,{"$f":"HLOOKUP($B$1,'Room Inputs'!$D$3:$X$137,B56,0)","v":0},null,{"$f":"HLOOKUP($B$1,'Room Inputs'!$D$3:$X$137,D56,0)","v":0},null,{"$f":"HLOOKUP($B$1,'Room Inputs'!$D$3:$X$137,F56,0)","v":0},{"$f":"B11*D11*F11","v":0},null,null,{"$f":"K8-'Site Inputs'!C8","v":{"$error":"#N/A"}},{"$f":"IF(G11>0,(ROUND(0.33*G11*H8*J11,2)),\"\")","v":""}]
[null,"Walls, floors not ground floors and ceiling"]
[null,"Name of wall, floor, ceiling","Space on other side","Height or length (m)","Width (m)","Area (m²)","Construction","Entered U-\u001evalue (W/m²K), if required","U-value (W/m²K)","Design temperature difference","Heat loss (W)",null,"`"]
[null,{"$f":"HLOOKUP($B$1,'Room Inputs'!$D$3:$X$137,B59,0)","v":0},{"$f":"HLOOKUP($B$1,'Room Inputs'!$D$3:$X$137,C59,0)","v":0},{"$f":"HLOOKUP($B$1,'Room Inputs'!$D$3:$X$137,D59,0)","v":0},{"$f":"HLOOKUP($B$1,'Room Inputs'!$D$3:$X$137,E59,0)","v":0},{"$f":"D14*E14","v":0},{"$f":"HLOOKUP($B$1,'Room Inputs'!$D$3:$X$137,G59,0)","v":0},{"$f":"HLOOKUP($B$1,'Room Inputs'!$D$3:$X$137,H59,0)","v":0},{"$f":"IF(OR(G14=UvaluesWRF!A$2,ISERROR(VLOOKUP(G14,UvaluesWRF!A$3:B$110,2,FALSE))),\"\",VLOOKUP(G14,UvaluesWRF!A$3:B$110,2,FALSE))","v":""},{"$f":"IF(C14=\"\",\"\",$K$8-VLOOKUP(C14,DRVT,2,FALSE))","v":{"$error":"#N/A"}},{"$f":"IF(G14=UvaluesWRF!A$2,IF(ISERROR(F14*J14*H14),\"\",F14*J14*H14),IF(ISERROR(F14*J14*I14),\"\",F14*J14*I14))","v":""}]
[null,{"$f":"HLOOKUP($B$1,'Room Inputs'!$D$3:$X$137,B60,0)","v":0},{"$f":"HLOOKUP($B$1,'Room Inputs'!$D$3:$X$137,C60,0)","v":0},{"$f":"HLOOKUP($B$1,'Room Inputs'!$D$3:$X$137,D60,0)","v":0},{"$f":"HLOOKUP($B$1,'Room Inputs'!$D$3:$X$137,E60,0)","v":0},{"$f":"D15*E15","v":0},{"$f":"HLOOKUP($B$1,'Room Inputs'!$D$3:$X$137,G60,0)","v":0},{"$f":"HLOOKUP($B$1,'Room Inputs'!$D$3:$X$137,H60,0)","v":0},{"$f":"IF(OR(G15=UvaluesWRF!A$2,ISERROR(VLOOKUP(G15,UvaluesWRF!A$3:B$110,2,FALSE))),\"\",VLOOKUP(G15,UvaluesWRF!A$3:B$110,2,FALSE))","v":""},{"$error":"#N/A"},{"$f":"IF(G15=UvaluesWRF!A$2,IF(ISERROR(F15*J15*H15),\"\",F15*J15*H15),IF(ISERROR(F15*J15*I15),\"\",F15*J15*I15))","v":""}]
[null,{"$f":"HLOOKUP($B$1,'Room Inputs'!$D$3:$X$137,B61,0)","v":0},{"$f":"HLOOKUP($B$1,'Room Inputs'!$D$3:$X$137,C61,0)","v":0},{"$f":"HLOOKUP($B$1,'Room Inputs'!$D$3:$X$137,D61,0)","v":0},{"$f":"HLOOKUP($B$1,'Room Inputs'!$D$3:$X$137,E61,0)","v":0},0,{"$f":"HLOOKUP($B$1,'Room Inputs'!$D$3:$X$137,G61,0)","v":0},{"$f":"HLOOKUP($B$1,'Room Inputs'!$D$3:$X$137,H61,0)","v":0},{"$f":"IF(OR(G16=UvaluesWRF!A$2,ISERROR(VLOOKUP(G16,UvaluesWRF!A$3:B$110,2,FALSE))),\"\",VLOOKUP(G16,UvaluesWRF!A$3:B$110,2,FALSE))","v":""},{"$error":"#N/A"},{"$f":"IF(G16=UvaluesWRF!A$2,IF(ISERROR(F16*J16*H16),\"\",F16*J16*H16),IF(ISERROR(F16*J16*I16),\"\",F16*J16*I16))","v":""}]
[null,{"$f":"HLOOKUP($B$1,'Room Inputs'!$D$3:$X$137,B62,0)","v":0},{"$f":"HLOOKUP($B$1,'Room Inputs'!$D$3:$X$137,C62,0)","v":0},{"$f":"HLOOKUP($B$1,'Room Inputs'!$D$3:$X$137,D62,0)","v":0},{"$f":"HLOOKUP($B$1,'Room Inputs'!$D$3:$X$137,E62,0)","v":0},0,{"$f":"HLOOKUP($B$1,'Room Inputs'!$D$3:$X$137,G62,0)","v":0},{"$f":"HLOOKUP($B$1,'Room Inputs'!$D$3:$X$137,H62,0)","v":0},{"$f":"IF(OR(G17=UvaluesWRF!A$2,ISERROR(VLOOKUP(G17,UvaluesWRF!A$3:B$110,2,FALSE))),\"\",VLOOKUP(G17,UvaluesWRF!A$3:B$110,2,FALSE))","v":""},{"$error":"#N/A"},{"$f":"IF(G17=UvaluesWRF!A$2,IF(ISERROR(F17*J17*H17),\"\",F17*J17*H17),IF(ISERROR(F17*J17*I17),\"\",F17*J17*I17))","v":""}]
[null,{"$f":"HLOOKUP($B$1,'Room Inputs'!$D$3:$X$137,B63,0)","v":0},{"$f":"HLOOKUP($B$1,'Room Inputs'!$D$3:$X$137,C63,0)","v":0},{"$f":"HLOOKUP($B$1,'Room Inputs'!$D$3:$X$137,D63,0)","v":0},{"$f":"HLOOKUP($B$1,'Room Inputs'!$D$3:$X$137,E63,0)","v":0},0,{"$f":"HLOOKUP($B$1,'Room Inputs'!$D$3:$X$137,G63,0)","v":0},{"$f":"HLOOKUP($B$1,'Room Inputs'!$D$3:$X$137,H63,0)","v":0},{"$f":"IF(OR(G18=UvaluesWRF!A$2,ISERROR(VLOOKUP(G18,UvaluesWRF!A$3:B$110,2,FALSE))),\"\",VLOOKUP(G18,UvaluesWRF!A$3:B$110,2,FALSE))","v":""},{"$error":"#N/A"},{"$f":"IF(G18=UvaluesWRF!A$2,IF(ISERROR(F18*J18*H18),\"\",F18*J18*H18),IF(ISERROR(F18*J18*I18),\"\",F18*J18*I18))","v":""}]
[null,{"$f":"HLOOKUP($B$1,'Room Inputs'!$D$3:$X$137,B64,0)","v":0},{"$f":"HLOOKUP($B$1,'Room Inputs'!$D$3:$X$137,C64,0)","v":0},{"$f":"HLOOKUP($B$1,'Room Inputs'!$D$3:$X$137,D64,0)","v":0},{"$f":"HLOOKUP($B$1,'Room Inputs'!$D$3:$X$137,E64,0)","v":0},0,{"$f":"HLOOKUP($B$1,'Room Inputs'!$D$3:$X$137,G64,0)","v":0},{"$f":"HLOOKUP($B$1,'Room Inputs'!$D$3:$X$137,H64,0)","v":0},{"$f":"IF(OR(G19=UvaluesWRF!A$2,ISERROR(VLOOKUP(G19,UvaluesWRF!A$3:B$110,2,FALSE))),\"\",VLOOKUP(G19,UvaluesWRF!A$3:B$110,2,FALSE))","v":""},{"$error":"#N/A"},{"$f":"IF(G19=UvaluesWRF!A$2,IF(ISERROR(F19*J19*H19),\"\",F19*J19*H19),IF(ISERROR(F19*J19*I19),\"\",F19*J19*I19))","v":""}]
[null,{"$f":"HLOOKUP($B$1,'Room Inputs'!$D$3:$X$137,B65,0)","v":0},{"$f":"HLOOKUP($B$1,'Room Inputs'!$D$3:$X$137,C65,0)","v":0},{"$f":"HLOOKUP($B$1,'Room Inputs'!$D$3:$X$137,D65,0)","v":0},{"$f":"HLOOKUP($B$1,'Room Inputs'!$D$3:$X$137,E65,0)","v":0},0,{"$f":"HLOOKUP($B$1,'Room Inputs'!$D$3:$X$137,G65,0)","v":0},{"$f":"HLOOKUP($B$1,'Room Inputs'!$D$3:$X$137,H65,0)","v":0},{"$f":"IF(OR(G20=UvaluesWRF!A$2,ISERROR(VLOOKUP(G20,UvaluesWRF!A$3:B$110,2,FALSE))),\"\",VLOOKUP(G20,UvaluesWRF!A$3:B$110,2,FALSE))","v":""},{"$error":"#N/A"},{"$f":"IF(G20=UvaluesWRF!A$2,IF(ISERROR(F20*J20*H20),\"\",F20*J20*H20),IF(ISERROR(F20*J20*I20),\"\",F20*J20*I20))","v":""}]
[null,{"$f":"HLOOKUP($B$1,'Room Inputs'!$D$3:$X$137,B66,0)","v":0},{"$f":"HLOOKUP($B$1,'Room Inputs'!$D$3:$X$137,C66,0)","v":0},{"$f":"HLOOKUP($B$1,'Room Inputs'!$D$3:$X$137,D66,0)","v":0},{"$f":"HLOOKUP($B$1,'Room Inputs'!$D$3:$X$137,E66,0)","v":0},0,{"$f":"HLOOKUP($B$1,'Room Inputs'!$D$3:$X$137,G66,0)","v":0},{"$f":"HLOOKUP($B$1,'Room Inputs'!$D$3:$X$137,H66,0)","v":0},{"$f":"IF(OR(G21=UvaluesWRF!A$2,ISERROR(VLOOKUP(G21,UvaluesWRF!A$3:B$110,2,FALSE))),\"\",VLOOKUP(G21,UvaluesWRF!A$3:B$110,2,FALSE))","v":""},{"$error":"#N/A"},{"$f":"IF(G21=UvaluesWRF!A$2,IF(ISERROR(F21*J21*H21),\"\",F21*J21*H21),IF(ISERROR(F21*J21*I21),\"\",F21*J21*I21))","v":""}]
[null,{"$f":"HLOOKUP($B$1,'Room Inputs'!$D$3:$X$137,B67,0)","v":0},{"$f":"HLOOKUP($B$1,'Room Inputs'!$D$3:$X$137,C67,0)","v":0},{"$f":"HLOOKUP($B$1,'Room Inputs'!$D$3:$X$137,D67,0)","v":0},{"$f":"HLOOKUP($B$1,'Room Inputs'!$D$3:$X$137,E67,0)","v":0},0,{"$f":"HLOOKUP($B$1,'Room Inputs'!$D$3:$X$137,G67,0)","v":0},{"$f":"HLOOKUP($B$1,'Room Inputs'!$D$3:$X$137,H67,0)","v":0},{"$f":"IF(OR(G22=UvaluesWRF!A$2,ISERROR(VLOOKUP(G22,UvaluesWRF!A$3:B$110,2,FALSE))),\"\",VLOOKUP(G22,UvaluesWRF!A$3:B$110,2,FALSE))","v":""},{"$error":"#N/A"},{"$f":"IF(G22=UvaluesWRF!A$2,IF(ISERROR(F22*J22*H22),\"\",F22*J22*H22),IF(ISERROR(F22*J22*I22),\"\",F22*J22*I22))","v":""}]
[null,{"$f":"HLOOKUP($B$1,'Room Inputs'!$D$3:$X$137,B68,0)","v":0},{"$f":"HLOOKUP($B$1,'Room Inputs'!$D$3:$X$137,C68,0)","v":0},{"$f":"HLOOKUP($B$1,'Room Inputs'!$D$3:$X$137,D68,0)","v":0},{"$f":"HLOOKUP($B$1,'Room Inputs'!$D$3:$X$137,E68,0)","v":0},0,{"$f":"HLOOKUP($B$1,'Room Inputs'!$D$3:$X$137,G68,0)","v":0},{"$f":"HLOOKUP($B$1,'Room Inputs'!$D$3:$X$137,H68,0)","v":0},{"$f":"IF(OR(G23=UvaluesWRF!A$2,ISERROR(VLOOKUP(G23,UvaluesWRF!A$3:B$110,2,FALSE))),\"\",VLOOKUP(G23,UvaluesWRF!A$3:B$110,2,FALSE))","v":""},{"$error":"#N/A"},{"$f":"IF(G23=UvaluesWRF!A$2,IF(ISERROR(F23*J23*H23),\"\",F23*J23*H23),IF(ISERROR(F23*J23*I23),\"\",F23*J23*I23))","v":""}]
[null,{"$f":"HLOOKUP($B$1,'Room Inputs'!$D$3:$X$137,B69,0)","v":0},{"$f":"HLOOKUP($B$1,'Room Inputs'!$D$3:$X$137,C69,0)","v":0},{"$f":"HLOOKUP($B$1,'Room Inputs'!$D$3:$X$137,D69,0)","v":0},{"$f":"HLOOKUP($B$1,'Room Inputs'!$D$3:$X$137,E69,0)","v":0},0,{"$f":"HLOOKUP($B$1,'Room Inputs'!$D$3:$X$137,G69,0)","v":0},{"$f":"HLOOKUP($B$1,'Room Inputs'!$D$3:$X$137,H69,0)","v":0},{"$f":"IF(OR(G24=UvaluesWRF!A$2,ISERROR(VLOOKUP(G24,UvaluesWRF!A$3:B$110,2,FALSE))),\"\",VLOOKUP(G24,UvaluesWRF!A$3:B$110,2,FALSE))","v":""},{"$error":"#N/A"},{"$f":"IF(G24=UvaluesWRF!A$2,IF(ISERROR(F24*J24*H24),\"\",F24*J24*H24),IF(ISERROR(F24*J24*I24),\"\",F24*J24*I24))","v":""}]
[null,{"$f":"HLOOKUP($B$1,'Room Inputs'!$D$3:$X$137,B70,0)","v":0},{"$f":"HLOOKUP($B$1,'Room Inputs'!$D$3:$X$137,C70,0)","v":0},{"$f":"HLOOKUP($B$1,'Room Inputs'!$D$3:$X$137,D70,0)","v":0},{"$f":"HLOOKUP($B$1,'Room Inputs'!$D$3:$X$137,E70,0)","v":0},0,{"$f":"HLOOKUP($B$1,'Room Inputs'!$D$3:$X$137,G70,0)","v":0},{"$f":"HLOOKUP($B$1,'Room Inputs'!$D$3:$X$137,H70,0)","v":0},{"$f":"IF(OR(G25=UvaluesWRF!A$2,ISERROR(VLOOKUP(G25,UvaluesWRF!A$3:B$110,2,FALSE))),\"\",VLOOKUP(G25,UvaluesWRF!A$3:B$110,2,FALSE))","v":""},{"$error":"#N/A"},{"$f":"IF(G25=UvaluesWRF!A$2,IF(ISERROR(F25*J25*H25),\"\",F25*J25*H25),IF(ISERROR(F25*J25*I25),\"\",F25*J25*I25))","v":""}]
[null,"Ground floors \nShort length (m)","long length\n(m)","Edges exposed",null,null,"Type and Insulation  thickness",null,null,null,null,null,"U-value","Edge","Insulation","Column",null,1,2,3,4,5.3,5.4,5.5,5.6,6.3,6.4,6.5,6.6]
[null,{"$f":"HLOOKUP($B$1,'Room Inputs'!$D$3:$X$137,B72,0)","v":0},{"$f":"HLOOKUP($B$1,'Room Inputs'!$D$3:$X$137,C72,0)","v":0},{"$f":"HLOOKUP($B$1,'Room Inputs'!$D$3:$X$137,D72,0)","v":0},{"$f":"HLOOKUP($B$1,'Room Inputs'!$D$3:$X$137,E72,0)","v":0},{"$f":"B27*C27","v":0},{"$f":"HLOOKUP($B$1,'Room Inputs'!$D$3:$X$137,G72,0)","v":0},{"$f":"HLOOKUP($B$1,'Room Inputs'!$D$3:$X$137,H72,0)","v":0},{"$f":"IF(OR(G27=UvaluesFlr!$U$3,G27=UvaluesFlr!$U$4,ISERROR(M27)),\"\",M27)","v":""},{"$f":"$K$8-IF(LEFT(G27,2)=\"So\",10,'Site Inputs'!$C$8)","v":{"$error":"#N/A"}},{"$f":"IF(OR(G27=UvaluesFlr!$U$3,G27=UvaluesFlr!$U$4),IF(ISERROR(F27*J27*H27),\"\",F27*J27*H27),IF(ISERROR(F27*J27*I27),\"\",F27*J27*I27))","v":""},null,{"$f":"HLOOKUP(N27+MIN(0.6,IF(N27>4,O27/10,0)),$R$26:$AC$29,2,TRUE)","v":{"$error":"#N/A"}},{"$f":"VLOOKUP(D27,UvaluesFlr!$U$17:$V$22,2,FALSE)","v":{"$error":"#N/A"}},{"$f":"VLOOKUP(G27,UvaluesFlr!$U$3:$W$14,2,FALSE)","v":{"$error":"#N/A"}},{"$f":"VLOOKUP(G27,UvaluesFlr!$U$3:$W$14,3,FALSE)","v":{"$error":"#N/A"}},null,{"$f":"VLOOKUP(C27,UvaluesFlr!$C$53:$P$59,$P27,TRUE)","v":{"$error":"#N/A"}},{"$f":"VLOOKUP(B27,UvaluesFlr!$C$53:$P$59,$P27,TRUE)","v":{"$error":"#N/A"}},{"$f":"VLOOKUP(B27+C27,UvaluesFlr!$C$4:$P$12,$P27,TRUE)","v":{"$error":"#N/A"}},{"$f":"VLOOKUP(B27,UvaluesFlr!$C$16:$P$21,$P27,TRUE)","v":{"$error":"#N/A"}},{"$f":"VLOOKUP($C27,UvaluesFlr!$D$26:$P$29,$P27-1,TRUE)","v":{"$error":"#N/A"}},{"$f":"VLOOKUP($C27,UvaluesFlr!$D$30:$P$31,$P27-1,TRUE)","v":{"$error":"#N/A"}},{"$f":"VLOOKUP($C27,UvaluesFlr!$D$32:$P$33,$P27-1,TRUE)","v":{"$error":"#N/A"}},{"$f":"VLOOKUP($C27,UvaluesFlr!$D$34:$P$35,$P27-1,TRUE)","v":{"$error":"#N/A"}},{"$f":"VLOOKUP($C27,UvaluesFlr!$D$39:$P$42,$P27-1,TRUE)","v":{"$error":"#N/A"}},{"$f":"VLOOKUP($C27,UvaluesFlr!$D$43:$P$45,$P27-1,TRUE)","v":{"$error":"#N/A"}},{"$f":"VLOOKUP($C27,UvaluesFlr!$D$46:$P$48,$P27-1,TRUE)","v":{"$error":"#N/A"}},{"$f":"VLOOKUP($C27,UvaluesFlr!$D$49:$P$50,$P27-1,TRUE)","v":{"$error":"#N/A"}}]
[null,{"$f":"HLOOKUP($B$1,'Room Inputs'!$D$3:$X$137,B73,0)","v":0},{"$f":"HLOOKUP($B$1,'Room Inputs'!$D$3:$X$137,C73,0)","v":0},{"$f":"HLOOKUP($B$1,'Room Inputs'!$D$3:$X$137,D73,0)","v":0},{"$f":"HLOOKUP($B$1,'Room Inputs'!$D$3:$X$137,E73,0)","v":{"$error":"#VALUE!"}},{"$f":"B28*C28","v":0},{"$f":"HLOOKUP($B$1,'Room Inputs'!$D$3:$X$137,G73,0)","v":0},{"$f":"HLOOKUP($B$1,'Room Inputs'!$D$3:$X$137,H73,0)","v":0},{"$f":"IF(OR(G28=UvaluesFlr!$U$3,G28=UvaluesFlr!$U$4,ISERROR(M28)),\"\",M28)","v":""},{"$f":"$K$8-IF(LEFT(G28,2)=\"So\",10,'Site Inputs'!$C$8)","v":{"$error":"#N/A"}},{"$f":"IF(OR(G28=UvaluesFlr!$U$3,G28=UvaluesFlr!$U$4),IF(ISERROR(F28*J28*H28),\"\",F28*J28*H28),IF(ISERROR(F28*J28*I28),\"\",F28*J28*I28))","v":""},null,{"$f":"HLOOKUP(N28+MIN(0.6,IF(N28>4,O28/10,0)),$R$26:$AC$29,3,TRUE)","v":{"$error":"#N/A"}},{"$f":"VLOOKUP(D28,UvaluesFlr!$U$17:$V$22,2,FALSE)","v":{"$error":"#N/A"}},{"$f":"VLOOKUP(G28,UvaluesFlr!$U$3:$W$14,2,FALSE)","v":{"$error":"#N/A"}},{"$f":"VLOOKUP(G28,UvaluesFlr!$U$3:$W$14,3,FALSE)","v":{"$error":"#N/A"}},null,{"$f":"VLOOKUP(C28,UvaluesFlr!$C$53:$P$59,$P28,TRUE)","v":{"$error":"#N/A"}},{"$f":"VLOOKUP(B28,UvaluesFlr!$C$53:$P$59,$P28,TRUE)","v":{"$error":"#N/A"}},{"$f":"VLOOKUP(B28+C28,UvaluesFlr!$C$4:$P$12,$P28,TRUE)","v":{"$error":"#N/A"}},{"$f":"VLOOKUP(B28,UvaluesFlr!$C$16:$P$21,$P28,TRUE)","v":{"$error":"#N/A"}},{"$f":"VLOOKUP($C28,UvaluesFlr!$D$26:$P$29,$P28-1,TRUE)","v":{"$error":"#N/A"}},{"$f":"VLOOKUP($C28,UvaluesFlr!$D$30:$P$31,$P28-1,TRUE)","v":{"$error":"#N/A"}},{"$f":"VLOOKUP($C28,UvaluesFlr!$D$32:$P$33,$P28-1,TRUE)","v":{"$error":"#N/A"}},{"$f":"VLOOKUP($C28,UvaluesFlr!$D$34:$P$35,$P28-1,TRUE)","v":{"$error":"#N/A"}},{"$f":"VLOOKUP($C28,UvaluesFlr!$D$39:$P$42,$P28-1,TRUE)","v":{"$error":"#N/A"}},{"$f":"VLOOKUP($C28,UvaluesFlr!$D$43:$P$45,$P28-1,TRUE)","v":{"$error":"#N/A"}},{"$f":"VLOOKUP($C28,UvaluesFlr!$D$46:$P$48,$P28-1,TRUE)","v":{"$error":"#N/A"}},{"$f":"VLOOKUP($C28,UvaluesFlr!$D$49:$P$50,$P28-1,TRUE)","v":{"$error":"#N/A"}}]
[null,{"$f":"HLOOKUP($B$1,'Room Inputs'!$D$3:$X$137,B74,0)","v":0},{"$f":"HLOOKUP($B$1,'Room Inputs'!$D$3:$X$137,C74,0)","v":0},{"$f":"HLOOKUP($B$1,'Room Inputs'!$D$3:$X$137,D74,0)","v":0},{"$f":"HLOOKUP($B$1,'Room Inputs'!$D$3:$X$137,E74,0)","v":{"$error":"#VALUE!"}},{"$f":"B29*C29","v":0},{"$f":"HLOOKUP($B$1,'Room Inputs'!$D$3:$X$137,G74,0)","v":0},{"$f":"HLOOKUP($B$1,'Room Inputs'!$D$3:$X$137,H74,0)","v":0},{"$f":"IF(OR(G29=UvaluesFlr!$U$3,G29=UvaluesFlr!$U$4,ISERROR(M29)),\"\",M29)","v":""},{"$f":"$K$8-IF(LEFT(G29,2)=\"So\",10,'Site Inputs'!$C$8)","v":{"$error":"#N/A"}},{"$f":"IF(OR(G29=UvaluesFlr!$U$3,G29=UvaluesFlr!$U$4),IF(ISERROR(F29*J29*H29),\"\",F29*J29*H29),IF(ISERROR(F29*J29*I29),\"\",F29*J29*I29))","v":""},null,{"$f":"HLOOKUP(N29+MIN(0.6,IF(N29>4,O29/10,0)),$R$26:$AC$29,4,TRUE)","v":{"$error":"#N/A"}},{"$f":"VLOOKUP(D29,UvaluesFlr!$U$17:$V$22,2,FALSE)","v":{"$error":"#N/A"}},{"$f":"VLOOKUP(G29,UvaluesFlr!$U$3:$W$14,2,FALSE)","v":{"$error":"#N/A"}},{"$f":"VLOOKUP(G29,UvaluesFlr!$U$3:$W$14,3,FALSE)","v":{"$error":"#N/A"}},null,{"$f":"VLOOKUP(C29,UvaluesFlr!$C$53:$P$59,$P29,TRUE)","v":{"$error":"#N/A"}},{"$f":"VLOOKUP(B29,UvaluesFlr!$C$53:$P$59,$P29,TRUE)","v":{"$error":"#N/A"}},{"$f":"VLOOKUP(B29+C29,UvaluesFlr!$C$4:$P$12,$P29,TRUE)","v":{"$error":"#N/A"}},{"$f":"VLOOKUP(B29,UvaluesFlr!$C$16:$P$21,$P29,TRUE)","v":{"$error":"#N/A"}},{"$f":"VLOOKUP($C29,UvaluesFlr!$D$26:$P$29,$P29-1,TRUE)","v":{"$error":"#N/A"}},{"$f":"VLOOKUP($C29,UvaluesFlr!$D$30:$P$31,$P29-1,TRUE)","v":{"$error":"#N/A"}},{"$f":"VLOOKUP($C29,UvaluesFlr!$D$32:$P$33,$P29-1,TRUE)","v":{"$error":"#N/A"}},{"$f":"VLOOKUP($C29,UvaluesFlr!$D$34:$P$35,$P29-1,TRUE)","v":{"$error":"#N/A"}},{"$f":"VLOOKUP($C29,UvaluesFlr!$D$39:$P$42,$P29-1,TRUE)","v":{"$error":"#N/A"}},{"$f":"VLOOKUP($C29,UvaluesFlr!$D$43:$P$45,$P29-1,TRUE)","v":{"$error":"#N/A"}},{"$f":"VLOOKUP($C29,UvaluesFlr!$D$46:$P$48,$P29-1,TRUE)","v":{"$error":"#N/A"}},{"$f":"VLOOKUP($C29,UvaluesFlr!$D$49:$P$50,$P29-1,TRUE)","v":{"$error":"#N/A"}}]
[]
[]
[null,"Windows and doors"]
[null,"Wall or roof with window or door","Window or door height (m)","Window or door width (m)","Area (m²)","Wall/roof U-value (W/m²K)","Frame and glazing type ","Entered U-\u001evalue (W/m²K), if required","U-value","Design temperature difference","Heat loss (W)*"]
[null,{"$f":"HLOOKUP($B$1,'Room Inputs'!$D$3:$X$137,B79,0)","v":0},{"$f":"HLOOKUP($B$1,'Room Inputs'!$D$3:$X$137,C79,0)","v":0},{"$f":"HLOOKUP($B$1,'Room Inputs'!$D$3:$X$137,D79,0)","v":0},{"$f":"C34*D34","v":0},{"$f":"IF(B34<>\"\",IF(VLOOKUP(B34,B$14:I$25,6,FALSE)=UvalueWD!$C$6,VLOOKUP(B34,B$14:I$25,7,FALSE),VLOOKUP(B34,B$14:I$25,8,FALSE)),\"\")","v":""},{"$f":"HLOOKUP($B$1,'Room Inputs'!$D$3:$X$137,G79,0)","v":0},{"$f":"HLOOKUP($B$1,'Room Inputs'!$D$3:$X$137,H79,0)","v":0},{"$f":"IF(OR(G34=UvalueWD!C$6,G34=\"\"),\"\",VLOOKUP(G34,Windows,2,FALSE))","v":{"$error":"#N/A"}},{"$f":"IF(ISERROR(VLOOKUP(B34,B$13:K$29,9,FALSE)),\"\",VLOOKUP(B34,B$13:K$29,9,FALSE))","v":""},{"$f":"IF(G34=UvaluesWRF!A$2,IF(ISERROR(F34*J34*(H34-F34)),\"\",F34*J34*(H34-F34)),IF(ISERROR(F34*J34*(F34-I34)),\"\",(I34-F34)*J34*I34))","v":""}]
[null,{"$f":"HLOOKUP($B$1,'Room Inputs'!$D$3:$X$137,B80,0)","v":0},{"$f":"HLOOKUP($B$1,'Room Inputs'!$D$3:$X$137,C80,0)","v":0},{"$f":"HLOOKUP($B$1,'Room Inputs'!$D$3:$X$137,D80,0)","v":0},0,{"$f":"IF(B35<>\"\",IF(VLOOKUP(B35,B$14:I$25,6,FALSE)=UvalueWD!$C$6,VLOOKUP(B35,B$14:I$25,7,FALSE),VLOOKUP(B35,B$14:I$25,8,FALSE)),\"\")","v":""},{"$f":"HLOOKUP($B$1,'Room Inputs'!$D$3:$X$137,G80,0)","v":0},{"$f":"HLOOKUP($B$1,'Room Inputs'!$D$3:$X$137,H80,0)","v":0},{"$f":"IF(OR(G35=UvalueWD!C$6,G35=\"\"),\"\",VLOOKUP(G35,Windows,2,FALSE))","v":{"$error":"#N/A"}},"",{"$f":"IF(G35=UvaluesWRF!A$2,IF(ISERROR(F35*J35*(H35-F35)),\"\",F35*J35*(H35-F35)),IF(ISERROR(F35*J35*(F35-I35)),\"\",(I35-F35)*J35*I35))","v":""}]
[null,{"$f":"HLOOKUP($B$1,'Room Inputs'!$D$3:$X$137,B81,0)","v":0},{"$f":"HLOOKUP($B$1,'Room Inputs'!$D$3:$X$137,C81,0)","v":0},{"$f":"HLOOKUP($B$1,'Room Inputs'!$D$3:$X$137,D81,0)","v":0},0,{"$f":"IF(B36<>\"\",IF(VLOOKUP(B36,B$14:I$25,6,FALSE)=UvalueWD!$C$6,VLOOKUP(B36,B$14:I$25,7,FALSE),VLOOKUP(B36,B$14:I$25,8,FALSE)),\"\")","v":""},{"$f":"HLOOKUP($B$1,'Room Inputs'!$D$3:$X$137,G81,0)","v":0},{"$f":"HLOOKUP($B$1,'Room Inputs'!$D$3:$X$137,H81,0)","v":0},{"$f":"IF(OR(G36=UvalueWD!C$6,G36=\"\"),\"\",VLOOKUP(G36,Windows,2,FALSE))","v":{"$error":"#N/A"}},"",{"$f":"IF(G36=UvaluesWRF!A$2,IF(ISERROR(F36*J36*(H36-F36)),\"\",F36*J36*(H36-F36)),IF(ISERROR(F36*J36*(F36-I36)),\"\",(I36-F36)*J36*I36))","v":""}]
[null,{"$f":"HLOOKUP($B$1,'Room Inputs'!$D$3:$X$137,B82,0)","v":0},{"$f":"HLOOKUP($B$1,'Room Inputs'!$D$3:$X$137,C82,0)","v":0},{"$f":"HLOOKUP($B$1,'Room Inputs'!$D$3:$X$137,D82,0)","v":0},0,{"$f":"IF(B37<>\"\",IF(VLOOKUP(B37,B$14:I$25,6,FALSE)=UvalueWD!$C$6,VLOOKUP(B37,B$14:I$25,7,FALSE),VLOOKUP(B37,B$14:I$25,8,FALSE)),\"\")","v":""},{"$f":"HLOOKUP($B$1,'Room Inputs'!$D$3:$X$137,G82,0)","v":0},{"$f":"HLOOKUP($B$1,'Room Inputs'!$D$3:$X$137,H82,0)","v":0},{"$f":"IF(OR(G37=UvalueWD!C$6,G37=\"\"),\"\",VLOOKUP(G37,Windows,2,FALSE))","v":{"$error":"#N/A"}},"",{"$f":"IF(G37=UvaluesWRF!A$2,IF(ISERROR(F37*J37*(H37-F37)),\"\",F37*J37*(H37-F37)),IF(ISERROR(F37*J37*(F37-I37)),\"\",(I37-F37)*J37*I37))","v":""}]
[null,{"$f":"HLOOKUP($B$1,'Room Inputs'!$D$3:$X$137,B83,0)","v":0},{"$f":"HLOOKUP($B$1,'Room Inputs'!$D$3:$X$137,C83,0)","v":0},{"$f":"HLOOKUP($B$1,'Room Inputs'!$D$3:$X$137,D83,0)","v":0},0,{"$f":"IF(B38<>\"\",IF(VLOOKUP(B38,B$14:I$25,6,FALSE)=UvalueWD!$C$6,VLOOKUP(B38,B$14:I$25,7,FALSE),VLOOKUP(B38,B$14:I$25,8,FALSE)),\"\")","v":""},{"$f":"HLOOKUP($B$1,'Room Inputs'!$D$3:$X$137,G83,0)","v":0},{"$f":"HLOOKUP($B$1,'Room Inputs'!$D$3:$X$137,H83,0)","v":0},{"$f":"IF(OR(G38=UvalueWD!C$6,G38=\"\"),\"\",VLOOKUP(G38,Windows,2,FALSE))","v":{"$error":"#N/A"}},"",{"$f":"IF(G38=UvaluesWRF!A$2,IF(ISERROR(F38*J38*(H38-F38)),\"\",F38*J38*(H38-F38)),IF(ISERROR(F38*J38*(F38-I38)),\"\",(I38-F38)*J38*I38))","v":""}]
[null,{"$f":"HLOOKUP($B$1,'Room Inputs'!$D$3:$X$137,B84,0)","v":0},{"$f":"HLOOKUP($B$1,'Room Inputs'!$D$3:$X$137,C84,0)","v":0},{"$f":"HLOOKUP($B$1,'Room Inputs'!$D$3:$X$137,D84,0)","v":0},0,{"$f":"IF(B39<>\"\",IF(VLOOKUP(B39,B$14:I$25,6,FALSE)=UvalueWD!$C$6,VLOOKUP(B39,B$14:I$25,7,FALSE),VLOOKUP(B39,B$14:I$25,8,FALSE)),\"\")","v":""},{"$f":"HLOOKUP($B$1,'Room Inputs'!$D$3:$X$137,G84,0)","v":0},{"$f":"HLOOKUP($B$1,'Room Inputs'!$D$3:$X$137,H84,0)","v":0},{"$f":"IF(OR(G39=UvalueWD!C$6,G39=\"\"),\"\",VLOOKUP(G39,Windows,2,FALSE))","v":{"$error":"#N/A"}},"",{"$f":"IF(G39=UvaluesWRF!A$2,IF(ISERROR(F39*J39*(H39-F39)),\"\",F39*J39*(H39-F39)),IF(ISERROR(F39*J39*(F39-I39)),\"\",(I39-F39)*J39*I39))","v":""}]
[]
[null,"* this is net heat loss (i.e. the heat loss of the window minus that of a wall of the same area) and so can be negative.  This is done so that the area of the window or door does not have to be subtracted from the wall area.  "]
[null,null,null,null,null,null,null,null,"Room heat loss (W)",null,{"$f":"SUM(K10:K39)","v":0}]
[]
[]
[]
[null,"Row number lookup map"]
[]
[null,"Room name",2,null,"Emitter type",3,"For convectors consult the manufacturer's data and enter the temperature factor (FTEMP) for the appropriate fan speed",4,"For radiators enter the n-coefficient (exponent) from manufacturer's data.  If unknown 1.3 may be used",null,5]
[]
[null,"Enter floor type and construction",6,null,"Enter floor type and construction",7,"For UFH enter Tog value (See Table 14)",8,"For UFH enter  active or exposed area of the heated floor ",null,9]
[]
[null,"Enter Room type below",null,null," Enter Open fire/chimney details below "]
[null,10,null,null,11]
[null,"Room Dimensions"]
[null,"Length (m)",null,"Width (m)",null,"Height (m)"]
[null,13,null,14,null,15]
[null,"Walls, floors not ground floors and ceiling"]
[null,"Name of wall, floor, ceiling","Space on other side","Height or length (m)","Width (m)",null,"Construction","Entered U-\u001evalue (W/m²K), if required"]
[null,16,17,18,19,null,20,21]
[null,22,23,24,25,null,26,27]
[null,28,29,30,31,null,32,33]
[null,35,36,37,38,null,39,40]
[null,41,42,43,44,null,45,46]
[null,47,48,49,50,null,51,52]
[null,53,54,55,56,null,57,58]
[null,59,60,61,62,null,63,64]
[null,65,66,67,68,null,69,70]
[null,71,72,73,74,null,75,76]
[null,77,78,79,80,null,81,82]
[null,83,84,85,86,null,87,88]
[null,"Ground floors \nShort length (m)","long length\n(m)","Edges exposed",null,null,"Type and Insulation  thickness"]
[null,89,90,91,92,null,92,93]
[null,95,96,97,null,null,98,99]
[null,100,101,102,null,null,103,104]
[]
[]
[null,"Windows and doors"]
[null,"Wall or roof with window or door","Window or door height (m)","Window or door width (m)","Area (m²)","Wall/roof U-value (W/m²K)","Frame and glazing type ","Entered U-\u001evalue (W/m²K), if required"]
[null,105,106,107,null,null,108,109]
[null,111,112,113,null,null,114,115]
[null,116,117,118,null,null,119,120]
[null,121,122,123,null,null,124,125]
[null,126,127,128,null,null,129,130]
[null,131,132,133,null,null,134,135]

{"sheet":"5","index":10,"n_rows":84,"n_cols":29,"rows_kept":84,"cut":false,"hidden":true,"merged":[[40,1,40,7],[41,8,41,9],[7,7,7,8],[4,8,4,9],[6,1,6,2],[6,4,6,5],[6,7,6,8],[52,7,52,8],[47,8,47,9],[49,2,49,3],[49,8,49,9],[51,1,51,2],[51,4,51,5],[51,7,51,8],[72,3,72,4],[73,3,73,4],[71,3,71,4],[52,1,52,2],[52,4,52,5]]}
[null,{"$f":"'Room Inputs'!H3","v":"Room5"}]
[]
[null,"Room name",{"$f":"HLOOKUP($B$1,'Room Inputs'!$D$3:$X$137,C48,0)","v":0},null,"Emitter type",{"$f":"HLOOKUP($B$1,'Room Inputs'!$D$3:$X$137,F48,0)","v":0},"For convectors consult the manufacturer's data and enter the temperature factor (FTEMP) for the appropriate fan speed",{"$f":"HLOOKUP($B$1,'Room Inputs'!$D$3:$X$137,H48,0)","v":0.85},"For radiators enter the n-coefficient (exponent) from manufacturer's data.  If unknown 1.3 may be used",null,{"$f":"HLOOKUP($B$1,'Room Inputs'!$D$3:$X$137,K48,0)","v":1.3}]
[]
[null,"Enter floor type and construction",{"$f":"HLOOKUP($B$1,'Room Inputs'!$D$3:$X$137,C50,0)","v":0},null,"Enter floor type and construction",{"$f":"HLOOKUP($B$1,'Room Inputs'!$D$3:$X$137,F50,0)","v":0},"For UFH enter Tog value (See Table 14)",{"$f":"HLOOKUP($B$1,'Room Inputs'!$D$3:$X$137,H50,0)","v":0.25},"For UFH enter  active or exposed area of the heated floor ",null,{"$f":"HLOOKUP($B$1,'Room Inputs'!$D$3:$X$137,K50,0)","v":0}]
[]
[null,"Enter Room type below",null,null," Enter Open fire/chimney details below ",null,null,"Design room ventilation rate (air changes per hour)",null,null,"Design room temperature °C"]
[null,{"$f":"HLOOKUP($B$1,'Room Inputs'!$D$3:$X$137,B53,0)","v":0},null,null,{"$f":"HLOOKUP($B$1,'Room Inputs'!$D$3:$X$137,E53,0)","v":0},null,null,{"$f":"IF(E8=VTables!B20,VLOOKUP(B8,DRVT,3,FALSE),MAX(VLOOKUP(B8,DRVT,3,FALSE),VLOOKUP(E8,ARVR,2,FALSE)))","v":{"$error":"#N/A"}},null,null,{"$f":"VLOOKUP(B8,DRVT,2,FALSE)","v":{"$error":"#N/A"}}]
[null,"Room Dimensions"]
[null,"Length (m)",null,"Width (m)",null,"Height (m)","Room volume (m³) ",null,null,"Design temperature difference","Heat loss (W)"]
[null,{"$f":"HLOOKUP($B$1,'Room Inputs'!$D$3:$X$137,B56,0)","v":0},null,{"$f":"HLOOKUP($B$1,'Room Inputs'!$D$3:$X$137,D56,0)","v":0},null,{"$f":"HLOOKUP($B$1,'Room Inputs'!$D$3:$X$137,F56,0)","v":0},{"$f":"B11*D11*F11","v":0},null,null,{"$f":"K8-'Site Inputs'!C8","v":{"$error":"#N/A"}},{"$f":"IF(G11>0,(ROUND(0.33*G11*H8*J11,2)),\"\")","v":""}]
[null,"Walls, floors not ground floors and ceiling"]
[null,"Name of wall, floor, ceiling","Space on other side","Height or length (m)","Width (m)","Area (m²)","Construction","Entered U-\u001evalue (W/m²K), if required","U-value (W/m²K)","Design temperature difference","Heat loss (W)",null,"`"]
[null,{"$f":"HLOOKUP($B$1,'Room Inputs'!$D$3:$X$137,B59,0)","v":0},{"$f":"HLOOKUP($B$1,'Room Inputs'!$D$3:$X$137,C59,0)","v":0},{"$f":"HLOOKUP($B$1,'Room Inputs'!$D$3:$X$137,D59,0)","v":0},{"$f":"HLOOKUP($B$1,'Room Inputs'!$D$3:$X$137,E59,0)","v":0},{"$f":"D14*E14","v":0},{"$f":"HLOOKUP($B$1,'Room Inputs'!$D$3:$X$137,G59,0)","v":0},{"$f":"HLOOKUP($B$1,'Room Inputs'!$D$3:$X$137,H59,0)","v":0},{"$f":"IF(OR(G14=UvaluesWRF!A$2,ISERROR(VLOOKUP(G14,UvaluesWRF!A$3:B$110,2,FALSE))),\"\",VLOOKUP(G14,UvaluesWRF!A$3:B$110,2,FALSE))","v":""},{"$f":"IF(C14=\"\",\"\",$K$8-VLOOKUP(C14,DRVT,2,FALSE))","v":{"$error":"#N/A"}},{"$f":"IF(G14=UvaluesWRF!A$2,IF(ISERROR(F14*J14*H14),\"\",F14*J14*H14),IF(ISERROR(F14*J14*I14),\"\",F14*J14*I14))","v":""}]
[null,{"$f":"HLOOKUP($B$1,'Room Inputs'!$D$3:$X$137,B60,0)","v":0},{"$f":"HLOOKUP($B$1,'Room Inputs'!$D$3:$X$137,C60,0)","v":0},{"$f":"HLOOKUP($B$1,'Room Inputs'!$D$3:$X$137,D60,0)","v":0},{"$f":"HLOOKUP($B$1,'Room Inputs'!$D$3:$X$137,E60,0)","v":0},{"$f":"D15*E15","v":0},{"$f":"HLOOKUP($B$1,'Room Inputs'!$D$3:$X$137,G60,0)","v":0},{"$f":"HLOOKUP($B$1,'Room Inputs'!$D$3:$X$137,H60,0)","v":0},{"$f":"IF(OR(G15=UvaluesWRF!A$2,ISERROR(VLOOKUP(G15,UvaluesWRF!A$3:B$110,2,FALSE))),\"\",VLOOKUP(G15,UvaluesWRF!A$3:B$110,2,FALSE))","v":""},{"$error":"#N/A"},{"$f":"IF(G15=UvaluesWRF!A$2,IF(ISERROR(F15*J15*H15),\"\",F15*J15*H15),IF(ISERROR(F15*J15*I15),\"\",F15*J15*I15))","v":""}]
[null,{"$f":"HLOOKUP($B$1,'Room Inputs'!$D$3:$X$137,B61,0)","v":0},{"$f":"HLOOKUP($B$1,'Room Inputs'!$D$3:$X$137,C61,0)","v":0},{"$f":"HLOOKUP($B$1,'Room Inputs'!$D$3:$X$137,D61,0)","v":0},{"$f":"HLOOKUP($B$1,'Room Inputs'!$D$3:$X$137,E61,0)","v":0},0,{"$f":"HLOOKUP($B$1,'Room Inputs'!$D$3:$X$137,G61,0)","v":0},{"$f":"HLOOKUP($B$1,'Room Inputs'!$D$3:$X$137,H61,0)","v":0},{"$f":"IF(OR(G16=UvaluesWRF!A$2,ISERROR(VLOOKUP(G16,UvaluesWRF!A$3:B$110,2,FALSE))),\"\",VLOOKUP(G16,UvaluesWRF!A$3:B$110,2,FALSE))","v":""},{"$error":"#N/A"},{"$f":"IF(G16=UvaluesWRF!A$2,IF(ISERROR(F16*J16*H16),\"\",F16*J16*H16),IF(ISERROR(F16*J16*I16),\"\",F16*J16*I16))","v":""}]
[null,{"$f":"HLOOKUP($B$1,'Room Inputs'!$D$3:$X$137,B62,0)","v":0},{"$f":"HLOOKUP($B$1,'Room Inputs'!$D$3:$X$137,C62,0)","v":0},{"$f":"HLOOKUP($B$1,'Room Inputs'!$D$3:$X$137,D62,0)","v":0},{"$f":"HLOOKUP($B$1,'Room Inputs'!$D$3:$X$137,E62,0)","v":0},0,{"$f":"HLOOKUP($B$1,'Room Inputs'!$D$3:$X$137,G62,0)","v":0},{"$f":"HLOOKUP($B$1,'Room Inputs'!$D$3:$X$137,H62,0)","v":0},{"$f":"IF(OR(G17=UvaluesWRF!A$2,ISERROR(VLOOKUP(G17,UvaluesWRF!A$3:B$110,2,FALSE))),\"\",VLOOKUP(G17,UvaluesWRF!A$3:B$110,2,FALSE))","v":""},{"$error":"#N/A"},{"$f":"IF(G17=UvaluesWRF!A$2,IF(ISERROR(F17*J17*H17),\"\",F17*J17*H17),IF(ISERROR(F17*J17*I17),\"\",F17*J17*I17))","v":""}]
[null,{"$f":"HLOOKUP($B$1,'Room Inputs'!$D$3:$X$137,B63,0)","v":0},{"$f":"HLOOKUP($B$1,'Room Inputs'!$D$3:$X$137,C63,0)","v":0},{"$f":"HLOOKUP($B$1,'Room Inputs'!$D$3:$X$137,D63,0)","v":0},{"$f":"HLOOKUP($B$1,'Room Inputs'!$D$3:$X$137,E63,0)","v":0},0,{"$f":"HLOOKUP($B$1,'Room Inputs'!$D$3:$X$137,G63,0)","v":0},{"$f":"HLOOKUP($B$1,'Room Inputs'!$D$3:$X$137,H63,0)","v":0},{"$f":"IF(OR(G18=UvaluesWRF!A$2,ISERROR(VLOOKUP(G18,UvaluesWRF!A$3:B$110,2,FALSE))),\"\",VLOOKUP(G18,UvaluesWRF!A$3:B$110,2,FALSE))","v":""},{"$error":"#N/A"},{"$f":"IF(G18=UvaluesWRF!A$2,IF(ISERROR(F18*J18*H18),\"\",F18*J18*H18),IF(ISERROR(F18*J18*I18),\"\",F18*J18*I18))","v":""}]
[null,{"$f":"HLOOKUP($B$1,'Room Inputs'!$D$3:$X$137,B64,0)","v":0},{"$f":"HLOOKUP($B$1,'Room Inputs'!$D$3:$X$137,C64,0)","v":0},{"$f":"HLOOKUP($B$1,'Room Inputs'!$D$3:$X$137,D64,0)","v":0},{"$f":"HLOOKUP($B$1,'Room Inputs'!$D$3:$X$137,E64,0)","v":0},0,{"$f":"HLOOKUP($B$1,'Room Inputs'!$D$3:$X$137,G64,0)","v":0},{"$f":"HLOOKUP($B$1,'Room Inputs'!$D$3:$X$137,H64,0)","v":0},{"$f":"IF(OR(G19=UvaluesWRF!A$2,ISERROR(VLOOKUP(G19,UvaluesWRF!A$3:B$110,2,FALSE))),\"\",VLOOKUP(G19,UvaluesWRF!A$3:B$110,2,FALSE))","v":""},{"$error":"#N/A"},{"$f":"IF(G19=UvaluesWRF!A$2,IF(ISERROR(F19*J19*H19),\"\",F19*J19*H19),IF(ISERROR(F19*J19*I19),\"\",F19*J19*I19))","v":""}]
[null,{"$f":"HLOOKUP($B$1,'Room Inputs'!$D$3:$X$137,B65,0)","v":0},{"$f":"HLOOKUP($B$1,'Room Inputs'!$D$3:$X$137,C65,0)","v":0},{"$f":"HLOOKUP($B$1,'Room Inputs'!$D$3:$X$137,D65,0)","v":0},{"$f":"HLOOKUP($B$1,'Room Inputs'!$D$3:$X$137,E65,0)","v":0},0,{"$f":"HLOOKUP($B$1,'Room Inputs'!$D$3:$X$137,G65,0)","v":0},{"$f":"HLOOKUP($B$1,'Room Inputs'!$D$3:$X$137,H65,0)","v":0},{"$f":"IF(OR(G20=UvaluesWRF!A$2,ISERROR(VLOOKUP(G20,UvaluesWRF!A$3:B$110,2,FALSE))),\"\",VLOOKUP(G20,UvaluesWRF!A$3:B$110,2,FALSE))","v":""},{"$error":"#N/A"},{"$f":"IF(G20=UvaluesWRF!A$2,IF(ISERROR(F20*J20*H20),\"\",F20*J20*H20),IF(ISERROR(F20*J20*I20),\"\",F20*J20*I20))","v":""}]
[null,{"$f":"HLOOKUP($B$1,'Room Inputs'!$D$3:$X$137,B66,0)","v":0},{"$f":"HLOOKUP($B$1,'Room Inputs'!$D$3:$X$137,C66,0)","v":0},{"$f":"HLOOKUP($B$1,'Room Inputs'!$D$3:$X$137,D66,0)","v":0},{"$f":"HLOOKUP($B$1,'Room Inputs'!$D$3:$X$137,E66,0)","v":0},0,{"$f":"HLOOKUP($B$1,'Room Inputs'!$D$3:$X$137,G66,0)","v":0},{"$f":"HLOOKUP($B$1,'Room Inputs'!$D$3:$X$137,H66,0)","v":0},{"$f":"IF(OR(G21=UvaluesWRF!A$2,ISERROR(VLOOKUP(G21,UvaluesWRF!A$3:B$110,2,FALSE))),\"\",VLOOKUP(G21,UvaluesWRF!A$3:B$110,2,FALSE))","v":""},{"$error":"#N/A"},{"$f":"IF(G21=UvaluesWRF!A$2,IF(ISERROR(F21*J21*H21),\"\",F21*J21*H21),IF(ISERROR(F21*J21*I21),\"\",F21*J21*I21))","v":""}]
[null,{"$f":"HLOOKUP($B$1,'Room Inputs'!$D$3:$X$137,B67,0)","v":0},{"$f":"HLOOKUP($B$1,'Room Inputs'!$D$3:$X$137,C67,0)","v":0},{"$f":"HLOOKUP($B$1,'Room Inputs'!$D$3:$X$137,D67,0)","v":0},{"$f":"HLOOKUP($B$1,'Room Inputs'!$D$3:$X$137,E67,0)","v":0},0,{"$f":"HLOOKUP($B$1,'Room Inputs'!$D$3:$X$137,G67,0)","v":0},{"$f":"HLOOKUP($B$1,'Room Inputs'!$D$3:$X$137,H67,0)","v":0},{"$f":"IF(OR(G22=UvaluesWRF!A$2,ISERROR(VLOOKUP(G22,UvaluesWRF!A$3:B$110,2,FALSE))),\"\",VLOOKUP(G22,UvaluesWRF!A$3:B$110,2,FALSE))","v":""},{"$error":"#N/A"},{"$f":"IF(G22=UvaluesWRF!A$2,IF(ISERROR(F22*J22*H22),\"\",F22*J22*H22),IF(ISERROR(F22*J22*I22),\"\",F22*J22*I22))","v":""}]
[null,{"$f":"HLOOKUP($B$1,'Room Inputs'!$D$3:$X$137,B68,0)","v":0},{"$f":"HLOOKUP($B$1,'Room Inputs'!$D$3:$X$137,C68,0)","v":0},{"$f":"HLOOKUP($B$1,'Room Inputs'!$D$3:$X$137,D68,0)","v":0},{"$f":"HLOOKUP($B$1,'Room Inputs'!$D$3:$X$137,E68,0)","v":0},0,{"$f":"HLOOKUP($B$1,'Room Inputs'!$D$3:$X$137,G68,0)","v":0},{"$f":"HLOOKUP($B$1,'Room Inputs'!$D$3:$X$137,H68,0)","v":0},{"$f":"IF(OR(G23=UvaluesWRF!A$2,ISERROR(VLOOKUP(G23,UvaluesWRF!A$3:B$110,2,FALSE))),\"\",VLOOKUP(G23,UvaluesWRF!A$3:B$110,2,FALSE))","v":""},{"$error":"#N/A"},{"$f":"IF(G23=UvaluesWRF!A$2,IF(ISERROR(F23*J23*H23),\"\",F23*J23*H23),IF(ISERROR(F23*J23*I23),\"\",F23*J23*I23))","v":""}]
[null,{"$f":"HLOOKUP($B$1,'Room Inputs'!$D$3:$X$137,B69,0)","v":0},{"$f":"HLOOKUP($B$1,'Room Inputs'!$D$3:$X$137,C69,0)","v":0},{"$f":"HLOOKUP($B$1,'Room Inputs'!$D$3:$X$137,D69,0)","v":0},{"$f":"HLOOKUP($B$1,'Room Inputs'!$D$3:$X$137,E69,0)","v":0},0,{"$f":"HLOOKUP($B$1,'Room Inputs'!$D$3:$X$137,G69,0)","v":0},{"$f":"HLOOKUP($B$1,'Room Inputs'!$D$3:$X$137,H69,0)","v":0},{"$f":"IF(OR(G24=UvaluesWRF!A$2,ISERROR(VLOOKUP(G24,UvaluesWRF!A$3:B$110,2,FALSE))),\"\",VLOOKUP(G24,UvaluesWRF!A$3:B$110,2,FALSE))","v":""},{"$error":"#N/A"},{"$f":"IF(G24=UvaluesWRF!A$2,IF(ISERROR(F24*J24*H24),\"\",F24*J24*H24),IF(ISERROR(F24*J24*I24),\"\",F24*J24*I24))","v":""}]
[null,{"$f":"HLOOKUP($B$1,'Room Inputs'!$D$3:$X$137,B70,0)","v":0},{"$f":"HLOOKUP($B$1,'Room Inputs'!$D$3:$X$137,C70,0)","v":0},{"$f":"HLOOKUP($B$1,'Room Inputs'!$D$3:$X$137,D70,0)","v":0},{"$f":"HLOOKUP($B$1,'Room Inputs'!$D$3:$X$137,E70,0)","v":0},0,{"$f":"HLOOKUP($B$1,'Room Inputs'!$D$3:$X$137,G70,0)","v":0},{"$f":"HLOOKUP($B$1,'Room Inputs'!$D$3:$X$137,H70,0)","v":0},{"$f":"IF(OR(G25=UvaluesWRF!A$2,ISERROR(VLOOKUP(G25,UvaluesWRF!A$3:B$110,2,FALSE))),\"\",VLOOKUP(G25,UvaluesWRF!A$3:B$110,2,FALSE))","v":""},{"$error":"#N/A"},{"$f":"IF(G25=UvaluesWRF!A$2,IF(ISERROR(F25*J25*H25),\"\",F25*J25*H25),IF(ISERROR(F25*J25*I25),\"\",F25*J25*I25))","v":""}]
[null,"Ground floors \nShort length (m)","long length\n(m)","Edges exposed",null,null,"Type and Insulation  thickness",null,null,null,null,null,"U-value","Edge","Insulation","Column",null,1,2,3,4,5.3,5.4,5.5,5.6,6.3,6.4,6.5,6.6]
[null,{"$f":"HLOOKUP($B$1,'Room Inputs'!$D$3:$X$137,B72,0)","v":0},{"$f":"HLOOKUP($B$1,'Room Inputs'!$D$3:$X$137,C72,0)","v":0},{"$f":"HLOOKUP($B$1,'Room Inputs'!$D$3:$X$137,D72,0)","v":0},{"$f":"HLOOKUP($B$1,'Room Inputs'!$D$3:$X$137,E72,0)","v":0},{"$f":"B27*C27","v":0},{"$f":"HLOOKUP($B$1,'Room Inputs'!$D$3:$X$137,G72,0)","v":0},{"$f":"HLOOKUP($B$1,'Room Inputs'!$D$3:$X$137,H72,0)","v":0},{"$f":"IF(OR(G27=UvaluesFlr!$U$3,G27=UvaluesFlr!$U$4,ISERROR(M27)),\"\",M27)","v":""},{"$f":"$K$8-IF(LEFT(G27,2)=\"So\",10,'Site Inputs'!$C$8)","v":{"$error":"#N/A"}},{"$f":"IF(OR(G27=UvaluesFlr!$U$3,G27=UvaluesFlr!$U$4),IF(ISERROR(F27*J27*H27),\"\",F27*J27*H27),IF(ISERROR(F27*J27*I27),\"\",F27*J27*I27))","v":""},null,{"$f":"HLOOKUP(N27+MIN(0.6,IF(N27>4,O27/10,0)),$R$26:$AC$29,2,TRUE)","v":{"$error":"#N/A"}},{"$f":"VLOOKUP(D27,UvaluesFlr!$U$17:$V$22,2,FALSE)","v":{"$error":"#N/A"}},{"$f":"VLOOKUP(G27,UvaluesFlr!$U$3:$W$14,2,FALSE)","v":{"$error":"#N/A"}},{"$f":"VLOOKUP(G27,UvaluesFlr!$U$3:$W$14,3,FALSE)","v":{"$error":"#N/A"}},null,{"$f":"VLOOKUP(C27,UvaluesFlr!$C$53:$P$59,$P27,TRUE)","v":{"$error":"#N/A"}},{"$f":"VLOOKUP(B27,UvaluesFlr!$C$53:$P$59,$P27,TRUE)","v":{"$error":"#N/A"}},{"$f":"VLOOKUP(B27+C27,UvaluesFlr!$C$4:$P$12,$P27,TRUE)","v":{"$error":"#N/A"}},{"$f":"VLOOKUP(B27,UvaluesFlr!$C$16:$P$21,$P27,TRUE)","v":{"$error":"#N/A"}},{"$f":"VLOOKUP($C27,UvaluesFlr!$D$26:$P$29,$P27-1,TRUE)","v":{"$error":"#N/A"}},{"$f":"VLOOKUP($C27,UvaluesFlr!$D$30:$P$31,$P27-1,TRUE)","v":{"$error":"#N/A"}},{"$f":"VLOOKUP($C27,UvaluesFlr!$D$32:$P$33,$P27-1,TRUE)","v":{"$error":"#N/A"}},{"$f":"VLOOKUP($C27,UvaluesFlr!$D$34:$P$35,$P27-1,TRUE)","v":{"$error":"#N/A"}},{"$f":"VLOOKUP($C27,UvaluesFlr!$D$39:$P$42,$P27-1,TRUE)","v":{"$error":"#N/A"}},{"$f":"VLOOKUP($C27,UvaluesFlr!$D$43:$P$45,$P27-1,TRUE)","v":{"$error":"#N/A"}},{"$f":"VLOOKUP($C27,UvaluesFlr!$D$46:$P$48,$P27-1,TRUE)","v":{"$error":"#N/A"}},{"$f":"VLOOKUP($C27,UvaluesFlr!$D$49:$P$50,$P27-1,TRUE)","v":{"$error":"#N/A"}}]
[null,{"$f":"HLOOKUP($B$1,'Room Inputs'!$D$3:$X$137,B73,0)","v":0},{"$f":"HLOOKUP($B$1,'Room Inputs'!$D$3:$X$137,C73,0)","v":0},{"$f":"HLOOKUP($B$1,'Room Inputs'!$D$3:$X$137,D73,0)","v":0},{"$f":"HLOOKUP($B$1,'Room Inputs'!$D$3:$X$137,E73,0)","v":{"$error":"#VALUE!"}},{"$f":"B28*C28","v":0},{"$f":"HLOOKUP($B$1,'Room Inputs'!$D$3:$X$137,G73,0)","v":0},{"$f":"HLOOKUP($B$1,'Room Inputs'!$D$3:$X$137,H73,0)","v":0},{"$f":"IF(OR(G28=UvaluesFlr!$U$3,G28=UvaluesFlr!$U$4,ISERROR(M28)),\"\",M28)","v":""},{"$f":"$K$8-IF(LEFT(G28,2)=\"So\",10,'Site Inputs'!$C$8)","v":{"$error":"#N/A"}},{"$f":"IF(OR(G28=UvaluesFlr!$U$3,G28=UvaluesFlr!$U$4),IF(ISERROR(F28*J28*H28),\"\",F28*J28*H28),IF(ISERROR(F28*J28*I28),\"\",F28*J28*I28))","v":""},null,{"$f":"HLOOKUP(N28+MIN(0.6,IF(N28>4,O28/10,0)),$R$26:$AC$29,3,TRUE)","v":{"$error":"#N/A"}},{"$f":"VLOOKUP(D28,UvaluesFlr!$U$17:$V$22,2,FALSE)","v":{"$error":"#N/A"}},{"$f":"VLOOKUP(G28,UvaluesFlr!$U$3:$W$14,2,FALSE)","v":{"$error":"#N/A"}},{"$f":"VLOOKUP(G28,UvaluesFlr!$U$3:$W$14,3,FALSE)","v":{"$error":"#N/A"}},null,{"$f":"VLOOKUP(C28,UvaluesFlr!$C$53:$P$59,$P28,TRUE)","v":{"$error":"#N/A"}},{"$f":"VLOOKUP(B28,UvaluesFlr!$C$53:$P$59,$P28,TRUE)","v":{"$error":"#N/A"}},{"$f":"VLOOKUP(B28+C28,UvaluesFlr!$C$4:$P$12,$P28,TRUE)","v":{"$error":"#N/A"}},{"$f":"VLOOKUP(B28,UvaluesFlr!$C$16:$P$21,$P28,TRUE)","v":{"$error":"#N/A"}},{"$f":"VLOOKUP($C28,UvaluesFlr!$D$26:$P$29,$P28-1,TRUE)","v":{"$error":"#N/A"}},{"$f":"VLOOKUP($C28,UvaluesFlr!$D$30:$P$31,$P28-1,TRUE)","v":{"$error":"#N/A"}},{"$f":"VLOOKUP($C28,UvaluesFlr!$D$32:$P$33,$P28-1,TRUE)","v":{"$error":"#N/A"}},{"$f":"VLOOKUP($C28,UvaluesFlr!$D$34:$P$35,$P28-1,TRUE)","v":{"$error":"#N/A"}},{"$f":"VLOOKUP($C28,UvaluesFlr!$D$39:$P$42,$P28-1,TRUE)","v":{"$error":"#N/A"}},{"$f":"VLOOKUP($C28,UvaluesFlr!$D$43:$P$45,$P28-1,TRUE)","v":{"$error":"#N/A"}},{"$f":"VLOOKUP($C28,UvaluesFlr!$D$46:$P$48,$P28-1,TRUE)","v":{"$error":"#N/A"}},{"$f":"VLOOKUP($C28,UvaluesFlr!$D$49:$P$50,$P28-1,TRUE)","v":{"$error":"#N/A"}}]
[null,{"$f":"HLOOKUP($B$1,'Room Inputs'!$D$3:$X$137,B74,0)","v":0},{"$f":"HLOOKUP($B$1,'Room Inputs'!$D$3:$X$137,C74,0)","v":0},{"$f":"HLOOKUP($B$1,'Room Inputs'!$D$3:$X$137,D74,0)","v":0},{"$f":"HLOOKUP($B$1,'Room Inputs'!$D$3:$X$137,E74,0)","v":{"$error":"#VALUE!"}},{"$f":"B29*C29","v":0},{"$f":"HLOOKUP($B$1,'Room Inputs'!$D$3:$X$137,G74,0)","v":0},{"$f":"HLOOKUP($B$1,'Room Inputs'!$D$3:$X$137,H74,0)","v":0},{"$f":"IF(OR(G29=UvaluesFlr!$U$3,G29=UvaluesFlr!$U$4,ISERROR(M29)),\"\",M29)","v":""},{"$f":"$K$8-IF(LEFT(G29,2)=\"So\",10,'Site Inputs'!$C$8)","v":{"$error":"#N/A"}},{"$f":"IF(OR(G29=UvaluesFlr!$U$3,G29=UvaluesFlr!$U$4),IF(ISERROR(F29*J29*H29),\"\",F29*J29*H29),IF(ISERROR(F29*J29*I29),\"\",F29*J29*I29))","v":""},null,{"$f":"HLOOKUP(N29+MIN(0.6,IF(N29>4,O29/10,0)),$R$26:$AC$29,4,TRUE)","v":{"$error":"#N/A"}},{"$f":"VLOOKUP(D29,UvaluesFlr!$U$17:$V$22,2,FALSE)","v":{"$error":"#N/A"}},{"$f":"VLOOKUP(G29,UvaluesFlr!$U$3:$W$14,2,FALSE)","v":{"$error":"#N/A"}},{"$f":"VLOOKUP(G29,UvaluesFlr!$U$3:$W$14,3,FALSE)","v":{"$error":"#N/A"}},null,{"$f":"VLOOKUP(C29,UvaluesFlr!$C$53:$P$59,$P29,TRUE)","v":{"$error":"#N/A"}},{"$f":"VLOOKUP(B29,UvaluesFlr!$C$53:$P$59,$P29,TRUE)","v":{"$error":"#N/A"}},{"$f":"VLOOKUP(B29+C29,UvaluesFlr!$C$4:$P$12,$P29,TRUE)","v":{"$error":"#N/A"}},{"$f":"VLOOKUP(B29,UvaluesFlr!$C$16:$P$21,$P29,TRUE)","v":{"$error":"#N/A"}},{"$f":"VLOOKUP($C29,UvaluesFlr!$D$26:$P$29,$P29-1,TRUE)","v":{"$error":"#N/A"}},{"$f":"VLOOKUP($C29,UvaluesFlr!$D$30:$P$31,$P29-1,TRUE)","v":{"$error":"#N/A"}},{"$f":"VLOOKUP($C29,UvaluesFlr!$D$32:$P$33,$P29-1,TRUE)","v":{"$error":"#N/A"}},{"$f":"VLOOKUP($C29,UvaluesFlr!$D$34:$P$35,$P29-1,TRUE)","v":{"$error":"#N/A"}},{"$f":"VLOOKUP($C29,UvaluesFlr!$D$39:$P$42,$P29-1,TRUE)","v":{"$error":"#N/A"}},{"$f":"VLOOKUP($C29,UvaluesFlr!$D$43:$P$45,$P29-1,TRUE)","v":{"$error":"#N/A"}},{"$f":"VLOOKUP($C29,UvaluesFlr!$D$46:$P$48,$P29-1,TRUE)","v":{"$error":"#N/A"}},{"$f":"VLOOKUP($C29,UvaluesFlr!$D$49:$P$50,$P29-1,TRUE)","v":{"$error":"#N/A"}}]
[]
[]
[null,"Windows and doors"]
[null,"Wall or roof with window or door","Window or door height (m)","Window or door width (m)","Area (m²)","Wall/roof U-value (W/m²K)","Frame and glazing type ","Entered U-\u001evalue (W/m²K), if required","U-value","Design temperature difference","Heat loss (W)*"]
[null,{"$f":"HLOOKUP($B$1,'Room Inputs'!$D$3:$X$137,B79,0)","v":0},{"$f":"HLOOKUP($B$1,'Room Inputs'!$D$3:$X$137,C79,0)","v":0},{"$f":"HLOOKUP($B$1,'Room Inputs'!$D$3:$X$137,D79,0)","v":0},{"$f":"C34*D34","v":0},{"$f":"IF(B34<>\"\",IF(VLOOKUP(B34,B$14:I$25,6,FALSE)=UvalueWD!$C$6,VLOOKUP(B34,B$14:I$25,7,FALSE),VLOOKUP(B34,B$14:I$25,8,FALSE)),\"\")","v":""},{"$f":"HLOOKUP($B$1,'Room Inputs'!$D$3:$X$137,G79,0)","v":0},{"$f":"HLOOKUP($B$1,'Room Inputs'!$D$3:$X$137,H79,0)","v":0},{"$f":"IF(OR(G34=UvalueWD!C$6,G34=\"\"),\"\",VLOOKUP(G34,Windows,2,FALSE))","v":{"$error":"#N/A"}},{"$f":"IF(ISERROR(VLOOKUP(B34,B$13:K$29,9,FALSE)),\"\",VLOOKUP(B34,B$13:K$29,9,FALSE))","v":""},{"$f":"IF(G34=UvaluesWRF!A$2,IF(ISERROR(F34*J34*(H34-F34)),\"\",F34*J34*(H34-F34)),IF(ISERROR(F34*J34*(F34-I34)),\"\",(I34-F34)*J34*I34))","v":""}]
[null,{"$f":"HLOOKUP($B$1,'Room Inputs'!$D$3:$X$137,B80,0)","v":0},{"$f":"HLOOKUP($B$1,'Room Inputs'!$D$3:$X$137,C80,0)","v":0},{"$f":"HLOOKUP($B$1,'Room Inputs'!$D$3:$X$137,D80,0)","v":0},0,{"$f":"IF(B35<>\"\",IF(VLOOKUP(B35,B$14:I$25,6,FALSE)=UvalueWD!$C$6,VLOOKUP(B35,B$14:I$25,7,FALSE),VLOOKUP(B35,B$14:I$25,8,FALSE)),\"\")","v":""},{"$f":"HLOOKUP($B$1,'Room Inputs'!$D$3:$X$137,G80,0)","v":0},{"$f":"HLOOKUP($B$1,'Room Inputs'!$D$3:$X$137,H80,0)","v":0},{"$f":"IF(OR(G35=UvalueWD!C$6,G35=\"\"),\"\",VLOOKUP(G35,Windows,2,FALSE))","v":{"$error":"#N/A"}},"",{"$f":"IF(G35=UvaluesWRF!A$2,IF(ISERROR(F35*J35*(H35-F35)),\"\",F35*J35*(H35-F35)),IF(ISERROR(F35*J35*(F35-I35)),\"\",(I35-F35)*J35*I35))","v":""}]
[null,{"$f":"HLOOKUP($B$1,'Room Inputs'!$D$3:$X$137,B81,0)","v":0},{"$f":"HLOOKUP($B$1,'Room Inputs'!$D$3:$X$137,C81,0)","v":0},{"$f":"HLOOKUP($B$1,'Room Inputs'!$D$3:$X$137,D81,0)","v":0},0,{"$f":"IF(B36<>\"\",IF(VLOOKUP(B36,B$14:I$25,6,FALSE)=UvalueWD!$C$6,VLOOKUP(B36,B$14:I$25,7,FALSE),VLOOKUP(B36,B$14:I$25,8,FALSE)),\"\")","v":""},{"$f":"HLOOKUP($B$1,'Room Inputs'!$D$3:$X$137,G81,0)","v":0},{"$f":"HLOOKUP($B$1,'Room Inputs'!$D$3:$X$137,H81,0)","v":0},{"$f":"IF(OR(G36=UvalueWD!C$6,G36=\"\"),\"\",VLOOKUP(G36,Windows,2,FALSE))","v":{"$error":"#N/A"}},"",{"$f":"IF(G36=UvaluesWRF!A$2,IF(ISERROR(F36*J36*(H36-F36)),\"\",F36*J36*(H36-F36)),IF(ISERROR(F36*J36*(F36-I36)),\"\",(I36-F36)*J36*I36))","v":""}]
[null,{"$f":"HLOOKUP($B$1,'Room Inputs'!$D$3:$X$137,B82,0)","v":0},{"$f":"HLOOKUP($B$1,'Room Inputs'!$D$3:$X$137,C82,0)","v":0},{"$f":"HLOOKUP($B$1,'Room Inputs'!$D$3:$X$137,D82,0)","v":0},0,{"$f":"IF(B37<>\"\",IF(VLOOKUP(B37,B$14:I$25,6,FALSE)=UvalueWD!$C$6,VLOOKUP(B37,B$14:I$25,7,FALSE),VLOOKUP(B37,B$14:I$25,8,FALSE)),\"\")","v":""},{"$f":"HLOOKUP($B$1,'Room Inputs'!$D$3:$X$137,G82,0)","v":0},{"$f":"HLOOKUP($B$1,'Room Inputs'!$D$3:$X$137,H82,0)","v":0},{"$f":"IF(OR(G37=UvalueWD!C$6,G37=\"\"),\"\",VLOOKUP(G37,Windows,2,FALSE))","v":{"$error":"#N/A"}},"",{"$f":"IF(G37=UvaluesWRF!A$2,IF(ISERROR(F37*J37*(H37-F37)),\"\",F37*J37*(H37-F37)),IF(ISERROR(F37*J37*(F37-I37)),\"\",(I37-F37)*J37*I37))","v":""}]
[null,{"$f":"HLOOKUP($B$1,'Room Inputs'!$D$3:$X$137,B83,0)","v":0},{"$f":"HLOOKUP($B$1,'Room Inputs'!$D$3:$X$137,C83,0)","v":0},{"$f":"HLOOKUP($B$1,'Room Inputs'!$D$3:$X$137,D83,0)","v":0},0,{"$f":"IF(B38<>\"\",IF(VLOOKUP(B38,B$14:I$25,6,FALSE)=UvalueWD!$C$6,VLOOKUP(B38,B$14:I$25,7,FALSE),VLOOKUP(B38,B$14:I$25,8,FALSE)),\"\")","v":""},{"$f":"HLOOKUP($B$1,'Room Inputs'!$D$3:$X$137,G83,0)","v":0},{"$f":"HLOOKUP($B$1,'Room Inputs'!$D$3:$X$137,H83,0)","v":0},{"$f":"IF(OR(G38=UvalueWD!C$6,G38=\"\"),\"\",VLOOKUP(G38,Windows,2,FALSE))","v":{"$error":"#N/A"}},"",{"$f":"IF(G38=UvaluesWRF!A$2,IF(ISERROR(F38*J38*(H38-F38)),\"\",F38*J38*(H38-F38)),IF(ISERROR(F38*J38*(F38-I38)),\"\",(I38-F38)*J38*I38))","v":""}]
[null,{"$f":"HLOOKUP($B$1,'Room Inputs'!$D$3:$X$137,B84,0)","v":0},{"$f":"HLOOKUP($B$1,'Room Inputs'!$D$3:$X$137,C84,0)","v":0},{"$f":"HLOOKUP($B$1,'Room Inputs'!$D$3:$X$137,D84,0)","v":0},0,{"$f":"IF(B39<>\"\",IF(VLOOKUP(B39,B$14:I$25,6,FALSE)=UvalueWD!$C$6,VLOOKUP(B39,B$14:I$25,7,FALSE),VLOOKUP(B39,B$14:I$25,8,FALSE)),\"\")","v":""},{"$f":"HLOOKUP($B$1,'Room Inputs'!$D$3:$X$137,G84,0)","v":0},{"$f":"HLOOKUP($B$1,'Room Inputs'!$D$3:$X$137,H84,0)","v":0},{"$f":"IF(OR(G39=UvalueWD!C$6,G39=\"\"),\"\",VLOOKUP(G39,Windows,2,FALSE))","v":{"$error":"#N/A"}},"",{"$f":"IF(G39=UvaluesWRF!A$2,IF(ISERROR(F39*J39*(H39-F39)),\"\",F39*J39*(H39-F39)),IF(ISERROR(F39*J39*(F39-I39)),\"\",(I39-F39)*J39*I39))","v":""}]
[]
[null,"* this is net heat loss (i.e. the heat loss of the window minus that of a wall of the same area) and so can be negative.  This is done so that the area of the window or door does not have to be subtracted from the wall area.  "]
[null,null,null,null,null,null,null,null,"Room heat loss (W)",null,{"$f":"SUM(K10:K39)","v":0}]
[]
[]
[]
[null,"Row number lookup map"]
[]
[null,"Room name",2,null,"Emitter type",3,"For convectors consult the manufacturer's data and enter the temperature factor (FTEMP) for the appropriate fan speed",4,"For radiators enter the n-coefficient (exponent) from manufacturer's data.  If unknown 1.3 may be used",null,5]
[]
[null,"Enter floor type and construction",6,null,"Enter floor type and construction",7,"For UFH enter Tog value (See Table 14)",8,"For UFH enter  active or exposed area of the heated floor ",null,9]
[]
[null,"Enter Room type below",null,null," Enter Open fire/chimney details below "]
[null,10,null,null,11]
[null,"Room Dimensions"]
[null,"Length (m)",null,"Width (m)",null,"Height (m)"]
[null,13,null,14,null,15]
[null,"Walls, floors not ground floors and ceiling"]
[null,"Name of wall, floor, ceiling","Space on other side","Height or length (m)","Width (m)",null,"Construction","Entered U-\u001evalue (W/m²K), if required"]
[null,16,17,18,19,null,20,21]
[null,22,23,24,25,null,26,27]
[null,28,29,30,31,null,32,33]
[null,35,36,37,38,null,39,40]
[null,41,42,43,44,null,45,46]
[null,47,48,49,50,null,51,52]
[null,53,54,55,56,null,57,58]
[null,59,60,61,62,null,63,64]
[null,65,66,67,68,null,69,70]
[null,71,72,73,74,null,75,76]
[null,77,78,79,80,null,81,82]
[null,83,84,85,86,null,87,88]
[null,"Ground floors \nShort length (m)","long length\n(m)","Edges exposed",null,null,"Type and Insulation  thickness"]
[null,89,90,91,92,null,92,93]
[null,95,96,97,null,null,98,99]
[null,100,101,102,null,null,103,104]
[]
[]
[null,"Windows and doors"]
[null,"Wall or roof with window or door","Window or door height (m)","Window or door width (m)","Area (m²)","Wall/roof U-value (W/m²K)","Frame and glazing type ","Entered U-\u001evalue (W/m²K), if required"]
[null,105,106,107,null,null,108,109]
[null,111,112,113,null,null,114,115]
[null,116,117,118,null,null,119,120]
[null,121,122,123,null,null,124,125]
[null,126,127,128,null,null,129,130]
[null,131,132,133,null,null,134,135]

{"sheet":"6","index":11,"n_rows":84,"n_cols":29,"rows_kept":84,"cut":false,"hidden":true,"merged":[[40,1,40,7],[41,8,41,9],[7,7,7,8],[4,8,4,9],[6,1,6,2],[6,4,6,5],[6,7,6,8],[47,8,47,9],[49,2,49,3],[49,8,49,9],[51,1,51,2],[51,4,51,5],[51,7,51,8],[52,1,52,2],[52,4,52,5],[52,7,52,8],[72,3,72,4],[73,3,73,4],[71,3,71,4]]}
[null,{"$f":"'Room Inputs'!I3","v":"Room6"}]
[]
[null,"Room name",{"$f":"HLOOKUP($B$1,'Room Inputs'!$D$3:$X$137,C48,0)","v":0},null,"Emitter type",{"$f":"HLOOKUP($B$1,'Room Inputs'!$D$3:$X$137,F48,0)","v":0},"For convectors consult the manufacturer's data and enter the temperature factor (FTEMP) for the appropriate fan speed",{"$f":"HLOOKUP($B$1,'Room Inputs'!$D$3:$X$137,H48,0)","v":0.85},"For radiators enter the n-coefficient (exponent) from manufacturer's data.  If unknown 1.3 may be used",null,{"$f":"HLOOKUP($B$1,'Room Inputs'!$D$3:$X$137,K48,0)","v":1.3}]
[]
[null,"Enter floor type and construction",{"$f":"HLOOKUP($B$1,'Room Inputs'!$D$3:$X$137,C50,0)","v":0},null,"Enter floor type and construction",{"$f":"HLOOKUP($B$1,'Room Inputs'!$D$3:$X$137,F50,0)","v":0},"For UFH enter Tog value (See Table 14)",{"$f":"HLOOKUP($B$1,'Room Inputs'!$D$3:$X$137,H50,0)","v":0.25},"For UFH enter  active or exposed area of the heated floor ",null,{"$f":"HLOOKUP($B$1,'Room Inputs'!$D$3:$X$137,K50,0)","v":0}]
[]
[null,"Enter Room type below",null,null," Enter Open fire/chimney details below ",null,null,"Design room ventilation rate (air changes per hour)",null,null,"Design room temperature °C"]
[null,{"$f":"HLOOKUP($B$1,'Room Inputs'!$D$3:$X$137,B53,0)","v":0},null,null,{"$f":"HLOOKUP($B$1,'Room Inputs'!$D$3:$X$137,E53,0)","v":0},null,null,{"$f":"IF(E8=VTables!B20,VLOOKUP(B8,DRVT,3,FALSE),MAX(VLOOKUP(B8,DRVT,3,FALSE),VLOOKUP(E8,ARVR,2,FALSE)))","v":{"$error":"#N/A"}},null,null,{"$f":"VLOOKUP(B8,DRVT,2,FALSE)","v":{"$error":"#N/A"}}]
[null,"Room Dimensions"]
[null,"Length (m)",null,"Width (m)",null,"Height (m)","Room volume (m³) ",null,null,"Design temperature difference","Heat loss (W)"]
[null,{"$f":"HLOOKUP($B$1,'Room Inputs'!$D$3:$X$137,B56,0)","v":0},null,{"$f":"HLOOKUP($B$1,'Room Inputs'!$D$3:$X$137,D56,0)","v":0},null,{"$f":"HLOOKUP($B$1,'Room Inputs'!$D$3:$X$137,F56,0)","v":0},{"$f":"B11*D11*F11","v":0},null,null,{"$f":"K8-'Site Inputs'!C8","v":{"$error":"#N/A"}},{"$f":"IF(G11>0,(ROUND(0.33*G11*H8*J11,2)),\"\")","v":""}]
[null,"Walls, floors not ground floors and ceiling"]
[null,"Name of wall, floor, ceiling","Space on other side","Height or length (m)","Width (m)","Area (m²)","Construction","Entered U-\u001evalue (W/m²K), if required","U-value (W/m²K)","Design temperature difference","Heat loss (W)",null,"`"]
[null,{"$f":"HLOOKUP($B$1,'Room Inputs'!$D$3:$X$137,B59,0)","v":0},{"$f":"HLOOKUP($B$1,'Room Inputs'!$D$3:$X$137,C59,0)","v":0},{"$f":"HLOOKUP($B$1,'Room Inputs'!$D$3:$X$137,D59,0)","v":0},{"$f":"HLOOKUP($B$1,'Room Inputs'!$D$3:$X$137,E59,0)","v":0},{"$f":"D14*E14","v":0},{"$f":"HLOOKUP($B$1,'Room Inputs'!$D$3:$X$137,G59,0)","v":0},{"$f":"HLOOKUP($B$1,'Room Inputs'!$D$3:$X$137,H59,0)","v":0},{"$f":"IF(OR(G14=UvaluesWRF!A$2,ISERROR(VLOOKUP(G14,UvaluesWRF!A$3:B$110,2,FALSE))),\"\",VLOOKUP(G14,UvaluesWRF!A$3:B$110,2,FALSE))","v":""},{"$f":"IF(C14=\"\",\"\",$K$8-VLOOKUP(C14,DRVT,2,FALSE))","v":{"$error":"#N/A"}},{"$f":"IF(G14=UvaluesWRF!A$2,IF(ISERROR(F14*J14*H14),\"\",F14*J14*H14),IF(ISERROR(F14*J14*I14),\"\",F14*J14*I14))","v":""}]
[null,{"$f":"HLOOKUP($B$1,'Room Inputs'!$D$3:$X$137,B60,0)","v":0},{"$f":"HLOOKUP($B$1,'Room Inputs'!$D$3:$X$137,C60,0)","v":0},{"$f":"HLOOKUP($B$1,'Room Inputs'!$D$3:$X$137,D60,0)","v":0},{"$f":"HLOOKUP($B$1,'Room Inputs'!$D$3:$X$137,E60,0)","v":0},{"$f":"D15*E15","v":0},{"$f":"HLOOKUP($B$1,'Room Inputs'!$D$3:$X$137,G60,0)","v":0},{"$f":"HLOOKUP($B$1,'Room Inputs'!$D$3:$X$137,H60,0)","v":0},{"$f":"IF(OR(G15=UvaluesWRF!A$2,ISERROR(VLOOKUP(G15,UvaluesWRF!A$3:B$110,2,FALSE))),\"\",VLOOKUP(G15,UvaluesWRF!A$3:B$110,2,FALSE))","v":""},{"$error":"#N/A"},{"$f":"IF(G15=UvaluesWRF!A$2,IF(ISERROR(F15*J15*H15),\"\",F15*J15*H15),IF(ISERROR(F15*J15*I15),\"\",F15*J15*I15))","v":""}]
[null,{"$f":"HLOOKUP($B$1,'Room Inputs'!$D$3:$X$137,B61,0)","v":0},{"$f":"HLOOKUP($B$1,'Room Inputs'!$D$3:$X$137,C61,0)","v":0},{"$f":"HLOOKUP($B$1,'Room Inputs'!$D$3:$X$137,D61,0)","v":0},{"$f":"HLOOKUP($B$1,'Room Inputs'!$D$3:$X$137,E61,0)","v":0},0,{"$f":"HLOOKUP($B$1,'Room Inputs'!$D$3:$X$137,G61,0)","v":0},{"$f":"HLOOKUP($B$1,'Room Inputs'!$D$3:$X$137,H61,0)","v":0},{"$f":"IF(OR(G16=UvaluesWRF!A$2,ISERROR(VLOOKUP(G16,UvaluesWRF!A$3:B$110,2,FALSE))),\"\",VLOOKUP(G16,UvaluesWRF!A$3:B$110,2,FALSE))","v":""},{"$error":"#N/A"},{"$f":"IF(G16=UvaluesWRF!A$2,IF(ISERROR(F16*J16*H16),\"\",F16*J16*H16),IF(ISERROR(F16*J16*I16),\"\",F16*J16*I16))","v":""}]
[null,{"$f":"HLOOKUP($B$1,'Room Inputs'!$D$3:$X$137,B62,0)","v":0},{"$f":"HLOOKUP($B$1,'Room Inputs'!$D$3:$X$137,C62,0)","v":0},{"$f":"HLOOKUP($B$1,'Room Inputs'!$D$3:$X$137,D62,0)","v":0},{"$f":"HLOOKUP($B$1,'Room Inputs'!$D$3:$X$137,E62,0)","v":0},0,{"$f":"HLOOKUP($B$1,'Room Inputs'!$D$3:$X$137,G62,0)","v":0},{"$f":"HLOOKUP($B$1,'Room Inputs'!$D$3:$X$137,H62,0)","v":0},{"$f":"IF(OR(G17=UvaluesWRF!A$2,ISERROR(VLOOKUP(G17,UvaluesWRF!A$3:B$110,2,FALSE))),\"\",VLOOKUP(G17,UvaluesWRF!A$3:B$110,2,FALSE))","v":""},{"$error":"#N/A"},{"$f":"IF(G17=UvaluesWRF!A$2,IF(ISERROR(F17*J17*H17),\"\",F17*J17*H17),IF(ISERROR(F17*J17*I17),\"\",F17*J17*I17))","v":""}]
[null,{"$f":"HLOOKUP($B$1,'Room Inputs'!$D$3:$X$137,B63,0)","v":0},{"$f":"HLOOKUP($B$1,'Room Inputs'!$D$3:$X$137,C63,0)","v":0},{"$f":"HLOOKUP($B$1,'Room Inputs'!$D$3:$X$137,D63,0)","v":0},{"$f":"HLOOKUP($B$1,'Room Inputs'!$D$3:$X$137,E63,0)","v":0},0,{"$f":"HLOOKUP($B$1,'Room Inputs'!$D$3:$X$137,G63,0)","v":0},{"$f":"HLOOKUP($B$1,'Room Inputs'!$D$3:$X$137,H63,0)","v":0},{"$f":"IF(OR(G18=UvaluesWRF!A$2,ISERROR(VLOOKUP(G18,UvaluesWRF!A$3:B$110,2,FALSE))),\"\",VLOOKUP(G18,UvaluesWRF!A$3:B$110,2,FALSE))","v":""},{"$error":"#N/A"},{"$f":"IF(G18=UvaluesWRF!A$2,IF(ISERROR(F18*J18*H18),\"\",F18*J18*H18),IF(ISERROR(F18*J18*I18),\"\",F18*J18*I18))","v":""}]
[null,{"$f":"HLOOKUP($B$1,'Room Inputs'!$D$3:$X$137,B64,0)","v":0},{"$f":"HLOOKUP($B$1,'Room Inputs'!$D$3:$X$137,C64,0)","v":0},{"$f":"HLOOKUP($B$1,'Room Inputs'!$D$3:$X$137,D64,0)","v":0},{"$f":"HLOOKUP($B$1,'Room Inputs'!$D$3:$X$137,E64,0)","v":0},0,{"$f":"HLOOKUP($B$1,'Room Inputs'!$D$3:$X$137,G64,0)","v":0},{"$f":"HLOOKUP($B$1,'Room Inputs'!$D$3:$X$137,H64,0)","v":0},{"$f":"IF(OR(G19=UvaluesWRF!A$2,ISERROR(VLOOKUP(G19,UvaluesWRF!A$3:B$110,2,FALSE))),\"\",VLOOKUP(G19,UvaluesWRF!A$3:B$110,2,FALSE))","v":""},{"$error":"#N/A"},{"$f":"IF(G19=UvaluesWRF!A$2,IF(ISERROR(F19*J19*H19),\"\",F19*J19*H19),IF(ISERROR(F19*J19*I19),\"\",F19*J19*I19))","v":""}]
[null,{"$f":"HLOOKUP($B$1,'Room Inputs'!$D$3:$X$137,B65,0)","v":0},{"$f":"HLOOKUP($B$1,'Room Inputs'!$D$3:$X$137,C65,0)","v":0},{"$f":"HLOOKUP($B$1,'Room Inputs'!$D$3:$X$137,D65,0)","v":0},{"$f":"HLOOKUP($B$1,'Room Inputs'!$D$3:$X$137,E65,0)","v":0},0,{"$f":"HLOOKUP($B$1,'Room Inputs'!$D$3:$X$137,G65,0)","v":0},{"$f":"HLOOKUP($B$1,'Room Inputs'!$D$3:$X$137,H65,0)","v":0},{"$f":"IF(OR(G20=UvaluesWRF!A$2,ISERROR(VLOOKUP(G20,UvaluesWRF!A$3:B$110,2,FALSE))),\"\",VLOOKUP(G20,UvaluesWRF!A$3:B$110,2,FALSE))","v":""},{"$error":"#N/A"},{"$f":"IF(G20=UvaluesWRF!A$2,IF(ISERROR(F20*J20*H20),\"\",F20*J20*H20),IF(ISERROR(F20*J20*I20),\"\",F20*J20*I20))","v":""}]
[null,{"$f":"HLOOKUP($B$1,'Room Inputs'!$D$3:$X$137,B66,0)","v":0},{"$f":"HLOOKUP($B$1,'Room Inputs'!$D$3:$X$137,C66,0)","v":0},{"$f":"HLOOKUP($B$1,'Room Inputs'!$D$3:$X$137,D66,0)","v":0},{"$f":"HLOOKUP($B$1,'Room Inputs'!$D$3:$X$137,E66,0)","v":0},0,{"$f":"HLOOKUP($B$1,'Room Inputs'!$D$3:$X$137,G66,0)","v":0},{"$f":"HLOOKUP($B$1,'Room Inputs'!$D$3:$X$137,H66,0)","v":0},{"$f":"IF(OR(G21=UvaluesWRF!A$2,ISERROR(VLOOKUP(G21,UvaluesWRF!A$3:B$110,2,FALSE))),\"\",VLOOKUP(G21,UvaluesWRF!A$3:B$110,2,FALSE))","v":""},{"$error":"#N/A"},{"$f":"IF(G21=UvaluesWRF!A$2,IF(ISERROR(F21*J21*H21),\"\",F21*J21*H21),IF(ISERROR(F21*J21*I21),\"\",F21*J21*I21))","v":""}]
[null,{"$f":"HLOOKUP($B$1,'Room Inputs'!$D$3:$X$137,B67,0)","v":0},{"$f":"HLOOKUP($B$1,'Room Inputs'!$D$3:$X$137,C67,0)","v":0},{"$f":"HLOOKUP($B$1,'Room Inputs'!$D$3:$X$137,D67,0)","v":0},{"$f":"HLOOKUP($B$1,'Room Inputs'!$D$3:$X$137,E67,0)","v":0},0,{"$f":"HLOOKUP($B$1,'Room Inputs'!$D$3:$X$137,G67,0)","v":0},{"$f":"HLOOKUP($B$1,'Room Inputs'!$D$3:$X$137,H67,0)","v":0},{"$f":"IF(OR(G22=UvaluesWRF!A$2,ISERROR(VLOOKUP(G22,UvaluesWRF!A$3:B$110,2,FALSE))),\"\",VLOOKUP(G22,UvaluesWRF!A$3:B$110,2,FALSE))","v":""},{"$error":"#N/A"},{"$f":"IF(G22=UvaluesWRF!A$2,IF(ISERROR(F22*J22*H22),\"\",F22*J22*H22),IF(ISERROR(F22*J22*I22),\"\",F22*J22*I22))","v":""}]
[null,{"$f":"HLOOKUP($B$1,'Room Inputs'!$D$3:$X$137,B68,0)","v":0},{"$f":"HLOOKUP($B$1,'Room Inputs'!$D$3:$X$137,C68,0)","v":0},{"$f":"HLOOKUP($B$1,'Room Inputs'!$D$3:$X$137,D68,0)","v":0},{"$f":"HLOOKUP($B$1,'Room Inputs'!$D$3:$X$137,E68,0)","v":0},0,{"$f":"HLOOKUP($B$1,'Room Inputs'!$D$3:$X$137,G68,0)","v":0},{"$f":"HLOOKUP($B$1,'Room Inputs'!$D$3:$X$137,H68,0)","v":0},{"$f":"IF(OR(G23=UvaluesWRF!A$2,ISERROR(VLOOKUP(G23,UvaluesWRF!A$3:B$110,2,FALSE))),\"\",VLOOKUP(G23,UvaluesWRF!A$3:B$110,2,FALSE))","v":""},{"$error":"#N/A"},{"$f":"IF(G23=UvaluesWRF!A$2,IF(ISERROR(F23*J23*H23),\"\",F23*J23*H23),IF(ISERROR(F23*J23*I23),\"\",F23*J23*I23))","v":""}]
[null,{"$f":"HLOOKUP($B$1,'Room Inputs'!$D$3:$X$137,B69,0)","v":0},{"$f":"HLOOKUP($B$1,'Room Inputs'!$D$3:$X$137,C69,0)","v":0},{"$f":"HLOOKUP($B$1,'Room Inputs'!$D$3:$X$137,D69,0)","v":0},{"$f":"HLOOKUP($B$1,'Room Inputs'!$D$3:$X$137,E69,0)","v":0},0,{"$f":"HLOOKUP($B$1,'Room Inputs'!$D$3:$X$137,G69,0)","v":0},{"$f":"HLOOKUP($B$1,'Room Inputs'!$D$3:$X$137,H69,0)","v":0},{"$f":"IF(OR(G24=UvaluesWRF!A$2,ISERROR(VLOOKUP(G24,UvaluesWRF!A$3:B$110,2,FALSE))),\"\",VLOOKUP(G24,UvaluesWRF!A$3:B$110,2,FALSE))","v":""},{"$error":"#N/A"},{"$f":"IF(G24=UvaluesWRF!A$2,IF(ISERROR(F24*J24*H24),\"\",F24*J24*H24),IF(ISERROR(F24*J24*I24),\"\",F24*J24*I24))","v":""}]
[null,{"$f":"HLOOKUP($B$1,'Room Inputs'!$D$3:$X$137,B70,0)","v":0},{"$f":"HLOOKUP($B$1,'Room Inputs'!$D$3:$X$137,C70,0)","v":0},{"$f":"HLOOKUP($B$1,'Room Inputs'!$D$3:$X$137,D70,0)","v":0},{"$f":"HLOOKUP($B$1,'Room Inputs'!$D$3:$X$137,E70,0)","v":0},0,{"$f":"HLOOKUP($B$1,'Room Inputs'!$D$3:$X$137,G70,0)","v":0},{"$f":"HLOOKUP($B$1,'Room Inputs'!$D$3:$X$137,H70,0)","v":0},{"$f":"IF(OR(G25=UvaluesWRF!A$2,ISERROR(VLOOKUP(G25,UvaluesWRF!A$3:B$110,2,FALSE))),\"\",VLOOKUP(G25,UvaluesWRF!A$3:B$110,2,FALSE))","v":""},{"$error":"#N/A"},{"$f":"IF(G25=UvaluesWRF!A$2,IF(ISERROR(F25*J25*H25),\"\",F25*J25*H25),IF(ISERROR(F25*J25*I25),\"\",F25*J25*I25))","v":""}]
[null,"Ground floors \nShort length (m)","long length\n(m)","Edges exposed",null,null,"Type and Insulation  thickness",null,null,null,null,null,"U-value","Edge","Insulation","Column",null,1,2,3,4,5.3,5.4,5.5,5.6,6.3,6.4,6.5,6.6]
[null,{"$f":"HLOOKUP($B$1,'Room Inputs'!$D$3:$X$137,B72,0)","v":0},{"$f":"HLOOKUP($B$1,'Room Inputs'!$D$3:$X$137,C72,0)","v":0},{"$f":"HLOOKUP($B$1,'Room Inputs'!$D$3:$X$137,D72,0)","v":0},{"$f":"HLOOKUP($B$1,'Room Inputs'!$D$3:$X$137,E72,0)","v":0},{"$f":"B27*C27","v":0},{"$f":"HLOOKUP($B$1,'Room Inputs'!$D$3:$X$137,G72,0)","v":0},{"$f":"HLOOKUP($B$1,'Room Inputs'!$D$3:$X$137,H72,0)","v":0},{"$f":"IF(OR(G27=UvaluesFlr!$U$3,G27=UvaluesFlr!$U$4,ISERROR(M27)),\"\",M27)","v":""},{"$f":"$K$8-IF(LEFT(G27,2)=\"So\",10,'Site Inputs'!$C$8)","v":{"$error":"#N/A"}},{"$f":"IF(OR(G27=UvaluesFlr!$U$3,G27=UvaluesFlr!$U$4),IF(ISERROR(F27*J27*H27),\"\",F27*J27*H27),IF(ISERROR(F27*J27*I27),\"\",F27*J27*I27))","v":""},null,{"$f":"HLOOKUP(N27+MIN(0.6,IF(N27>4,O27/10,0)),$R$26:$AC$29,2,TRUE)","v":{"$error":"#N/A"}},{"$f":"VLOOKUP(D27,UvaluesFlr!$U$17:$V$22,2,FALSE)","v":{"$error":"#N/A"}},{"$f":"VLOOKUP(G27,UvaluesFlr!$U$3:$W$14,2,FALSE)","v":{"$error":"#N/A"}},{"$f":"VLOOKUP(G27,UvaluesFlr!$U$3:$W$14,3,FALSE)","v":{"$error":"#N/A"}},null,{"$f":"VLOOKUP(C27,UvaluesFlr!$C$53:$P$59,$P27,TRUE)","v":{"$error":"#N/A"}},{"$f":"VLOOKUP(B27,UvaluesFlr!$C$53:$P$59,$P27,TRUE)","v":{"$error":"#N/A"}},{"$f":"VLOOKUP(B27+C27,UvaluesFlr!$C$4:$P$12,$P27,TRUE)","v":{"$error":"#N/A"}},{"$f":"VLOOKUP(B27,UvaluesFlr!$C$16:$P$21,$P27,TRUE)","v":{"$error":"#N/A"}},{"$f":"VLOOKUP($C27,UvaluesFlr!$D$26:$P$29,$P27-1,TRUE)","v":{"$error":"#N/A"}},{"$f":"VLOOKUP($C27,UvaluesFlr!$D$30:$P$31,$P27-1,TRUE)","v":{"$error":"#N/A"}},{"$f":"VLOOKUP($C27,UvaluesFlr!$D$32:$P$33,$P27-1,TRUE)","v":{"$error":"#N/A"}},{"$f":"VLOOKUP($C27,UvaluesFlr!$D$34:$P$35,$P27-1,TRUE)","v":{"$error":"#N/A"}},{"$f":"VLOOKUP($C27,UvaluesFlr!$D$39:$P$42,$P27-1,TRUE)","v":{"$error":"#N/A"}},{"$f":"VLOOKUP($C27,UvaluesFlr!$D$43:$P$45,$P27-1,TRUE)","v":{"$error":"#N/A"}},{"$f":"VLOOKUP($C27,UvaluesFlr!$D$46:$P$48,$P27-1,TRUE)","v":{"$error":"#N/A"}},{"$f":"VLOOKUP($C27,UvaluesFlr!$D$49:$P$50,$P27-1,TRUE)","v":{"$error":"#N/A"}}]
[null,{"$f":"HLOOKUP($B$1,'Room Inputs'!$D$3:$X$137,B73,0)","v":0},{"$f":"HLOOKUP($B$1,'Room Inputs'!$D$3:$X$137,C73,0)","v":0},{"$f":"HLOOKUP($B$1,'Room Inputs'!$D$3:$X$137,D73,0)","v":0},{"$f":"HLOOKUP($B$1,'Room Inputs'!$D$3:$X$137,E73,0)","v":{"$error":"#VALUE!"}},{"$f":"B28*C28","v":0},{"$f":"HLOOKUP($B$1,'Room Inputs'!$D$3:$X$137,G73,0)","v":0},{"$f":"HLOOKUP($B$1,'Room Inputs'!$D$3:$X$137,H73,0)","v":0},{"$f":"IF(OR(G28=UvaluesFlr!$U$3,G28=UvaluesFlr!$U$4,ISERROR(M28)),\"\",M28)","v":""},{"$f":"$K$8-IF(LEFT(G28,2)=\"So\",10,'Site Inputs'!$C$8)","v":{"$error":"#N/A"}},{"$f":"IF(OR(G28=UvaluesFlr!$U$3,G28=UvaluesFlr!$U$4),IF(ISERROR(F28*J28*H28),\"\",F28*J28*H28),IF(ISERROR(F28*J28*I28),\"\",F28*J28*I28))","v":""},null,{"$f":"HLOOKUP(N28+MIN(0.6,IF(N28>4,O28/10,0)),$R$26:$AC$29,3,TRUE)","v":{"$error":"#N/A"}},{"$f":"VLOOKUP(D28,UvaluesFlr!$U$17:$V$22,2,FALSE)","v":{"$error":"#N/A"}},{"$f":"VLOOKUP(G28,UvaluesFlr!$U$3:$W$14,2,FALSE)","v":{"$error":"#N/A"}},{"$f":"VLOOKUP(G28,UvaluesFlr!$U$3:$W$14,3,FALSE)","v":{"$error":"#N/A"}},null,{"$f":"VLOOKUP(C28,UvaluesFlr!$C$53:$P$59,$P28,TRUE)","v":{"$error":"#N/A"}},{"$f":"VLOOKUP(B28,UvaluesFlr!$C$53:$P$59,$P28,TRUE)","v":{"$error":"#N/A"}},{"$f":"VLOOKUP(B28+C28,UvaluesFlr!$C$4:$P$12,$P28,TRUE)","v":{"$error":"#N/A"}},{"$f":"VLOOKUP(B28,UvaluesFlr!$C$16:$P$21,$P28,TRUE)","v":{"$error":"#N/A"}},{"$f":"VLOOKUP($C28,UvaluesFlr!$D$26:$P$29,$P28-1,TRUE)","v":{"$error":"#N/A"}},{"$f":"VLOOKUP($C28,UvaluesFlr!$D$30:$P$31,$P28-1,TRUE)","v":{"$error":"#N/A"}},{"$f":"VLOOKUP($C28,UvaluesFlr!$D$32:$P$33,$P28-1,TRUE)","v":{"$error":"#N/A"}},{"$f":"VLOOKUP($C28,UvaluesFlr!$D$34:$P$35,$P28-1,TRUE)","v":{"$error":"#N/A"}},{"$f":"VLOOKUP($C28,UvaluesFlr!$D$39:$P$42,$P28-1,TRUE)","v":{"$error":"#N/A"}},{"$f":"VLOOKUP($C28,UvaluesFlr!$D$43:$P$45,$P28-1,TRUE)","v":{"$error":"#N/A"}},{"$f":"VLOOKUP($C28,UvaluesFlr!$D$46:$P$48,$P28-1,TRUE)","v":{"$error":"#N/A"}},{"$f":"VLOOKUP($C28,UvaluesFlr!$D$49:$P$50,$P28-1,TRUE)","v":{"$error":"#N/A"}}]
[null,{"$f":"HLOOKUP($B$1,'Room Inputs'!$D$3:$X$137,B74,0)","v":0},{"$f":"HLOOKUP($B$1,'Room Inputs'!$D$3:$X$137,C74,0)","v":0},{"$f":"HLOOKUP($B$1,'Room Inputs'!$D$3:$X$137,D74,0)","v":0},{"$f":"HLOOKUP($B$1,'Room Inputs'!$D$3:$X$137,E74,0)","v":{"$error":"#VALUE!"}},{"$f":"B29*C29","v":0},{"$f":"HLOOKUP($B$1,'Room Inputs'!$D$3:$X$137,G74,0)","v":0},{"$f":"HLOOKUP($B$1,'Room Inputs'!$D$3:$X$137,H74,0)","v":0},{"$f":"IF(OR(G29=UvaluesFlr!$U$3,G29=UvaluesFlr!$U$4,ISERROR(M29)),\"\",M29)","v":""},{"$f":"$K$8-IF(LEFT(G29,2)=\"So\",10,'Site Inputs'!$C$8)","v":{"$error":"#N/A"}},{"$f":"IF(OR(G29=UvaluesFlr!$U$3,G29=UvaluesFlr!$U$4),IF(ISERROR(F29*J29*H29),\"\",F29*J29*H29),IF(ISERROR(F29*J29*I29),\"\",F29*J29*I29))","v":""},null,{"$f":"HLOOKUP(N29+MIN(0.6,IF(N29>4,O29/10,0)),$R$26:$AC$29,4,TRUE)","v":{"$error":"#N/A"}},{"$f":"VLOOKUP(D29,UvaluesFlr!$U$17:$V$22,2,FALSE)","v":{"$error":"#N/A"}},{"$f":"VLOOKUP(G29,UvaluesFlr!$U$3:$W$14,2,FALSE)","v":{"$error":"#N/A"}},{"$f":"VLOOKUP(G29,UvaluesFlr!$U$3:$W$14,3,FALSE)","v":{"$error":"#N/A"}},null,{"$f":"VLOOKUP(C29,UvaluesFlr!$C$53:$P$59,$P29,TRUE)","v":{"$error":"#N/A"}},{"$f":"VLOOKUP(B29,UvaluesFlr!$C$53:$P$59,$P29,TRUE)","v":{"$error":"#N/A"}},{"$f":"VLOOKUP(B29+C29,UvaluesFlr!$C$4:$P$12,$P29,TRUE)","v":{"$error":"#N/A"}},{"$f":"VLOOKUP(B29,UvaluesFlr!$C$16:$P$21,$P29,TRUE)","v":{"$error":"#N/A"}},{"$f":"VLOOKUP($C29,UvaluesFlr!$D$26:$P$29,$P29-1,TRUE)","v":{"$error":"#N/A"}},{"$f":"VLOOKUP($C29,UvaluesFlr!$D$30:$P$31,$P29-1,TRUE)","v":{"$error":"#N/A"}},{"$f":"VLOOKUP($C29,UvaluesFlr!$D$32:$P$33,$P29-1,TRUE)","v":{"$error":"#N/A"}},{"$f":"VLOOKUP($C29,UvaluesFlr!$D$34:$P$35,$P29-1,TRUE)","v":{"$error":"#N/A"}},{"$f":"VLOOKUP($C29,UvaluesFlr!$D$39:$P$42,$P29-1,TRUE)","v":{"$error":"#N/A"}},{"$f":"VLOOKUP($C29,UvaluesFlr!$D$43:$P$45,$P29-1,TRUE)","v":{"$error":"#N/A"}},{"$f":"VLOOKUP($C29,UvaluesFlr!$D$46:$P$48,$P29-1,TRUE)","v":{"$error":"#N/A"}},{"$f":"VLOOKUP($C29,UvaluesFlr!$D$49:$P$50,$P29-1,TRUE)","v":{"$error":"#N/A"}}]
[]
[]
[null,"Windows and doors"]
[null,"Wall or roof with window or door","Window or door height (m)","Window or door width (m)","Area (m²)","Wall/roof U-value (W/m²K)","Frame and glazing type ","Entered U-\u001evalue (W/m²K), if required","U-value","Design temperature difference","Heat loss (W)*"]
[null,{"$f":"HLOOKUP($B$1,'Room Inputs'!$D$3:$X$137,B79,0)","v":0},{"$f":"HLOOKUP($B$1,'Room Inputs'!$D$3:$X$137,C79,0)","v":0},{"$f":"HLOOKUP($B$1,'Room Inputs'!$D$3:$X$137,D79,0)","v":0},{"$f":"C34*D34","v":0},{"$f":"IF(B34<>\"\",IF(VLOOKUP(B34,B$14:I$25,6,FALSE)=UvalueWD!$C$6,VLOOKUP(B34,B$14:I$25,7,FALSE),VLOOKUP(B34,B$14:I$25,8,FALSE)),\"\")","v":""},{"$f":"HLOOKUP($B$1,'Room Inputs'!$D$3:$X$137,G79,0)","v":0},{"$f":"HLOOKUP($B$1,'Room Inputs'!$D$3:$X$137,H79,0)","v":0},{"$f":"IF(OR(G34=UvalueWD!C$6,G34=\"\"),\"\",VLOOKUP(G34,Windows,2,FALSE))","v":{"$error":"#N/A"}},{"$f":"IF(ISERROR(VLOOKUP(B34,B$13:K$29,9,FALSE)),\"\",VLOOKUP(B34,B$13:K$29,9,FALSE))","v":""},{"$f":"IF(G34=UvaluesWRF!A$2,IF(ISERROR(F34*J34*(H34-F34)),\"\",F34*J34*(H34-F34)),IF(ISERROR(F34*J34*(F34-I34)),\"\",(I34-F34)*J34*I34))","v":""}]
[null,{"$f":"HLOOKUP($B$1,'Room Inputs'!$D$3:$X$137,B80,0)","v":0},{"$f":"HLOOKUP($B$1,'Room Inputs'!$D$3:$X$137,C80,0)","v":0},{"$f":"HLOOKUP($B$1,'Room Inputs'!$D$3:$X$137,D80,0)","v":0},0,{"$f":"IF(B35<>\"\",IF(VLOOKUP(B35,B$14:I$25,6,FALSE)=UvalueWD!$C$6,VLOOKUP(B35,B$14:I$25,7,FALSE),VLOOKUP(B35,B$14:I$25,8,FALSE)),\"\")","v":""},{"$f":"HLOOKUP($B$1,'Room Inputs'!$D$3:$X$137,G80,0)","v":0},{"$f":"HLOOKUP($B$1,'Room Inputs'!$D$3:$X$137,H80,0)","v":0},{"$f":"IF(OR(G35=UvalueWD!C$6,G35=\"\"),\"\",VLOOKUP(G35,Windows,2,FALSE))","v":{"$error":"#N/A"}},"",{"$f":"IF(G35=UvaluesWRF!A$2,IF(ISERROR(F35*J35*(H35-F35)),\"\",F35*J35*(H35-F35)),IF(ISERROR(F35*J35*(F35-I35)),\"\",(I35-F35)*J35*I35))","v":""}]
[null,{"$f":"HLOOKUP($B$1,'Room Inputs'!$D$3:$X$137,B81,0)","v":0},{"$f":"HLOOKUP($B$1,'Room Inputs'!$D$3:$X$137,C81,0)","v":0},{"$f":"HLOOKUP($B$1,'Room Inputs'!$D$3:$X$137,D81,0)","v":0},0,{"$f":"IF(B36<>\"\",IF(VLOOKUP(B36,B$14:I$25,6,FALSE)=UvalueWD!$C$6,VLOOKUP(B36,B$14:I$25,7,FALSE),VLOOKUP(B36,B$14:I$25,8,FALSE)),\"\")","v":""},{"$f":"HLOOKUP($B$1,'Room Inputs'!$D$3:$X$137,G81,0)","v":0},{"$f":"HLOOKUP($B$1,'Room Inputs'!$D$3:$X$137,H81,0)","v":0},{"$f":"IF(OR(G36=UvalueWD!C$6,G36=\"\"),\"\",VLOOKUP(G36,Windows,2,FALSE))","v":{"$error":"#N/A"}},"",{"$f":"IF(G36=UvaluesWRF!A$2,IF(ISERROR(F36*J36*(H36-F36)),\"\",F36*J36*(H36-F36)),IF(ISERROR(F36*J36*(F36-I36)),\"\",(I36-F36)*J36*I36))","v":""}]
[null,{"$f":"HLOOKUP($B$1,'Room Inputs'!$D$3:$X$137,B82,0)","v":0},{"$f":"HLOOKUP($B$1,'Room Inputs'!$D$3:$X$137,C82,0)","v":0},{"$f":"HLOOKUP($B$1,'Room Inputs'!$D$3:$X$137,D82,0)","v":0},0,{"$f":"IF(B37<>\"\",IF(VLOOKUP(B37,B$14:I$25,6,FALSE)=UvalueWD!$C$6,VLOOKUP(B37,B$14:I$25,7,FALSE),VLOOKUP(B37,B$14:I$25,8,FALSE)),\"\")","v":""},{"$f":"HLOOKUP($B$1,'Room Inputs'!$D$3:$X$137,G82,0)","v":0},{"$f":"HLOOKUP($B$1,'Room Inputs'!$D$3:$X$137,H82,0)","v":0},{"$f":"IF(OR(G37=UvalueWD!C$6,G37=\"\"),\"\",VLOOKUP(G37,Windows,2,FALSE))","v":{"$error":"#N/A"}},"",{"$f":"IF(G37=UvaluesWRF!A$2,IF(ISERROR(F37*J37*(H37-F37)),\"\",F37*J37*(H37-F37)),IF(ISERROR(F37*J37*(F37-I37)),\"\",(I37-F37)*J37*I37))","v":""}]
[null,{"$f":"HLOOKUP($B$1,'Room Inputs'!$D$3:$X$137,B83,0)","v":0},{"$f":"HLOOKUP($B$1,'Room Inputs'!$D$3:$X$137,C83,0)","v":0},{"$f":"HLOOKUP($B$1,'Room Inputs'!$D$3:$X$137,D83,0)","v":0},0,{"$f":"IF(B38<>\"\",IF(VLOOKUP(B38,B$14:I$25,6,FALSE)=UvalueWD!$C$6,VLOOKUP(B38,B$14:I$25,7,FALSE),VLOOKUP(B38,B$14:I$25,8,FALSE)),\"\")","v":""},{"$f":"HLOOKUP($B$1,'Room Inputs'!$D$3:$X$137,G83,0)","v":0},{"$f":"HLOOKUP($B$1,'Room Inputs'!$D$3:$X$137,H83,0)","v":0},{"$f":"IF(OR(G38=UvalueWD!C$6,G38=\"\"),\"\",VLOOKUP(G38,Windows,2,FALSE))","v":{"$error":"#N/A"}},"",{"$f":"IF(G38=UvaluesWRF!A$2,IF(ISERROR(F38*J38*(H38-F38)),\"\",F38*J38*(H38-F38)),IF(ISERROR(F38*J38*(F38-I38)),\"\",(I38-F38)*J38*I38))","v":""}]
[null,{"$f":"HLOOKUP($B$1,'Room Inputs'!$D$3:$X$137,B84,0)","v":0},{"$f":"HLOOKUP($B$1,'Room Inputs'!$D$3:$X$137,C84,0)","v":0},{"$f":"HLOOKUP($B$1,'Room Inputs'!$D$3:$X$137,D84,0)","v":0},0,{"$f":"IF(B39<>\"\",IF(VLOOKUP(B39,B$14:I$25,6,FALSE)=UvalueWD!$C$6,VLOOKUP(B39,B$14:I$25,7,FALSE),VLOOKUP(B39,B$14:I$25,8,FALSE)),\"\")","v":""},{"$f":"HLOOKUP($B$1,'Room Inputs'!$D$3:$X$137,G84,0)","v":0},{"$f":"HLOOKUP($B$1,'Room Inputs'!$D$3:$X$137,H84,0)","v":0},{"$f":"IF(OR(G39=UvalueWD!C$6,G39=\"\"),\"\",VLOOKUP(G39,Windows,2,FALSE))","v":{"$error":"#N/A"}},"",{"$f":"IF(G39=UvaluesWRF!A$2,IF(ISERROR(F39*J39*(H39-F39)),\"\",F39*J39*(H39-F39)),IF(ISERROR(F39*J39*(F39-I39)),\"\",(I39-F39)*J39*I39))","v":""}]
[]
[null,"* this is net heat loss (i.e. the heat loss of the window minus that of a wall of the same area) and so can be negative.  This is done so that the area of the window or door does not have to be subtracted from the wall area.  "]
[null,null,null,null,null,null,null,null,"Room heat loss (W)",null,{"$f":"SUM(K10:K39)","v":0}]
[]
[]
[]
[null,"Row number lookup map"]
[]
[null,"Room name",2,null,"Emitter type",3,"For convectors consult the manufacturer's data and enter the temperature factor (FTEMP) for the appropriate fan speed",4,"For radiators enter the n-coefficient (exponent) from manufacturer's data.  If unknown 1.3 may be used",null,5]
[]
[null,"Enter floor type and construction",6,null,"Enter floor type and construction",7,"For UFH enter Tog value (See Table 14)",8,"For UFH enter  active or exposed area of the heated floor ",null,9]
[]
[null,"Enter Room type below",null,null," Enter Open fire/chimney details below "]
[null,10,null,null,11]
[null,"Room Dimensions"]
[null,"Length (m)",null,"Width (m)",null,"Height (m)"]
[null,13,null,14,null,15]
[null,"Walls, floors not ground floors and ceiling"]
[null,"Name of wall, floor, ceiling","Space on other side","Height or length (m)","Width (m)",null,"Construction","Entered U-\u001evalue (W/m²K), if required"]
[null,16,17,18,19,null,20,21]
[null,22,23,24,25,null,26,27]
[null,28,29,30,31,null,32,33]
[null,35,36,37,38,null,39,40]
[null,41,42,43,44,null,45,46]
[null,47,48,49,50,null,51,52]
[null,53,54,55,56,null,57,58]
[null,59,60,61,62,null,63,64]
[null,65,66,67,68,null,69,70]
[null,71,72,73,74,null,75,76]
[null,77,78,79,80,null,81,82]
[null,83,84,85,86,null,87,88]
[null,"Ground floors \nShort length (m)","long length\n(m)","Edges exposed",null,null,"Type and Insulation  thickness"]
[null,89,90,91,92,null,92,93]
[null,95,96,97,null,null,98,99]
[null,100,101,102,null,null,103,104]
[]
[]
[null,"Windows and doors"]
[null,"Wall or roof with window or door","Window or door height (m)","Window or door width (m)","Area (m²)","Wall/roof U-value (W/m²K)","Frame and glazing type ","Entered U-\u001evalue (W/m²K), if required"]
[null,105,106,107,null,null,108,109]
[null,111,112,113,null,null,114,115]
[null,116,117,118,null,null,119,120]
[null,121,122,123,null,null,124,125]
[null,126,127,128,null,null,129,130]
[null,131,132,133,null,null,134,135]

{"sheet":"7","index":12,"n_rows":84,"n_cols":29,"rows_kept":84,"cut":false,"hidden":true,"merged":[[40,1,40,7],[41,8,41,9],[7,7,7,8],[4,8,4,9],[6,1,6,2],[6,4,6,5],[6,7,6,8],[47,8,47,9],[49,2,49,3],[49,8,49,9],[51,1,51,2],[51,4,51,5],[51,7,51,8],[52,1,52,2],[52,4,52,5],[52,7,52,8],[72,3,72,4],[73,3,73,4],[71,3,71,4]]}
[null,{"$f":"'Room Inputs'!J3","v":"Room7"}]
[]
[null,"Room name",{"$f":"HLOOKUP($B$1,'Room Inputs'!$D$3:$X$137,C48,0)","v":0},null,"Emitter type",{"$f":"HLOOKUP($B$1,'Room Inputs'!$D$3:$X$137,F48,0)","v":0},"For convectors consult the manufacturer's data and enter the temperature factor (FTEMP) for the appropriate fan speed",{"$f":"HLOOKUP($B$1,'Room Inputs'!$D$3:$X$137,H48,0)","v":0.85},"For radiators enter the n-coefficient (exponent) from manufacturer's data.  If unknown 1.3 may be used",null,{"$f":"HLOOKUP($B$1,'Room Inputs'!$D$3:$X$137,K48,0)","v":1.3}]
[]
[null,"Enter floor type and construction",{"$f":"HLOOKUP($B$1,'Room Inputs'!$D$3:$X$137,C50,0)","v":0},null,"Enter floor type and construction",{"$f":"HLOOKUP($B$1,'Room Inputs'!$D$3:$X$137,F50,0)","v":0},"For UFH enter Tog value (See Table 14)",{"$f":"HLOOKUP($B$1,'Room Inputs'!$D$3:$X$137,H50,0)","v":0.25},"For UFH enter  active or exposed area of the heated floor ",null,{"$f":"HLOOKUP($B$1,'Room Inputs'!$D$3:$X$137,K50,0)","v":0}]
[]
[null,"Enter Room type below",null,null," Enter Open fire/chimney details below ",null,null,"Design room ventilation rate (air changes per hour)",null,null,"Design room temperature °C"]
[null,{"$f":"HLOOKUP($B$1,'Room Inputs'!$D$3:$X$137,B53,0)","v":0},null,null,{"$f":"HLOOKUP($B$1,'Room Inputs'!$D$3:$X$137,E53,0)","v":0},null,null,{"$f":"IF(E8=VTables!B20,VLOOKUP(B8,DRVT,3,FALSE),MAX(VLOOKUP(B8,DRVT,3,FALSE),VLOOKUP(E8,ARVR,2,FALSE)))","v":{"$error":"#N/A"}},null,null,{"$f":"VLOOKUP(B8,DRVT,2,FALSE)","v":{"$error":"#N/A"}}]
[null,"Room Dimensions"]
[null,"Length (m)",null,"Width (m)",null,"Height (m)","Room volume (m³) ",null,null,"Design temperature difference","Heat loss (W)"]
[null,{"$f":"HLOOKUP($B$1,'Room Inputs'!$D$3:$X$137,B56,0)","v":0},null,{"$f":"HLOOKUP($B$1,'Room Inputs'!$D$3:$X$137,D56,0)","v":0},null,{"$f":"HLOOKUP($B$1,'Room Inputs'!$D$3:$X$137,F56,0)","v":0},{"$f":"B11*D11*F11","v":0},null,null,{"$f":"K8-'Site Inputs'!C8","v":{"$error":"#N/A"}},{"$f":"IF(G11>0,(ROUND(0.33*G11*H8*J11,2)),\"\")","v":""}]
[null,"Walls, floors not ground floors and ceiling"]
[null,"Name of wall, floor, ceiling","Space on other side","Height or length (m)","Width (m)","Area (m²)","Construction","Entered U-\u001evalue (W/m²K), if required","U-value (W/m²K)","Design temperature difference","Heat loss (W)",null,"`"]
[null,{"$f":"HLOOKUP($B$1,'Room Inputs'!$D$3:$X$137,B59,0)","v":0},{"$f":"HLOOKUP($B$1,'Room Inputs'!$D$3:$X$137,C59,0)","v":0},{"$f":"HLOOKUP($B$1,'Room Inputs'!$D$3:$X$137,D59,0)","v":0},{"$f":"HLOOKUP($B$1,'Room Inputs'!$D$3:$X$137,E59,0)","v":0},{"$f":"D14*E14","v":0},{"$f":"HLOOKUP($B$1,'Room Inputs'!$D$3:$X$137,G59,0)","v":0},{"$f":"HLOOKUP($B$1,'Room Inputs'!$D$3:$X$137,H59,0)","v":0},{"$f":"IF(OR(G14=UvaluesWRF!A$2,ISERROR(VLOOKUP(G14,UvaluesWRF!A$3:B$110,2,FALSE))),\"\",VLOOKUP(G14,UvaluesWRF!A$3:B$110,2,FALSE))","v":""},{"$f":"IF(C14=\"\",\"\",$K$8-VLOOKUP(C14,DRVT,2,FALSE))","v":{"$error":"#N/A"}},{"$f":"IF(G14=UvaluesWRF!A$2,IF(ISERROR(F14*J14*H14),\"\",F14*J14*H14),IF(ISERROR(F14*J14*I14),\"\",F14*J14*I14))","v":""}]
[null,{"$f":"HLOOKUP($B$1,'Room Inputs'!$D$3:$X$137,B60,0)","v":0},{"$f":"HLOOKUP($B$1,'Room Inputs'!$D$3:$X$137,C60,0)","v":0},{"$f":"HLOOKUP($B$1,'Room Inputs'!$D$3:$X$137,D60,0)","v":0},{"$f":"HLOOKUP($B$1,'Room Inputs'!$D$3:$X$137,E60,0)","v":0},{"$f":"D15*E15","v":0},{"$f":"HLOOKUP($B$1,'Room Inputs'!$D$3:$X$137,G60,0)","v":0},{"$f":"HLOOKUP($B$1,'Room Inputs'!$D$3:$X$137,H60,0)","v":0},{"$f":"IF(OR(G15=UvaluesWRF!A$2,ISERROR(VLOOKUP(G15,UvaluesWRF!A$3:B$110,2,FALSE))),\"\",VLOOKUP(G15,UvaluesWRF!A$3:B$110,2,FALSE))","v":""},{"$error":"#N/A"},{"$f":"IF(G15=UvaluesWRF!A$2,IF(ISERROR(F15*J15*H15),\"\",F15*J15*H15),IF(ISERROR(F15*J15*I15),\"\",F15*J15*I15))","v":""}]
[null,{"$f":"HLOOKUP($B$1,'Room Inputs'!$D$3:$X$137,B61,0)","v":0},{"$f":"HLOOKUP($B$1,'Room Inputs'!$D$3:$X$137,C61,0)","v":0},{"$f":"HLOOKUP($B$1,'Room Inputs'!$D$3:$X$137,D61,0)","v":0},{"$f":"HLOOKUP($B$1,'Room Inputs'!$D$3:$X$137,E61,0)","v":0},0,{"$f":"HLOOKUP($B$1,'Room Inputs'!$D$3:$X$137,G61,0)","v":0},{"$f":"HLOOKUP($B$1,'Room Inputs'!$D$3:$X$137,H61,0)","v":0},{"$f":"IF(OR(G16=UvaluesWRF!A$2,ISERROR(VLOOKUP(G16,UvaluesWRF!A$3:B$110,2,FALSE))),\"\",VLOOKUP(G16,UvaluesWRF!A$3:B$110,2,FALSE))","v":""},{"$error":"#N/A"},{"$f":"IF(G16=UvaluesWRF!A$2,IF(ISERROR(F16*J16*H16),\"\",F16*J16*H16),IF(ISERROR(F16*J16*I16),\"\",F16*J16*I16))","v":""}]
[null,{"$f":"HLOOKUP($B$1,'Room Inputs'!$D$3:$X$137,B62,0)","v":0},{"$f":"HLOOKUP($B$1,'Room Inputs'!$D$3:$X$137,C62,0)","v":0},{"$f":"HLOOKUP($B$1,'Room Inputs'!$D$3:$X$137,D62,0)","v":0},{"$f":"HLOOKUP($B$1,'Room Inputs'!$D$3:$X$137,E62,0)","v":0},0,{"$f":"HLOOKUP($B$1,'Room Inputs'!$D$3:$X$137,G62,0)","v":0},{"$f":"HLOOKUP($B$1,'Room Inputs'!$D$3:$X$137,H62,0)","v":0},{"$f":"IF(OR(G17=UvaluesWRF!A$2,ISERROR(VLOOKUP(G17,UvaluesWRF!A$3:B$110,2,FALSE))),\"\",VLOOKUP(G17,UvaluesWRF!A$3:B$110,2,FALSE))","v":""},{"$error":"#N/A"},{"$f":"IF(G17=UvaluesWRF!A$2,IF(ISERROR(F17*J17*H17),\"\",F17*J17*H17),IF(ISERROR(F17*J17*I17),\"\",F17*J17*I17))","v":""}]
[null,{"$f":"HLOOKUP($B$1,'Room Inputs'!$D$3:$X$137,B63,0)","v":0},{"$f":"HLOOKUP($B$1,'Room Inputs'!$D$3:$X$137,C63,0)","v":0},{"$f":"HLOOKUP($B$1,'Room Inputs'!$D$3:$X$137,D63,0)","v":0},{"$f":"HLOOKUP($B$1,'Room Inputs'!$D$3:$X$137,E63,0)","v":0},0,{"$f":"HLOOKUP($B$1,'Room Inputs'!$D$3:$X$137,G63,0)","v":0},{"$f":"HLOOKUP($B$1,'Room Inputs'!$D$3:$X$137,H63,0)","v":0},{"$f":"IF(OR(G18=UvaluesWRF!A$2,ISERROR(VLOOKUP(G18,UvaluesWRF!A$3:B$110,2,FALSE))),\"\",VLOOKUP(G18,UvaluesWRF!A$3:B$110,2,FALSE))","v":""},{"$error":"#N/A"},{"$f":"IF(G18=UvaluesWRF!A$2,IF(ISERROR(F18*J18*H18),\"\",F18*J18*H18),IF(ISERROR(F18*J18*I18),\"\",F18*J18*I18))","v":""}]
[null,{"$f":"HLOOKUP($B$1,'Room Inputs'!$D$3:$X$137,B64,0)","v":0},{"$f":"HLOOKUP($B$1,'Room Inputs'!$D$3:$X$137,C64,0)","v":0},{"$f":"HLOOKUP($B$1,'Room Inputs'!$D$3:$X$137,D64,0)","v":0},{"$f":"HLOOKUP($B$1,'Room Inputs'!$D$3:$X$137,E64,0)","v":0},0,{"$f":"HLOOKUP($B$1,'Room Inputs'!$D$3:$X$137,G64,0)","v":0},{"$f":"HLOOKUP($B$1,'Room Inputs'!$D$3:$X$137,H64,0)","v":0},{"$f":"IF(OR(G19=UvaluesWRF!A$2,ISERROR(VLOOKUP(G19,UvaluesWRF!A$3:B$110,2,FALSE))),\"\",VLOOKUP(G19,UvaluesWRF!A$3:B$110,2,FALSE))","v":""},{"$error":"#N/A"},{"$f":"IF(G19=UvaluesWRF!A$2,IF(ISERROR(F19*J19*H19),\"\",F19*J19*H19),IF(ISERROR(F19*J19*I19),\"\",F19*J19*I19))","v":""}]
[null,{"$f":"HLOOKUP($B$1,'Room Inputs'!$D$3:$X$137,B65,0)","v":0},{"$f":"HLOOKUP($B$1,'Room Inputs'!$D$3:$X$137,C65,0)","v":0},{"$f":"HLOOKUP($B$1,'Room Inputs'!$D$3:$X$137,D65,0)","v":0},{"$f":"HLOOKUP($B$1,'Room Inputs'!$D$3:$X$137,E65,0)","v":0},0,{"$f":"HLOOKUP($B$1,'Room Inputs'!$D$3:$X$137,G65,0)","v":0},{"$f":"HLOOKUP($B$1,'Room Inputs'!$D$3:$X$137,H65,0)","v":0},{"$f":"IF(OR(G20=UvaluesWRF!A$2,ISERROR(VLOOKUP(G20,UvaluesWRF!A$3:B$110,2,FALSE))),\"\",VLOOKUP(G20,UvaluesWRF!A$3:B$110,2,FALSE))","v":""},{"$error":"#N/A"},{"$f":"IF(G20=UvaluesWRF!A$2,IF(ISERROR(F20*J20*H20),\"\",F20*J20*H20),IF(ISERROR(F20*J20*I20),\"\",F20*J20*I20))","v":""}]
[null,{"$f":"HLOOKUP($B$1,'Room Inputs'!$D$3:$X$137,B66,0)","v":0},{"$f":"HLOOKUP($B$1,'Room Inputs'!$D$3:$X$137,C66,0)","v":0},{"$f":"HLOOKUP($B$1,'Room Inputs'!$D$3:$X$137,D66,0)","v":0},{"$f":"HLOOKUP($B$1,'Room Inputs'!$D$3:$X$137,E66,0)","v":0},0,{"$f":"HLOOKUP($B$1,'Room Inputs'!$D$3:$X$137,G66,0)","v":0},{"$f":"HLOOKUP($B$1,'Room Inputs'!$D$3:$X$137,H66,0)","v":0},{"$f":"IF(OR(G21=UvaluesWRF!A$2,ISERROR(VLOOKUP(G21,UvaluesWRF!A$3:B$110,2,FALSE))),\"\",VLOOKUP(G21,UvaluesWRF!A$3:B$110,2,FALSE))","v":""},{"$error":"#N/A"},{"$f":"IF(G21=UvaluesWRF!A$2,IF(ISERROR(F21*J21*H21),\"\",F21*J21*H21),IF(ISERROR(F21*J21*I21),\"\",F21*J21*I21))","v":""}]
[null,{"$f":"HLOOKUP($B$1,'Room Inputs'!$D$3:$X$137,B67,0)","v":0},{"$f":"HLOOKUP($B$1,'Room Inputs'!$D$3:$X$137,C67,0)","v":0},{"$f":"HLOOKUP($B$1,'Room Inputs'!$D$3:$X$137,D67,0)","v":0},{"$f":"HLOOKUP($B$1,'Room Inputs'!$D$3:$X$137,E67,0)","v":0},0,{"$f":"HLOOKUP($B$1,'Room Inputs'!$D$3:$X$137,G67,0)","v":0},{"$f":"HLOOKUP($B$1,'Room Inputs'!$D$3:$X$137,H67,0)","v":0},{"$f":"IF(OR(G22=UvaluesWRF!A$2,ISERROR(VLOOKUP(G22,UvaluesWRF!A$3:B$110,2,FALSE))),\"\",VLOOKUP(G22,UvaluesWRF!A$3:B$110,2,FALSE))","v":""},{"$error":"#N/A"},{"$f":"IF(G22=UvaluesWRF!A$2,IF(ISERROR(F22*J22*H22),\"\",F22*J22*H22),IF(ISERROR(F22*J22*I22),\"\",F22*J22*I22))","v":""}]
[null,{"$f":"HLOOKUP($B$1,'Room Inputs'!$D$3:$X$137,B68,0)","v":0},{"$f":"HLOOKUP($B$1,'Room Inputs'!$D$3:$X$137,C68,0)","v":0},{"$f":"HLOOKUP($B$1,'Room Inputs'!$D$3:$X$137,D68,0)","v":0},{"$f":"HLOOKUP($B$1,'Room Inputs'!$D$3:$X$137,E68,0)","v":0},0,{"$f":"HLOOKUP($B$1,'Room Inputs'!$D$3:$X$137,G68,0)","v":0},{"$f":"HLOOKUP($B$1,'Room Inputs'!$D$3:$X$137,H68,0)","v":0},{"$f":"IF(OR(G23=UvaluesWRF!A$2,ISERROR(VLOOKUP(G23,UvaluesWRF!A$3:B$110,2,FALSE))),\"\",VLOOKUP(G23,UvaluesWRF!A$3:B$110,2,FALSE))","v":""},{"$error":"#N/A"},{"$f":"IF(G23=UvaluesWRF!A$2,IF(ISERROR(F23*J23*H23),\"\",F23*J23*H23),IF(ISERROR(F23*J23*I23),\"\",F23*J23*I23))","v":""}]
[null,{"$f":"HLOOKUP($B$1,'Room Inputs'!$D$3:$X$137,B69,0)","v":0},{"$f":"HLOOKUP($B$1,'Room Inputs'!$D$3:$X$137,C69,0)","v":0},{"$f":"HLOOKUP($B$1,'Room Inputs'!$D$3:$X$137,D69,0)","v":0},{"$f":"HLOOKUP($B$1,'Room Inputs'!$D$3:$X$137,E69,0)","v":0},0,{"$f":"HLOOKUP($B$1,'Room Inputs'!$D$3:$X$137,G69,0)","v":0},{"$f":"HLOOKUP($B$1,'Room Inputs'!$D$3:$X$137,H69,0)","v":0},{"$f":"IF(OR(G24=UvaluesWRF!A$2,ISERROR(VLOOKUP(G24,UvaluesWRF!A$3:B$110,2,FALSE))),\"\",VLOOKUP(G24,UvaluesWRF!A$3:B$110,2,FALSE))","v":""},{"$error":"#N/A"},{"$f":"IF(G24=UvaluesWRF!A$2,IF(ISERROR(F24*J24*H24),\"\",F24*J24*H24),IF(ISERROR(F24*J24*I24),\"\",F24*J24*I24))","v":""}]
[null,{"$f":"HLOOKUP($B$1,'Room Inputs'!$D$3:$X$137,B70,0)","v":0},{"$f":"HLOOKUP($B$1,'Room Inputs'!$D$3:$X$137,C70,0)","v":0},{"$f":"HLOOKUP($B$1,'Room Inputs'!$D$3:$X$137,D70,0)","v":0},{"$f":"HLOOKUP($B$1,'Room Inputs'!$D$3:$X$137,E70,0)","v":0},0,{"$f":"HLOOKUP($B$1,'Room Inputs'!$D$3:$X$137,G70,0)","v":0},{"$f":"HLOOKUP($B$1,'Room Inputs'!$D$3:$X$137,H70,0)","v":0},{"$f":"IF(OR(G25=UvaluesWRF!A$2,ISERROR(VLOOKUP(G25,UvaluesWRF!A$3:B$110,2,FALSE))),\"\",VLOOKUP(G25,UvaluesWRF!A$3:B$110,2,FALSE))","v":""},{"$error":"#N/A"},{"$f":"IF(G25=UvaluesWRF!A$2,IF(ISERROR(F25*J25*H25),\"\",F25*J25*H25),IF(ISERROR(F25*J25*I25),\"\",F25*J25*I25))","v":""}]
[null,"Ground floors \nShort length (m)","long length\n(m)","Edges exposed",null,null,"Type and Insulation  thickness",null,null,null,null,null,"U-value","Edge","Insulation","Column",null,1,2,3,4,5.3,5.4,5.5,5.6,6.3,6.4,6.5,6.6]
[null,{"$f":"HLOOKUP($B$1,'Room Inputs'!$D$3:$X$137,B72,0)","v":0},{"$f":"HLOOKUP($B$1,'Room Inputs'!$D$3:$X$137,C72,0)","v":0},{"$f":"HLOOKUP($B$1,'Room Inputs'!$D$3:$X$137,D72,0)","v":0},{"$f":"HLOOKUP($B$1,'Room Inputs'!$D$3:$X$137,E72,0)","v":0},{"$f":"B27*C27","v":0},{"$f":"HLOOKUP($B$1,'Room Inputs'!$D$3:$X$137,G72,0)","v":0},{"$f":"HLOOKUP($B$1,'Room Inputs'!$D$3:$X$137,H72,0)","v":0},{"$f":"IF(OR(G27=UvaluesFlr!$U$3,G27=UvaluesFlr!$U$4,ISERROR(M27)),\"\",M27)","v":""},{"$f":"$K$8-IF(LEFT(G27,2)=\"So\",10,'Site Inputs'!$C$8)","v":{"$error":"#N/A"}},{"$f":"IF(OR(G27=UvaluesFlr!$U$3,G27=UvaluesFlr!$U$4),IF(ISERROR(F27*J27*H27),\"\",F27*J27*H27),IF(ISERROR(F27*J27*I27),\"\",F27*J27*I27))","v":""},null,{"$f":"HLOOKUP(N27+MIN(0.6,IF(N27>4,O27/10,0)),$R$26:$AC$29,2,TRUE)","v":{"$error":"#N/A"}},{"$f":"VLOOKUP(D27,UvaluesFlr!$U$17:$V$22,2,FALSE)","v":{"$error":"#N/A"}},{"$f":"VLOOKUP(G27,UvaluesFlr!$U$3:$W$14,2,FALSE)","v":{"$error":"#N/A"}},{"$f":"VLOOKUP(G27,UvaluesFlr!$U$3:$W$14,3,FALSE)","v":{"$error":"#N/A"}},null,{"$f":"VLOOKUP(C27,UvaluesFlr!$C$53:$P$59,$P27,TRUE)","v":{"$error":"#N/A"}},{"$f":"VLOOKUP(B27,UvaluesFlr!$C$53:$P$59,$P27,TRUE)","v":{"$error":"#N/A"}},{"$f":"VLOOKUP(B27+C27,UvaluesFlr!$C$4:$P$12,$P27,TRUE)","v":{"$error":"#N/A"}},{"$f":"VLOOKUP(B27,UvaluesFlr!$C$16:$P$21,$P27,TRUE)","v":{"$error":"#N/A"}},{"$f":"VLOOKUP($C27,UvaluesFlr!$D$26:$P$29,$P27-1,TRUE)","v":{"$error":"#N/A"}},{"$f":"VLOOKUP($C27,UvaluesFlr!$D$30:$P$31,$P27-1,TRUE)","v":{"$error":"#N/A"}},{"$f":"VLOOKUP($C27,UvaluesFlr!$D$32:$P$33,$P27-1,TRUE)","v":{"$error":"#N/A"}},{"$f":"VLOOKUP($C27,UvaluesFlr!$D$34:$P$35,$P27-1,TRUE)","v":{"$error":"#N/A"}},{"$f":"VLOOKUP($C27,UvaluesFlr!$D$39:$P$42,$P27-1,TRUE)","v":{"$error":"#N/A"}},{"$f":"VLOOKUP($C27,UvaluesFlr!$D$43:$P$45,$P27-1,TRUE)","v":{"$error":"#N/A"}},{"$f":"VLOOKUP($C27,UvaluesFlr!$D$46:$P$48,$P27-1,TRUE)","v":{"$error":"#N/A"}},{"$f":"VLOOKUP($C27,UvaluesFlr!$D$49:$P$50,$P27-1,TRUE)","v":{"$error":"#N/A"}}]
[null,{"$f":"HLOOKUP($B$1,'Room Inputs'!$D$3:$X$137,B73,0)","v":0},{"$f":"HLOOKUP($B$1,'Room Inputs'!$D$3:$X$137,C73,0)","v":0},{"$f":"HLOOKUP($B$1,'Room Inputs'!$D$3:$X$137,D73,0)","v":0},{"$f":"HLOOKUP($B$1,'Room Inputs'!$D$3:$X$137,E73,0)","v":{"$error":"#VALUE!"}},{"$f":"B28*C28","v":0},{"$f":"HLOOKUP($B$1,'Room Inputs'!$D$3:$X$137,G73,0)","v":0},{"$f":"HLOOKUP($B$1,'Room Inputs'!$D$3:$X$137,H73,0)","v":0},{"$f":"IF(OR(G28=UvaluesFlr!$U$3,G28=UvaluesFlr!$U$4,ISERROR(M28)),\"\",M28)","v":""},{"$f":"$K$8-IF(LEFT(G28,2)=\"So\",10,'Site Inputs'!$C$8)","v":{"$error":"#N/A"}},{"$f":"IF(OR(G28=UvaluesFlr!$U$3,G28=UvaluesFlr!$U$4),IF(ISERROR(F28*J28*H28),\"\",F28*J28*H28),IF(ISERROR(F28*J28*I28),\"\",F28*J28*I28))","v":""},null,{"$f":"HLOOKUP(N28+MIN(0.6,IF(N28>4,O28/10,0)),$R$26:$AC$29,3,TRUE)","v":{"$error":"#N/A"}},{"$f":"VLOOKUP(D28,UvaluesFlr!$U$17:$V$22,2,FALSE)","v":{"$error":"#N/A"}},{"$f":"VLOOKUP(G28,UvaluesFlr!$U$3:$W$14,2,FALSE)","v":{"$error":"#N/A"}},{"$f":"VLOOKUP(G28,UvaluesFlr!$U$3:$W$14,3,FALSE)","v":{"$error":"#N/A"}},null,{"$f":"VLOOKUP(C28,UvaluesFlr!$C$53:$P$59,$P28,TRUE)","v":{"$error":"#N/A"}},{"$f":"VLOOKUP(B28,UvaluesFlr!$C$53:$P$59,$P28,TRUE)","v":{"$error":"#N/A"}},{"$f":"VLOOKUP(B28+C28,UvaluesFlr!$C$4:$P$12,$P28,TRUE)","v":{"$error":"#N/A"}},{"$f":"VLOOKUP(B28,UvaluesFlr!$C$16:$P$21,$P28,TRUE)","v":{"$error":"#N/A"}},{"$f":"VLOOKUP($C28,UvaluesFlr!$D$26:$P$29,$P28-1,TRUE)","v":{"$error":"#N/A"}},{"$f":"VLOOKUP($C28,UvaluesFlr!$D$30:$P$31,$P28-1,TRUE)","v":{"$error":"#N/A"}},{"$f":"VLOOKUP($C28,UvaluesFlr!$D$32:$P$33,$P28-1,TRUE)","v":{"$error":"#N/A"}},{"$f":"VLOOKUP($C28,UvaluesFlr!$D$34:$P$35,$P28-1,TRUE)","v":{"$error":"#N/A"}},{"$f":"VLOOKUP($C28,UvaluesFlr!$D$39:$P$42,$P28-1,TRUE)","v":{"$error":"#N/A"}},{"$f":"VLOOKUP($C28,UvaluesFlr!$D$43:$P$45,$P28-1,TRUE)","v":{"$error":"#N/A"}},{"$f":"VLOOKUP($C28,UvaluesFlr!$D$46:$P$48,$P28-1,TRUE)","v":{"$error":"#N/A"}},{"$f":"VLOOKUP($C28,UvaluesFlr!$D$49:$P$50,$P28-1,TRUE)","v":{"$error":"#N/A"}}]
[null,{"$f":"HLOOKUP($B$1,'Room Inputs'!$D$3:$X$137,B74,0)","v":0},{"$f":"HLOOKUP($B$1,'Room Inputs'!$D$3:$X$137,C74,0)","v":0},{"$f":"HLOOKUP($B$1,'Room Inputs'!$D$3:$X$137,D74,0)","v":0},{"$f":"HLOOKUP($B$1,'Room Inputs'!$D$3:$X$137,E74,0)","v":{"$error":"#VALUE!"}},{"$f":"B29*C29","v":0},{"$f":"HLOOKUP($B$1,'Room Inputs'!$D$3:$X$137,G74,0)","v":0},{"$f":"HLOOKUP($B$1,'Room Inputs'!$D$3:$X$137,H74,0)","v":0},{"$f":"IF(OR(G29=UvaluesFlr!$U$3,G29=UvaluesFlr!$U$4,ISERROR(M29)),\"\",M29)","v":""},{"$f":"$K$8-IF(LEFT(G29,2)=\"So\",10,'Site Inputs'!$C$8)","v":{"$error":"#N/A"}},{"$f":"IF(OR(G29=UvaluesFlr!$U$3,G29=UvaluesFlr!$U$4),IF(ISERROR(F29*J29*H29),\"\",F29*J29*H29),IF(ISERROR(F29*J29*I29),\"\",F29*J29*I29))","v":""},null,{"$f":"HLOOKUP(N29+MIN(0.6,IF(N29>4,O29/10,0)),$R$26:$AC$29,4,TRUE)","v":{"$error":"#N/A"}},{"$f":"VLOOKUP(D29,UvaluesFlr!$U$17:$V$22,2,FALSE)","v":{"$error":"#N/A"}},{"$f":"VLOOKUP(G29,UvaluesFlr!$U$3:$W$14,2,FALSE)","v":{"$error":"#N/A"}},{"$f":"VLOOKUP(G29,UvaluesFlr!$U$3:$W$14,3,FALSE)","v":{"$error":"#N/A"}},null,{"$f":"VLOOKUP(C29,UvaluesFlr!$C$53:$P$59,$P29,TRUE)","v":{"$error":"#N/A"}},{"$f":"VLOOKUP(B29,UvaluesFlr!$C$53:$P$59,$P29,TRUE)","v":{"$error":"#N/A"}},{"$f":"VLOOKUP(B29+C29,UvaluesFlr!$C$4:$P$12,$P29,TRUE)","v":{"$error":"#N/A"}},{"$f":"VLOOKUP(B29,UvaluesFlr!$C$16:$P$21,$P29,TRUE)","v":{"$error":"#N/A"}},{"$f":"VLOOKUP($C29,UvaluesFlr!$D$26:$P$29,$P29-1,TRUE)","v":{"$error":"#N/A"}},{"$f":"VLOOKUP($C29,UvaluesFlr!$D$30:$P$31,$P29-1,TRUE)","v":{"$error":"#N/A"}},{"$f":"VLOOKUP($C29,UvaluesFlr!$D$32:$P$33,$P29-1,TRUE)","v":{"$error":"#N/A"}},{"$f":"VLOOKUP($C29,UvaluesFlr!$D$34:$P$35,$P29-1,TRUE)","v":{"$error":"#N/A"}},{"$f":"VLOOKUP($C29,UvaluesFlr!$D$39:$P$42,$P29-1,TRUE)","v":{"$error":"#N/A"}},{"$f":"VLOOKUP($C29,UvaluesFlr!$D$43:$P$45,$P29-1,TRUE)","v":{"$error":"#N/A"}},{"$f":"VLOOKUP($C29,UvaluesFlr!$D$46:$P$48,$P29-1,TRUE)","v":{"$error":"#N/A"}},{"$f":"VLOOKUP($C29,UvaluesFlr!$D$49:$P$50,$P29-1,TRUE)","v":{"$error":"#N/A"}}]
[]
[]
[null,"Windows and doors"]
[null,"Wall or roof with window or door","Window or door height (m)","Window or door width (m)","Area (m²)","Wall/roof U-value (W/m²K)","Frame and glazing type ","Entered U-\u001evalue (W/m²K), if required","U-value","Design temperature difference","Heat loss (W)*"]
[null,{"$f":"HLOOKUP($B$1,'Room Inputs'!$D$3:$X$137,B79,0)","v":0},{"$f":"HLOOKUP($B$1,'Room Inputs'!$D$3:$X$137,C79,0)","v":0},{"$f":"HLOOKUP($B$1,'Room Inputs'!$D$3:$X$137,D79,0)","v":0},{"$f":"C34*D34","v":0},{"$f":"IF(B34<>\"\",IF(VLOOKUP(B34,B$14:I$25,6,FALSE)=UvalueWD!$C$6,VLOOKUP(B34,B$14:I$25,7,FALSE),VLOOKUP(B34,B$14:I$25,8,FALSE)),\"\")","v":""},{"$f":"HLOOKUP($B$1,'Room Inputs'!$D$3:$X$137,G79,0)","v":0},{"$f":"HLOOKUP($B$1,'Room Inputs'!$D$3:$X$137,H79,0)","v":0},{"$f":"IF(OR(G34=UvalueWD!C$6,G34=\"\"),\"\",VLOOKUP(G34,Windows,2,FALSE))","v":{"$error":"#N/A"}},{"$f":"IF(ISERROR(VLOOKUP(B34,B$13:K$29,9,FALSE)),\"\",VLOOKUP(B34,B$13:K$29,9,FALSE))","v":""},{"$f":"IF(G34=UvaluesWRF!A$2,IF(ISERROR(F34*J34*(H34-F34)),\"\",F34*J34*(H34-F34)),IF(ISERROR(F34*J34*(F34-I34)),\"\",(I34-F34)*J34*I34))","v":""}]
[null,{"$f":"HLOOKUP($B$1,'Room Inputs'!$D$3:$X$137,B80,0)","v":0},{"$f":"HLOOKUP($B$1,'Room Inputs'!$D$3:$X$137,C80,0)","v":0},{"$f":"HLOOKUP($B$1,'Room Inputs'!$D$3:$X$137,D80,0)","v":0},0,{"$f":"IF(B35<>\"\",IF(VLOOKUP(B35,B$14:I$25,6,FALSE)=UvalueWD!$C$6,VLOOKUP(B35,B$14:I$25,7,FALSE),VLOOKUP(B35,B$14:I$25,8,FALSE)),\"\")","v":""},{"$f":"HLOOKUP($B$1,'Room Inputs'!$D$3:$X$137,G80,0)","v":0},{"$f":"HLOOKUP($B$1,'Room Inputs'!$D$3:$X$137,H80,0)","v":0},{"$f":"IF(OR(G35=UvalueWD!C$6,G35=\"\"),\"\",VLOOKUP(G35,Windows,2,FALSE))","v":{"$error":"#N/A"}},"",{"$f":"IF(G35=UvaluesWRF!A$2,IF(ISERROR(F35*J35*(H35-F35)),\"\",F35*J35*(H35-F35)),IF(ISERROR(F35*J35*(F35-I35)),\"\",(I35-F35)*J35*I35))","v":""}]
[null,{"$f":"HLOOKUP($B$1,'Room Inputs'!$D$3:$X$137,B81,0)","v":0},{"$f":"HLOOKUP($B$1,'Room Inputs'!$D$3:$X$137,C81,0)","v":0},{"$f":"HLOOKUP($B$1,'Room Inputs'!$D$3:$X$137,D81,0)","v":0},0,{"$f":"IF(B36<>\"\",IF(VLOOKUP(B36,B$14:I$25,6,FALSE)=UvalueWD!$C$6,VLOOKUP(B36,B$14:I$25,7,FALSE),VLOOKUP(B36,B$14:I$25,8,FALSE)),\"\")","v":""},{"$f":"HLOOKUP($B$1,'Room Inputs'!$D$3:$X$137,G81,0)","v":0},{"$f":"HLOOKUP($B$1,'Room Inputs'!$D$3:$X$137,H81,0)","v":0},{"$f":"IF(OR(G36=UvalueWD!C$6,G36=\"\"),\"\",VLOOKUP(G36,Windows,2,FALSE))","v":{"$error":"#N/A"}},"",{"$f":"IF(G36=UvaluesWRF!A$2,IF(ISERROR(F36*J36*(H36-F36)),\"\",F36*J36*(H36-F36)),IF(ISERROR(F36*J36*(F36-I36)),\"\",(I36-F36)*J36*I36))","v":""}]
[null,{"$f":"HLOOKUP($B$1,'Room Inputs'!$D$3:$X$137,B82,0)","v":0},{"$f":"HLOOKUP($B$1,'Room Inputs'!$D$3:$X$137,C82,0)","v":0},{"$f":"HLOOKUP($B$1,'Room Inputs'!$D$3:$X$137,D82,0)","v":0},0,{"$f":"IF(B37<>\"\",IF(VLOOKUP(B37,B$14:I$25,6,FALSE)=UvalueWD!$C$6,VLOOKUP(B37,B$14:I$25,7,FALSE),VLOOKUP(B37,B$14:I$25,8,FALSE)),\"\")","v":""},{"$f":"HLOOKUP($B$1,'Room Inputs'!$D$3:$X$137,G82,0)","v":0},{"$f":"HLOOKUP($B$1,'Room Inputs'!$D$3:$X$137,H82,0)","v":0},{"$f":"IF(OR(G37=UvalueWD!C$6,G37=\"\"),\"\",VLOOKUP(G37,Windows,2,FALSE))","v":{"$error":"#N/A"}},"",{"$f":"IF(G37=UvaluesWRF!A$2,IF(ISERROR(F37*J37*(H37-F37)),\"\",F37*J37*(H37-F37)),IF(ISERROR(F37*J37*(F37-I37)),\"\",(I37-F37)*J37*I37))","v":""}]
[null,{"$f":"HLOOKUP($B$1,'Room Inputs'!$D$3:$X$137,B83,0)","v":0},{"$f":"HLOOKUP($B$1,'Room Inputs'!$D$3:$X$137,C83,0)","v":0},{"$f":"HLOOKUP($B$1,'Room Inputs'!$D$3:$X$137,D83,0)","v":0},0,{"$f":"IF(B38<>\"\",IF(VLOOKUP(B38,B$14:I$25,6,FALSE)=UvalueWD!$C$6,VLOOKUP(B38,B$14:I$25,7,FALSE),VLOOKUP(B38,B$14:I$25,8,FALSE)),\"\")","v":""},{"$f":"HLOOKUP($B$1,'Room Inputs'!$D$3:$X$137,G83,0)","v":0},{"$f":"HLOOKUP($B$1,'Room Inputs'!$D$3:$X$137,H83,0)","v":0},{"$f":"IF(OR(G38=UvalueWD!C$6,G38=\"\"),\"\",VLOOKUP(G38,Windows,2,FALSE))","v":{"$error":"#N/A"}},"",{"$f":"IF(G38=UvaluesWRF!A$2,IF(ISERROR(F38*J38*(H38-F38)),\"\",F38*J38*(H38-F38)),IF(ISERROR(F38*J38*(F38-I38)),\"\",(I38-F38)*J38*I38))","v":""}]
[null,{"$f":"HLOOKUP($B$1,'Room Inputs'!$D$3:$X$137,B84,0)","v":0},{"$f":"HLOOKUP($B$1,'Room Inputs'!$D$3:$X$137,C84,0)","v":0},{"$f":"HLOOKUP($B$1,'Room Inputs'!$D$3:$X$137,D84,0)","v":0},0,{"$f":"IF(B39<>\"\",IF(VLOOKUP(B39,B$14:I$25,6,FALSE)=UvalueWD!$C$6,VLOOKUP(B39,B$14:I$25,7,FALSE),VLOOKUP(B39,B$14:I$25,8,FALSE)),\"\")","v":""},{"$f":"HLOOKUP($B$1,'Room Inputs'!$D$3:$X$137,G84,0)","v":0},{"$f":"HLOOKUP($B$1,'Room Inputs'!$D$3:$X$137,H84,0)","v":0},{"$f":"IF(OR(G39=UvalueWD!C$6,G39=\"\"),\"\",VLOOKUP(G39,Windows,2,FALSE))","v":{"$error":"#N/A"}},"",{"$f":"IF(G39=UvaluesWRF!A$2,IF(ISERROR(F39*J39*(H39-F39)),\"\",F39*J39*(H39-F39)),IF(ISERROR(F39*J39*(F39-I39)),\"\",(I39-F39)*J39*I39))","v":""}]
[]
[null,"* this is net heat loss (i.e. the heat loss of the window minus that of a wall of the same area) and so can be negative.  This is done so that the area of the window or door does not have to be subtracted from the wall area.  "]
[null,null,null,null,null,null,null,null,"Room heat loss (W)",null,{"$f":"SUM(K10:K39)","v":0}]
[]
[]
[]
[null,"Row number lookup map"]
[]
[null,"Room name",2,null,"Emitter type",3,"For convectors consult the manufacturer's data and enter the temperature factor (FTEMP) for the appropriate fan speed",4,"For radiators enter the n-coefficient (exponent) from manufacturer's data.  If unknown 1.3 may be used",null,5]
[]
[null,"Enter floor type and construction",6,null,"Enter floor type and construction",7,"For UFH enter Tog value (See Table 14)",8,"For UFH enter  active or exposed area of the heated floor ",null,9]
[]
[null,"Enter Room type below",null,null," Enter Open fire/chimney details below "]
[null,10,null,null,11]
[null,"Room Dimensions"]
[null,"Length (m)",null,"Width (m)",null,"Height (m)"]
[null,13,null,14,null,15]
[null,"Walls, floors not ground floors and ceiling"]
[null,"Name of wall, floor, ceiling","Space on other side","Height or length (m)","Width (m)",null,"Construction","Entered U-\u001evalue (W/m²K), if required"]
[null,16,17,18,19,null,20,21]
[null,22,23,24,25,null,26,27]
[null,28,29,30,31,null,32,33]
[null,35,36,37,38,null,39,40]
[null,41,42,43,44,null,45,46]
[null,47,48,49,50,null,51,52]
[null,53,54,55,56,null,57,58]
[null,59,60,61,62,null,63,64]
[null,65,66,67,68,null,69,70]
[null,71,72,73,74,null,75,76]
[null,77,78,79,80,null,81,82]
[null,83,84,85,86,null,87,88]
[null,"Ground floors \nShort length (m)","long length\n(m)","Edges exposed",null,null,"Type and Insulation  thickness"]
[null,89,90,91,92,null,92,93]
[null,95,96,97,null,null,98,99]
[null,100,101,102,null,null,103,104]
[]
[]
[null,"Windows and doors"]
[null,"Wall or roof with window or door","Window or door height (m)","Window or door width (m)","Area (m²)","Wall/roof U-value (W/m²K)","Frame and glazing type ","Entered U-\u001evalue (W/m²K), if required"]
[null,105,106,107,null,null,108,109]
[null,111,112,113,null,null,114,115]
[null,116,117,118,null,null,119,120]
[null,121,122,123,null,null,124,125]
[null,126,127,128,null,null,129,130]
[null,131,132,133,null,null,134,135]

{"sheet":"8","index":13,"n_rows":84,"n_cols":29,"rows_kept":84,"cut":false,"hidden":true,"merged":[[40,1,40,7],[41,8,41,9],[7,7,7,8],[4,8,4,9],[6,1,6,2],[6,4,6,5],[6,7,6,8],[47,8,47,9],[49,2,49,3],[49,8,49,9],[51,1,51,2],[51,4,51,5],[51,7,51,8],[52,1,52,2],[52,4,52,5],[52,7,52,8],[72,3,72,4],[73,3,73,4],[71,3,71,4]]}
[null,{"$f":"'Room Inputs'!K3","v":"Room8"}]
[]
[null,"Room name",{"$f":"HLOOKUP($B$1,'Room Inputs'!$D$3:$X$137,C48,0)","v":0},null,"Emitter type",{"$f":"HLOOKUP($B$1,'Room Inputs'!$D$3:$X$137,F48,0)","v":0},"For convectors consult the manufacturer's data and enter the temperature factor (FTEMP) for the appropriate fan speed",{"$f":"HLOOKUP($B$1,'Room Inputs'!$D$3:$X$137,H48,0)","v":0.85},"For radiators enter the n-coefficient (exponent) from manufacturer's data.  If unknown 1.3 may be used",null,{"$f":"HLOOKUP($B$1,'Room Inputs'!$D$3:$X$137,K48,0)","v":1.3}]
[]
[null,"Enter floor type and construction",{"$f":"HLOOKUP($B$1,'Room Inputs'!$D$3:$X$137,C50,0)","v":0},null,"Enter floor type and construction",{"$f":"HLOOKUP($B$1,'Room Inputs'!$D$3:$X$137,F50,0)","v":0},"For UFH enter Tog value (See Table 14)",{"$f":"HLOOKUP($B$1,'Room Inputs'!$D$3:$X$137,H50,0)","v":0.25},"For UFH enter  active or exposed area of the heated floor ",null,{"$f":"HLOOKUP($B$1,'Room Inputs'!$D$3:$X$137,K50,0)","v":0}]
[]
[null,"Enter Room type below",null,null," Enter Open fire/chimney details below ",null,null,"Design room ventilation rate (air changes per hour)",null,null,"Design room temperature °C"]
[null,{"$f":"HLOOKUP($B$1,'Room Inputs'!$D$3:$X$137,B53,0)","v":0},null,null,{"$f":"HLOOKUP($B$1,'Room Inputs'!$D$3:$X$137,E53,0)","v":0},null,null,{"$f":"IF(E8=VTables!B20,VLOOKUP(B8,DRVT,3,FALSE),MAX(VLOOKUP(B8,DRVT,3,FALSE),VLOOKUP(E8,ARVR,2,FALSE)))","v":{"$error":"#N/A"}},null,null,{"$f":"VLOOKUP(B8,DRVT,2,FALSE)","v":{"$error":"#N/A"}}]
[null,"Room Dimensions"]
[null,"Length (m)",null,"Width (m)",null,"Height (m)","Room volume (m³) ",null,null,"Design temperature difference","Heat loss (W)"]
[null,{"$f":"HLOOKUP($B$1,'Room Inputs'!$D$3:$X$137,B56,0)","v":0},null,{"$f":"HLOOKUP($B$1,'Room Inputs'!$D$3:$X$137,D56,0)","v":0},null,{"$f":"HLOOKUP($B$1,'Room Inputs'!$D$3:$X$137,F56,0)","v":0},{"$f":"B11*D11*F11","v":0},null,null,{"$f":"K8-'Site Inputs'!C8","v":{"$error":"#N/A"}},{"$f":"IF(G11>0,(ROUND(0.33*G11*H8*J11,2)),\"\")","v":""}]
[null,"Walls, floors not ground floors and ceiling"]
[null,"Name of wall, floor, ceiling","Space on other side","Height or length (m)","Width (m)","Area (m²)","Construction","Entered U-\u001evalue (W/m²K), if required","U-value (W/m²K)","Design temperature difference","Heat loss (W)",null,"`"]
[null,{"$f":"HLOOKUP($B$1,'Room Inputs'!$D$3:$X$137,B59,0)","v":0},{"$f":"HLOOKUP($B$1,'Room Inputs'!$D$3:$X$137,C59,0)","v":0},{"$f":"HLOOKUP($B$1,'Room Inputs'!$D$3:$X$137,D59,0)","v":0},{"$f":"HLOOKUP($B$1,'Room Inputs'!$D$3:$X$137,E59,0)","v":0},{"$f":"D14*E14","v":0},{"$f":"HLOOKUP($B$1,'Room Inputs'!$D$3:$X$137,G59,0)","v":0},{"$f":"HLOOKUP($B$1,'Room Inputs'!$D$3:$X$137,H59,0)","v":0},{"$f":"IF(OR(G14=UvaluesWRF!A$2,ISERROR(VLOOKUP(G14,UvaluesWRF!A$3:B$110,2,FALSE))),\"\",VLOOKUP(G14,UvaluesWRF!A$3:B$110,2,FALSE))","v":""},{"$f":"IF(C14=\"\",\"\",$K$8-VLOOKUP(C14,DRVT,2,FALSE))","v":{"$error":"#N/A"}},{"$f":"IF(G14=UvaluesWRF!A$2,IF(ISERROR(F14*J14*H14),\"\",F14*J14*H14),IF(ISERROR(F14*J14*I14),\"\",F14*J14*I14))","v":""}]
[null,{"$f":"HLOOKUP($B$1,'Room Inputs'!$D$3:$X$137,B60,0)","v":0},{"$f":"HLOOKUP($B$1,'Room Inputs'!$D$3:$X$137,C60,0)","v":0},{"$f":"HLOOKUP($B$1,'Room Inputs'!$D$3:$X$137,D60,0)","v":0},{"$f":"HLOOKUP($B$1,'Room Inputs'!$D$3:$X$137,E60,0)","v":0},{"$f":"D15*E15","v":0},{"$f":"HLOOKUP($B$1,'Room Inputs'!$D$3:$X$137,G60,0)","v":0},{"$f":"HLOOKUP($B$1,'Room Inputs'!$D$3:$X$137,H60,0)","v":0},{"$f":"IF(OR(G15=UvaluesWRF!A$2,ISERROR(VLOOKUP(G15,UvaluesWRF!A$3:B$110,2,FALSE))),\"\",VLOOKUP(G15,UvaluesWRF!A$3:B$110,2,FALSE))","v":""},{"$error":"#N/A"},{"$f":"IF(G15=UvaluesWRF!A$2,IF(ISERROR(F15*J15*H15),\"\",F15*J15*H15),IF(ISERROR(F15*J15*I15),\"\",F15*J15*I15))","v":""}]
[null,{"$f":"HLOOKUP($B$1,'Room Inputs'!$D$3:$X$137,B61,0)","v":0},{"$f":"HLOOKUP($B$1,'Room Inputs'!$D$3:$X$137,C61,0)","v":0},{"$f":"HLOOKUP($B$1,'Room Inputs'!$D$3:$X$137,D61,0)","v":0},{"$f":"HLOOKUP($B$1,'Room Inputs'!$D$3:$X$137,E61,0)","v":0},0,{"$f":"HLOOKUP($B$1,'Room Inputs'!$D$3:$X$137,G61,0)","v":0},{"$f":"HLOOKUP($B$1,'Room Inputs'!$D$3:$X$137,H61,0)","v":0},{"$f":"IF(OR(G16=UvaluesWRF!A$2,ISERROR(VLOOKUP(G16,UvaluesWRF!A$3:B$110,2,FALSE))),\"\",VLOOKUP(G16,UvaluesWRF!A$3:B$110,2,FALSE))","v":""},{"$error":"#N/A"},{"$f":"IF(G16=UvaluesWRF!A$2,IF(ISERROR(F16*J16*H16),\"\",F16*J16*H16),IF(ISERROR(F16*J16*I16),\"\",F16*J16*I16))","v":""}]
[null,{"$f":"HLOOKUP($B$1,'Room Inputs'!$D$3:$X$137,B62,0)","v":0},{"$f":"HLOOKUP($B$1,'Room Inputs'!$D$3:$X$137,C62,0)","v":0},{"$f":"HLOOKUP($B$1,'Room Inputs'!$D$3:$X$137,D62,0)","v":0},{"$f":"HLOOKUP($B$1,'Room Inputs'!$D$3:$X$137,E62,0)","v":0},0,{"$f":"HLOOKUP($B$1,'Room Inputs'!$D$3:$X$137,G62,0)","v":0},{"$f":"HLOOKUP($B$1,'Room Inputs'!$D$3:$X$137,H62,0)","v":0},{"$f":"IF(OR(G17=UvaluesWRF!A$2,ISERROR(VLOOKUP(G17,UvaluesWRF!A$3:B$110,2,FALSE))),\"\",VLOOKUP(G17,UvaluesWRF!A$3:B$110,2,FALSE))","v":""},{"$error":"#N/A"},{"$f":"IF(G17=UvaluesWRF!A$2,IF(ISERROR(F17*J17*H17),\"\",F17*J17*H17),IF(ISERROR(F17*J17*I17),\"\",F17*J17*I17))","v":""}]
[null,{"$f":"HLOOKUP($B$1,'Room Inputs'!$D$3:$X$137,B63,0)","v":0},{"$f":"HLOOKUP($B$1,'Room Inputs'!$D$3:$X$137,C63,0)","v":0},{"$f":"HLOOKUP($B$1,'Room Inputs'!$D$3:$X$137,D63,0)","v":0},{"$f":"HLOOKUP($B$1,'Room Inputs'!$D$3:$X$137,E63,0)","v":0},0,{"$f":"HLOOKUP($B$1,'Room Inputs'!$D$3:$X$137,G63,0)","v":0},{"$f":"HLOOKUP($B$1,'Room Inputs'!$D$3:$X$137,H63,0)","v":0},{"$f":"IF(OR(G18=UvaluesWRF!A$2,ISERROR(VLOOKUP(G18,UvaluesWRF!A$3:B$110,2,FALSE))),\"\",VLOOKUP(G18,UvaluesWRF!A$3:B$110,2,FALSE))","v":""},{"$error":"#N/A"},{"$f":"IF(G18=UvaluesWRF!A$2,IF(ISERROR(F18*J18*H18),\"\",F18*J18*H18),IF(ISERROR(F18*J18*I18),\"\",F18*J18*I18))","v":""}]
[null,{"$f":"HLOOKUP($B$1,'Room Inputs'!$D$3:$X$137,B64,0)","v":0},{"$f":"HLOOKUP($B$1,'Room Inputs'!$D$3:$X$137,C64,0)","v":0},{"$f":"HLOOKUP($B$1,'Room Inputs'!$D$3:$X$137,D64,0)","v":0},{"$f":"HLOOKUP($B$1,'Room Inputs'!$D$3:$X$137,E64,0)","v":0},0,{"$f":"HLOOKUP($B$1,'Room Inputs'!$D$3:$X$137,G64,0)","v":0},{"$f":"HLOOKUP($B$1,'Room Inputs'!$D$3:$X$137,H64,0)","v":0},{"$f":"IF(OR(G19=UvaluesWRF!A$2,ISERROR(VLOOKUP(G19,UvaluesWRF!A$3:B$110,2,FALSE))),\"\",VLOOKUP(G19,UvaluesWRF!A$3:B$110,2,FALSE))","v":""},{"$error":"#N/A"},{"$f":"IF(G19=UvaluesWRF!A$2,IF(ISERROR(F19*J19*H19),\"\",F19*J19*H19),IF(ISERROR(F19*J19*I19),\"\",F19*J19*I19))","v":""}]
[null,{"$f":"HLOOKUP($B$1,'Room Inputs'!$D$3:$X$137,B65,0)","v":0},{"$f":"HLOOKUP($B$1,'Room Inputs'!$D$3:$X$137,C65,0)","v":0},{"$f":"HLOOKUP($B$1,'Room Inputs'!$D$3:$X$137,D65,0)","v":0},{"$f":"HLOOKUP($B$1,'Room Inputs'!$D$3:$X$137,E65,0)","v":0},0,{"$f":"HLOOKUP($B$1,'Room Inputs'!$D$3:$X$137,G65,0)","v":0},{"$f":"HLOOKUP($B$1,'Room Inputs'!$D$3:$X$137,H65,0)","v":0},{"$f":"IF(OR(G20=UvaluesWRF!A$2,ISERROR(VLOOKUP(G20,UvaluesWRF!A$3:B$110,2,FALSE))),\"\",VLOOKUP(G20,UvaluesWRF!A$3:B$110,2,FALSE))","v":""},{"$error":"#N/A"},{"$f":"IF(G20=UvaluesWRF!A$2,IF(ISERROR(F20*J20*H20),\"\",F20*J20*H20),IF(ISERROR(F20*J20*I20),\"\",F20*J20*I20))","v":""}]
[null,{"$f":"HLOOKUP($B$1,'Room Inputs'!$D$3:$X$137,B66,0)","v":0},{"$f":"HLOOKUP($B$1,'Room Inputs'!$D$3:$X$137,C66,0)","v":0},{"$f":"HLOOKUP($B$1,'Room Inputs'!$D$3:$X$137,D66,0)","v":0},{"$f":"HLOOKUP($B$1,'Room Inputs'!$D$3:$X$137,E66,0)","v":0},0,{"$f":"HLOOKUP($B$1,'Room Inputs'!$D$3:$X$137,G66,0)","v":0},{"$f":"HLOOKUP($B$1,'Room Inputs'!$D$3:$X$137,H66,0)","v":0},{"$f":"IF(OR(G21=UvaluesWRF!A$2,ISERROR(VLOOKUP(G21,UvaluesWRF!A$3:B$110,2,FALSE))),\"\",VLOOKUP(G21,UvaluesWRF!A$3:B$110,2,FALSE))","v":""},{"$error":"#N/A"},{"$f":"IF(G21=UvaluesWRF!A$2,IF(ISERROR(F21*J21*H21),\"\",F21*J21*H21),IF(ISERROR(F21*J21*I21),\"\",F21*J21*I21))","v":""}]
[null,{"$f":"HLOOKUP($B$1,'Room Inputs'!$D$3:$X$137,B67,0)","v":0},{"$f":"HLOOKUP($B$1,'Room Inputs'!$D$3:$X$137,C67,0)","v":0},{"$f":"HLOOKUP($B$1,'Room Inputs'!$D$3:$X$137,D67,0)","v":0},{"$f":"HLOOKUP($B$1,'Room Inputs'!$D$3:$X$137,E67,0)","v":0},0,{"$f":"HLOOKUP($B$1,'Room Inputs'!$D$3:$X$137,G67,0)","v":0},{"$f":"HLOOKUP($B$1,'Room Inputs'!$D$3:$X$137,H67,0)","v":0},{"$f":"IF(OR(G22=UvaluesWRF!A$2,ISERROR(VLOOKUP(G22,UvaluesWRF!A$3:B$110,2,FALSE))),\"\",VLOOKUP(G22,UvaluesWRF!A$3:B$110,2,FALSE))","v":""},{"$error":"#N/A"},{"$f":"IF(G22=UvaluesWRF!A$2,IF(ISERROR(F22*J22*H22),\"\",F22*J22*H22),IF(ISERROR(F22*J22*I22),\"\",F22*J22*I22))","v":""}]
[null,{"$f":"HLOOKUP($B$1,'Room Inputs'!$D$3:$X$137,B68,0)","v":0},{"$f":"HLOOKUP($B$1,'Room Inputs'!$D$3:$X$137,C68,0)","v":0},{"$f":"HLOOKUP($B$1,'Room Inputs'!$D$3:$X$137,D68,0)","v":0},{"$f":"HLOOKUP($B$1,'Room Inputs'!$D$3:$X$137,E68,0)","v":0},0,{"$f":"HLOOKUP($B$1,'Room Inputs'!$D$3:$X$137,G68,0)","v":0},{"$f":"HLOOKUP($B$1,'Room Inputs'!$D$3:$X$137,H68,0)","v":0},{"$f":"IF(OR(G23=UvaluesWRF!A$2,ISERROR(VLOOKUP(G23,UvaluesWRF!A$3:B$110,2,FALSE))),\"\",VLOOKUP(G23,UvaluesWRF!A$3:B$110,2,FALSE))","v":""},{"$error":"#N/A"},{"$f":"IF(G23=UvaluesWRF!A$2,IF(ISERROR(F23*J23*H23),\"\",F23*J23*H23),IF(ISERROR(F23*J23*I23),\"\",F23*J23*I23))","v":""}]
[null,{"$f":"HLOOKUP($B$1,'Room Inputs'!$D$3:$X$137,B69,0)","v":0},{"$f":"HLOOKUP($B$1,'Room Inputs'!$D$3:$X$137,C69,0)","v":0},{"$f":"HLOOKUP($B$1,'Room Inputs'!$D$3:$X$137,D69,0)","v":0},{"$f":"HLOOKUP($B$1,'Room Inputs'!$D$3:$X$137,E69,0)","v":0},0,{"$f":"HLOOKUP($B$1,'Room Inputs'!$D$3:$X$137,G69,0)","v":0},{"$f":"HLOOKUP($B$1,'Room Inputs'!$D$3:$X$137,H69,0)","v":0},{"$f":"IF(OR(G24=UvaluesWRF!A$2,ISERROR(VLOOKUP(G24,UvaluesWRF!A$3:B$110,2,FALSE))),\"\",VLOOKUP(G24,UvaluesWRF!A$3:B$110,2,FALSE))","v":""},{"$error":"#N/A"},{"$f":"IF(G24=UvaluesWRF!A$2,IF(ISERROR(F24*J24*H24),\"\",F24*J24*H24),IF(ISERROR(F24*J24*I24),\"\",F24*J24*I24))","v":""}]
[null,{"$f":"HLOOKUP($B$1,'Room Inputs'!$D$3:$X$137,B70,0)","v":0},{"$f":"HLOOKUP($B$1,'Room Inputs'!$D$3:$X$137,C70,0)","v":0},{"$f":"HLOOKUP($B$1,'Room Inputs'!$D$3:$X$137,D70,0)","v":0},{"$f":"HLOOKUP($B$1,'Room Inputs'!$D$3:$X$137,E70,0)","v":0},0,{"$f":"HLOOKUP($B$1,'Room Inputs'!$D$3:$X$137,G70,0)","v":0},{"$f":"HLOOKUP($B$1,'Room Inputs'!$D$3:$X$137,H70,0)","v":0},{"$f":"IF(OR(G25=UvaluesWRF!A$2,ISERROR(VLOOKUP(G25,UvaluesWRF!A$3:B$110,2,FALSE))),\"\",VLOOKUP(G25,UvaluesWRF!A$3:B$110,2,FALSE))","v":""},{"$error":"#N/A"},{"$f":"IF(G25=UvaluesWRF!A$2,IF(ISERROR(F25*J25*H25),\"\",F25*J25*H25),IF(ISERROR(F25*J25*I25),\"\",F25*J25*I25))","v":""}]
[null,"Ground floors \nShort length (m)","long length\n(m)","Edges exposed",null,null,"Type and Insulation  thickness",null,null,null,null,null,"U-value","Edge","Insulation","Column",null,1,2,3,4,5.3,5.4,5.5,5.6,6.3,6.4,6.5,6.6]
[null,{"$f":"HLOOKUP($B$1,'Room Inputs'!$D$3:$X$137,B72,0)","v":0},{"$f":"HLOOKUP($B$1,'Room Inputs'!$D$3:$X$137,C72,0)","v":0},{"$f":"HLOOKUP($B$1,'Room Inputs'!$D$3:$X$137,D72,0)","v":0},{"$f":"HLOOKUP($B$1,'Room Inputs'!$D$3:$X$137,E72,0)","v":0},{"$f":"B27*C27","v":0},{"$f":"HLOOKUP($B$1,'Room Inputs'!$D$3:$X$137,G72,0)","v":0},{"$f":"HLOOKUP($B$1,'Room Inputs'!$D$3:$X$137,H72,0)","v":0},{"$f":"IF(OR(G27=UvaluesFlr!$U$3,G27=UvaluesFlr!$U$4,ISERROR(M27)),\"\",M27)","v":""},{"$f":"$K$8-IF(LEFT(G27,2)=\"So\",10,'Site Inputs'!$C$8)","v":{"$error":"#N/A"}},{"$f":"IF(OR(G27=UvaluesFlr!$U$3,G27=UvaluesFlr!$U$4),IF(ISERROR(F27*J27*H27),\"\",F27*J27*H27),IF(ISERROR(F27*J27*I27),\"\",F27*J27*I27))","v":""},null,{"$f":"HLOOKUP(N27+MIN(0.6,IF(N27>4,O27/10,0)),$R$26:$AC$29,2,TRUE)","v":{"$error":"#N/A"}},{"$f":"VLOOKUP(D27,UvaluesFlr!$U$17:$V$22,2,FALSE)","v":{"$error":"#N/A"}},{"$f":"VLOOKUP(G27,UvaluesFlr!$U$3:$W$14,2,FALSE)","v":{"$error":"#N/A"}},{"$f":"VLOOKUP(G27,UvaluesFlr!$U$3:$W$14,3,FALSE)","v":{"$error":"#N/A"}},null,{"$f":"VLOOKUP(C27,UvaluesFlr!$C$53:$P$59,$P27,TRUE)","v":{"$error":"#N/A"}},{"$f":"VLOOKUP(B27,UvaluesFlr!$C$53:$P$59,$P27,TRUE)","v":{"$error":"#N/A"}},{"$f":"VLOOKUP(B27+C27,UvaluesFlr!$C$4:$P$12,$P27,TRUE)","v":{"$error":"#N/A"}},{"$f":"VLOOKUP(B27,UvaluesFlr!$C$16:$P$21,$P27,TRUE)","v":{"$error":"#N/A"}},{"$f":"VLOOKUP($C27,UvaluesFlr!$D$26:$P$29,$P27-1,TRUE)","v":{"$error":"#N/A"}},{"$f":"VLOOKUP($C27,UvaluesFlr!$D$30:$P$31,$P27-1,TRUE)","v":{"$error":"#N/A"}},{"$f":"VLOOKUP($C27,UvaluesFlr!$D$32:$P$33,$P27-1,TRUE)","v":{"$error":"#N/A"}},{"$f":"VLOOKUP($C27,UvaluesFlr!$D$34:$P$35,$P27-1,TRUE)","v":{"$error":"#N/A"}},{"$f":"VLOOKUP($C27,UvaluesFlr!$D$39:$P$42,$P27-1,TRUE)","v":{"$error":"#N/A"}},{"$f":"VLOOKUP($C27,UvaluesFlr!$D$43:$P$45,$P27-1,TRUE)","v":{"$error":"#N/A"}},{"$f":"VLOOKUP($C27,UvaluesFlr!$D$46:$P$48,$P27-1,TRUE)","v":{"$error":"#N/A"}},{"$f":"VLOOKUP($C27,UvaluesFlr!$D$49:$P$50,$P27-1,TRUE)","v":{"$error":"#N/A"}}]
[null,{"$f":"HLOOKUP($B$1,'Room Inputs'!$D$3:$X$137,B73,0)","v":0},{"$f":"HLOOKUP($B$1,'Room Inputs'!$D$3:$X$137,C73,0)","v":0},{"$f":"HLOOKUP($B$1,'Room Inputs'!$D$3:$X$137,D73,0)","v":0},{"$f":"HLOOKUP($B$1,'Room Inputs'!$D$3:$X$137,E73,0)","v":{"$error":"#VALUE!"}},{"$f":"B28*C28","v":0},{"$f":"HLOOKUP($B$1,'Room Inputs'!$D$3:$X$137,G73,0)","v":0},{"$f":"HLOOKUP($B$1,'Room Inputs'!$D$3:$X$137,H73,0)","v":0},{"$f":"IF(OR(G28=UvaluesFlr!$U$3,G28=UvaluesFlr!$U$4,ISERROR(M28)),\"\",M28)","v":""},{"$f":"$K$8-IF(LEFT(G28,2)=\"So\",10,'Site Inputs'!$C$8)","v":{"$error":"#N/A"}},{"$f":"IF(OR(G28=UvaluesFlr!$U$3,G28=UvaluesFlr!$U$4),IF(ISERROR(F28*J28*H28),\"\",F28*J28*H28),IF(ISERROR(F28*J28*I28),\"\",F28*J28*I28))","v":""},null,{"$f":"HLOOKUP(N28+MIN(0.6,IF(N28>4,O28/10,0)),$R$26:$AC$29,3,TRUE)","v":{"$error":"#N/A"}},{"$f":"VLOOKUP(D28,UvaluesFlr!$U$17:$V$22,2,FALSE)","v":{"$error":"#N/A"}},{"$f":"VLOOKUP(G28,UvaluesFlr!$U$3:$W$14,2,FALSE)","v":{"$error":"#N/A"}},{"$f":"VLOOKUP(G28,UvaluesFlr!$U$3:$W$14,3,FALSE)","v":{"$error":"#N/A"}},null,{"$f":"VLOOKUP(C28,UvaluesFlr!$C$53:$P$59,$P28,TRUE)","v":{"$error":"#N/A"}},{"$f":"VLOOKUP(B28,UvaluesFlr!$C$53:$P$59,$P28,TRUE)","v":{"$error":"#N/A"}},{"$f":"VLOOKUP(B28+C28,UvaluesFlr!$C$4:$P$12,$P28,TRUE)","v":{"$error":"#N/A"}},{"$f":"VLOOKUP(B28,UvaluesFlr!$C$16:$P$21,$P28,TRUE)","v":{"$error":"#N/A"}},{"$f":"VLOOKUP($C28,UvaluesFlr!$D$26:$P$29,$P28-1,TRUE)","v":{"$error":"#N/A"}},{"$f":"VLOOKUP($C28,UvaluesFlr!$D$30:$P$31,$P28-1,TRUE)","v":{"$error":"#N/A"}},{"$f":"VLOOKUP($C28,UvaluesFlr!$D$32:$P$33,$P28-1,TRUE)","v":{"$error":"#N/A"}},{"$f":"VLOOKUP($C28,UvaluesFlr!$D$34:$P$35,$P28-1,TRUE)","v":{"$error":"#N/A"}},{"$f":"VLOOKUP($C28,UvaluesFlr!$D$39:$P$42,$P28-1,TRUE)","v":{"$error":"#N/A"}},{"$f":"VLOOKUP($C28,UvaluesFlr!$D$43:$P$45,$P28-1,TRUE)","v":{"$error":"#N/A"}},{"$f":"VLOOKUP($C28,UvaluesFlr!$D$46:$P$48,$P28-1,TRUE)","v":{"$error":"#N/A"}},{"$f":"VLOOKUP($C28,UvaluesFlr!$D$49:$P$50,$P28-1,TRUE)","v":{"$error":"#N/A"}}]
[null,{"$f":"HLOOKUP($B$1,'Room Inputs'!$D$3:$X$137,B74,0)","v":0},{"$f":"HLOOKUP($B$1,'Room Inputs'!$D$3:$X$137,C74,0)","v":0},{"$f":"HLOOKUP($B$1,'Room Inputs'!$D$3:$X$137,D74,0)","v":0},{"$f":"HLOOKUP($B$1,'Room Inputs'!$D$3:$X$137,E74,0)","v":{"$error":"#VALUE!"}},{"$f":"B29*C29","v":0},{"$f":"HLOOKUP($B$1,'Room Inputs'!$D$3:$X$137,G74,0)","v":0},{"$f":"HLOOKUP($B$1,'Room Inputs'!$D$3:$X$137,H74,0)","v":0},{"$f":"IF(OR(G29=UvaluesFlr!$U$3,G29=UvaluesFlr!$U$4,ISERROR(M29)),\"\",M29)","v":""},{"$f":"$K$8-IF(LEFT(G29,2)=\"So\",10,'Site Inputs'!$C$8)","v":{"$error":"#N/A"}},{"$f":"IF(OR(G29=UvaluesFlr!$U$3,G29=UvaluesFlr!$U$4),IF(ISERROR(F29*J29*H29),\"\",F29*J29*H29),IF(ISERROR(F29*J29*I29),\"\",F29*J29*I29))","v":""},null,{"$f":"HLOOKUP(N29+MIN(0.6,IF(N29>4,O29/10,0)),$R$26:$AC$29,4,TRUE)","v":{"$error":"#N/A"}},{"$f":"VLOOKUP(D29,UvaluesFlr!$U$17:$V$22,2,FALSE)","v":{"$error":"#N/A"}},{"$f":"VLOOKUP(G29,UvaluesFlr!$U$3:$W$14,2,FALSE)","v":{"$error":"#N/A"}},{"$f":"VLOOKUP(G29,UvaluesFlr!$U$3:$W$14,3,FALSE)","v":{"$error":"#N/A"}},null,{"$f":"VLOOKUP(C29,UvaluesFlr!$C$53:$P$59,$P29,TRUE)","v":{"$error":"#N/A"}},{"$f":"VLOOKUP(B29,UvaluesFlr!$C$53:$P$59,$P29,TRUE)","v":{"$error":"#N/A"}},{"$f":"VLOOKUP(B29+C29,UvaluesFlr!$C$4:$P$12,$P29,TRUE)","v":{"$error":"#N/A"}},{"$f":"VLOOKUP(B29,UvaluesFlr!$C$16:$P$21,$P29,TRUE)","v":{"$error":"#N/A"}},{"$f":"VLOOKUP($C29,UvaluesFlr!$D$26:$P$29,$P29-1,TRUE)","v":{"$error":"#N/A"}},{"$f":"VLOOKUP($C29,UvaluesFlr!$D$30:$P$31,$P29-1,TRUE)","v":{"$error":"#N/A"}},{"$f":"VLOOKUP($C29,UvaluesFlr!$D$32:$P$33,$P29-1,TRUE)","v":{"$error":"#N/A"}},{"$f":"VLOOKUP($C29,UvaluesFlr!$D$34:$P$35,$P29-1,TRUE)","v":{"$error":"#N/A"}},{"$f":"VLOOKUP($C29,UvaluesFlr!$D$39:$P$42,$P29-1,TRUE)","v":{"$error":"#N/A"}},{"$f":"VLOOKUP($C29,UvaluesFlr!$D$43:$P$45,$P29-1,TRUE)","v":{"$error":"#N/A"}},{"$f":"VLOOKUP($C29,UvaluesFlr!$D$46:$P$48,$P29-1,TRUE)","v":{"$error":"#N/A"}},{"$f":"VLOOKUP($C29,UvaluesFlr!$D$49:$P$50,$P29-1,TRUE)","v":{"$error":"#N/A"}}]
[]
[]
[null,"Windows and doors"]
[null,"Wall or roof with window or door","Window or door height (m)","Window or door width (m)","Area (m²)","Wall/roof U-value (W/m²K)","Frame and glazing type ","Entered U-\u001evalue (W/m²K), if required","U-value","Design temperature difference","Heat loss (W)*"]
[null,{"$f":"HLOOKUP($B$1,'Room Inputs'!$D$3:$X$137,B79,0)","v":0},{"$f":"HLOOKUP($B$1,'Room Inputs'!$D$3:$X$137,C79,0)","v":0},{"$f":"HLOOKUP($B$1,'Room Inputs'!$D$3:$X$137,D79,0)","v":0},{"$f":"C34*D34","v":0},{"$f":"IF(B34<>\"\",IF(VLOOKUP(B34,B$14:I$25,6,FALSE)=UvalueWD!$C$6,VLOOKUP(B34,B$14:I$25,7,FALSE),VLOOKUP(B34,B$14:I$25,8,FALSE)),\"\")","v":""},{"$f":"HLOOKUP($B$1,'Room Inputs'!$D$3:$X$137,G79,0)","v":0},{"$f":"HLOOKUP($B$1,'Room Inputs'!$D$3:$X$137,H79,0)","v":0},{"$f":"IF(OR(G34=UvalueWD!C$6,G34=\"\"),\"\",VLOOKUP(G34,Windows,2,FALSE))","v":{"$error":"#N/A"}},{"$f":"IF(ISERROR(VLOOKUP(B34,B$13:K$29,9,FALSE)),\"\",VLOOKUP(B34,B$13:K$29,9,FALSE))","v":""},{"$f":"IF(G34=UvaluesWRF!A$2,IF(ISERROR(F34*J34*(H34-F34)),\"\",F34*J34*(H34-F34)),IF(ISERROR(F34*J34*(F34-I34)),\"\",(I34-F34)*J34*I34))","v":""}]
[null,{"$f":"HLOOKUP($B$1,'Room Inputs'!$D$3:$X$137,B80,0)","v":0},{"$f":"HLOOKUP($B$1,'Room Inputs'!$D$3:$X$137,C80,0)","v":0},{"$f":"HLOOKUP($B$1,'Room Inputs'!$D$3:$X$137,D80,0)","v":0},0,{"$f":"IF(B35<>\"\",IF(VLOOKUP(B35,B$14:I$25,6,FALSE)=UvalueWD!$C$6,VLOOKUP(B35,B$14:I$25,7,FALSE),VLOOKUP(B35,B$14:I$25,8,FALSE)),\"\")","v":""},{"$f":"HLOOKUP($B$1,'Room Inputs'!$D$3:$X$137,G80,0)","v":0},{"$f":"HLOOKUP($B$1,'Room Inputs'!$D$3:$X$137,H80,0)","v":0},{"$f":"IF(OR(G35=UvalueWD!C$6,G35=\"\"),\"\",VLOOKUP(G35,Windows,2,FALSE))","v":{"$error":"#N/A"}},"",{"$f":"IF(G35=UvaluesWRF!A$2,IF(ISERROR(F35*J35*(H35-F35)),\"\",F35*J35*(H35-F35)),IF(ISERROR(F35*J35*(F35-I35)),\"\",(I35-F35)*J35*I35))","v":""}]
[null,{"$f":"HLOOKUP($B$1,'Room Inputs'!$D$3:$X$137,B81,0)","v":0},{"$f":"HLOOKUP($B$1,'Room Inputs'!$D$3:$X$137,C81,0)","v":0},{"$f":"HLOOKUP($B$1,'Room Inputs'!$D$3:$X$137,D81,0)","v":0},0,{"$f":"IF(B36<>\"\",IF(VLOOKUP(B36,B$14:I$25,6,FALSE)=UvalueWD!$C$6,VLOOKUP(B36,B$14:I$25,7,FALSE),VLOOKUP(B36,B$14:I$25,8,FALSE)),\"\")","v":""},{"$f":"HLOOKUP($B$1,'Room Inputs'!$D$3:$X$137,G81,0)","v":0},{"$f":"HLOOKUP($B$1,'Room Inputs'!$D$3:$X$137,H81,0)","v":0},{"$f":"IF(OR(G36=UvalueWD!C$6,G36=\"\"),\"\",VLOOKUP(G36,Windows,2,FALSE))","v":{"$error":"#N/A"}},"",{"$f":"IF(G36=UvaluesWRF!A$2,IF(ISERROR(F36*J36*(H36-F36)),\"\",F36*J36*(H36-F36)),IF(ISERROR(F36*J36*(F36-I36)),\"\",(I36-F36)*J36*I36))","v":""}]
[null,{"$f":"HLOOKUP($B$1,'Room Inputs'!$D$3:$X$137,B82,0)","v":0},{"$f":"HLOOKUP($B$1,'Room Inputs'!$D$3:$X$137,C82,0)","v":0},{"$f":"HLOOKUP($B$1,'Room Inputs'!$D$3:$X$137,D82,0)","v":0},0,{"$f":"IF(B37<>\"\",IF(VLOOKUP(B37,B$14:I$25,6,FALSE)=UvalueWD!$C$6,VLOOKUP(B37,B$14:I$25,7,FALSE),VLOOKUP(B37,B$14:I$25,8,FALSE)),\"\")","v":""},{"$f":"HLOOKUP($B$1,'Room Inputs'!$D$3:$X$137,G82,0)","v":0},{"$f":"HLOOKUP($B$1,'Room Inputs'!$D$3:$X$137,H82,0)","v":0},{"$f":"IF(OR(G37=UvalueWD!C$6,G37=\"\"),\"\",VLOOKUP(G37,Windows,2,FALSE))","v":{"$error":"#N/A"}},"",{"$f":"IF(G37=UvaluesWRF!A$2,IF(ISERROR(F37*J37*(H37-F37)),\"\",F37*J37*(H37-F37)),IF(ISERROR(F37*J37*(F37-I37)),\"\",(I37-F37)*J37*I37))","v":""}]
[null,{"$f":"HLOOKUP($B$1,'Room Inputs'!$D$3:$X$137,B83,0)","v":0},{"$f":"HLOOKUP($B$1,'Room Inputs'!$D$3:$X$137,C83,0)","v":0},{"$f":"HLOOKUP($B$1,'Room Inputs'!$D$3:$X$137,D83,0)","v":0},0,{"$f":"IF(B38<>\"\",IF(VLOOKUP(B38,B$14:I$25,6,FALSE)=UvalueWD!$C$6,VLOOKUP(B38,B$14:I$25,7,FALSE),VLOOKUP(B38,B$14:I$25,8,FALSE)),\"\")","v":""},{"$f":"HLOOKUP($B$1,'Room Inputs'!$D$3:$X$137,G83,0)","v":0},{"$f":"HLOOKUP($B$1,'Room Inputs'!$D$3:$X$137,H83,0)","v":0},{"$f":"IF(OR(G38=UvalueWD!C$6,G38=\"\"),\"\",VLOOKUP(G38,Windows,2,FALSE))","v":{"$error":"#N/A"}},"",{"$f":"IF(G38=UvaluesWRF!A$2,IF(ISERROR(F38*J38*(H38-F38)),\"\",F38*J38*(H38-F38)),IF(ISERROR(F38*J38*(F38-I38)),\"\",(I38-F38)*J38*I38))","v":""}]
[null,{"$f":"HLOOKUP($B$1,'Room Inputs'!$D$3:$X$137,B84,0)","v":0},{"$f":"HLOOKUP($B$1,'Room Inputs'!$D$3:$X$137,C84,0)","v":0},{"$f":"HLOOKUP($B$1,'Room Inputs'!$D$3:$X$137,D84,0)","v":0},0,{"$f":"IF(B39<>\"\",IF(VLOOKUP(B39,B$14:I$25,6,FALSE)=UvalueWD!$C$6,VLOOKUP(B39,B$14:I$25,7,FALSE),VLOOKUP(B39,B$14:I$25,8,FALSE)),\"\")","v":""},{"$f":"HLOOKUP($B$1,'Room Inputs'!$D$3:$X$137,G84,0)","v":0},{"$f":"HLOOKUP($B$1,'Room Inputs'!$D$3:$X$137,H84,0)","v":0},{"$f":"IF(OR(G39=UvalueWD!C$6,G39=\"\"),\"\",VLOOKUP(G39,Windows,2,FALSE))","v":{"$error":"#N/A"}},"",{"$f":"IF(G39=UvaluesWRF!A$2,IF(ISERROR(F39*J39*(H39-F39)),\"\",F39*J39*(H39-F39)),IF(ISERROR(F39*J39*(F39-I39)),\"\",(I39-F39)*J39*I39))","v":""}]
[]
[null,"* this is net heat loss (i.e. the heat loss of the window minus that of a wall of the same area) and so can be negative.  This is done so that the area of the window or door does not have to be subtracted from the wall area.  "]
[null,null,null,null,null,null,null,null,"Room heat loss (W)",null,{"$f":"SUM(K10:K39)","v":0}]
[]
[]
[]
[null,"Row number lookup map"]
[]
[null,"Room name",2,null,"Emitter type",3,"For convectors consult the manufacturer's data and enter the temperature factor (FTEMP) for the appropriate fan speed",4,"For radiators enter the n-coefficient (exponent) from manufacturer's data.  If unknown 1.3 may be used",null,5]
[]
[null,"Enter floor type and construction",6,null,"Enter floor type and construction",7,"For UFH enter Tog value (See Table 14)",8,"For UFH enter  active or exposed area of the heated floor ",null,9]
[]
[null,"Enter Room type below",null,null," Enter Open fire/chimney details below "]
[null,10,null,null,11]
[null,"Room Dimensions"]
[null,"Length (m)",null,"Width (m)",null,"Height (m)"]
[null,13,null,14,null,15]
[null,"Walls, floors not ground floors and ceiling"]
[null,"Name of wall, floor, ceiling","Space on other side","Height or length (m)","Width (m)",null,"Construction","Entered U-\u001evalue (W/m²K), if required"]
[null,16,17,18,19,null,20,21]
[null,22,23,24,25,null,26,27]
[null,28,29,30,31,null,32,33]
[null,35,36,37,38,null,39,40]
[null,41,42,43,44,null,45,46]
[null,47,48,49,50,null,51,52]
[null,53,54,55,56,null,57,58]
[null,59,60,61,62,null,63,64]
[null,65,66,67,68,null,69,70]
[null,71,72,73,74,null,75,76]
[null,77,78,79,80,null,81,82]
[null,83,84,85,86,null,87,88]
[null,"Ground floors \nShort length (m)","long length\n(m)","Edges exposed",null,null,"Type and Insulation  thickness"]
[null,89,90,91,92,null,92,93]
[null,95,96,97,null,null,98,99]
[null,100,101,102,null,null,103,104]
[]
[]
[null,"Windows and doors"]
[null,"Wall or roof with window or door","Window or door height (m)","Window or door width (m)","Area (m²)","Wall/roof U-value (W/m²K)","Frame and glazing type ","Entered U-\u001evalue (W/m²K), if required"]
[null,105,106,107,null,null,108,109]
[null,111,112,113,null,null,114,115]
[null,116,117,118,null,null,119,120]
[null,121,122,123,null,null,124,125]
[null,126,127,128,null,null,129,130]
[null,131,132,133,null,null,134,135]

{"sheet":"9","index":14,"n_rows":84,"n_cols":29,"rows_kept":84,"cut":false,"hidden":true,"merged":[[40,1,40,7],[41,8,41,9],[7,7,7,8],[4,8,4,9],[6,1,6,2],[6,4,6,5],[6,7,6,8],[47,8,47,9],[49,2,49,3],[49,8,49,9],[51,1,51,2],[51,4,51,5],[51,7,51,8],[52,1,52,2],[52,4,52,5],[52,7,52,8],[72,3,72,4],[73,3,73,4],[71,3,71,4]]}
[null,{"$f":"'Room Inputs'!L3","v":"Room9"}]
[]
[null,"Room name",{"$f":"HLOOKUP($B$1,'Room Inputs'!$D$3:$X$137,C48,0)","v":0},null,"Emitter type",{"$f":"HLOOKUP($B$1,'Room Inputs'!$D$3:$X$137,F48,0)","v":0},"For convectors consult the manufacturer's data and enter the temperature factor (FTEMP) for the appropriate fan speed",{"$f":"HLOOKUP($B$1,'Room Inputs'!$D$3:$X$137,H48,0)","v":0.85},"For radiators enter the n-coefficient (exponent) from manufacturer's data.  If unknown 1.3 may be used",null,{"$f":"HLOOKUP($B$1,'Room Inputs'!$D$3:$X$137,K48,0)","v":1.3}]
[]
[null,"Enter floor type and construction",{"$f":"HLOOKUP($B$1,'Room Inputs'!$D$3:$X$137,C50,0)","v":0},null,"Enter floor type and construction",{"$f":"HLOOKUP($B$1,'Room Inputs'!$D$3:$X$137,F50,0)","v":0},"For UFH enter Tog value (See Table 14)",{"$f":"HLOOKUP($B$1,'Room Inputs'!$D$3:$X$137,H50,0)","v":0.25},"For UFH enter  active or exposed area of the heated floor ",null,{"$f":"HLOOKUP($B$1,'Room Inputs'!$D$3:$X$137,K50,0)","v":0}]
[]
[null,"Enter Room type below",null,null," Enter Open fire/chimney details below ",null,null,"Design room ventilation rate (air changes per hour)",null,null,"Design room temperature °C"]
[null,{"$f":"HLOOKUP($B$1,'Room Inputs'!$D$3:$X$137,B53,0)","v":0},null,null,{"$f":"HLOOKUP($B$1,'Room Inputs'!$D$3:$X$137,E53,0)","v":0},null,null,{"$f":"IF(E8=VTables!B20,VLOOKUP(B8,DRVT,3,FALSE),MAX(VLOOKUP(B8,DRVT,3,FALSE),VLOOKUP(E8,ARVR,2,FALSE)))","v":{"$error":"#N/A"}},null,null,{"$f":"VLOOKUP(B8,DRVT,2,FALSE)","v":{"$error":"#N/A"}}]
[null,"Room Dimensions"]
[null,"Length (m)",null,"Width (m)",null,"Height (m)","Room volume (m³) ",null,null,"Design temperature difference","Heat loss (W)"]
[null,{"$f":"HLOOKUP($B$1,'Room Inputs'!$D$3:$X$137,B56,0)","v":0},null,{"$f":"HLOOKUP($B$1,'Room Inputs'!$D$3:$X$137,D56,0)","v":0},null,{"$f":"HLOOKUP($B$1,'Room Inputs'!$D$3:$X$137,F56,0)","v":0},{"$f":"B11*D11*F11","v":0},null,null,{"$f":"K8-'Site Inputs'!C8","v":{"$error":"#N/A"}},{"$f":"IF(G11>0,(ROUND(0.33*G11*H8*J11,2)),\"\")","v":""}]
[null,"Walls, floors not ground floors and ceiling"]
[null,"Name of wall, floor, ceiling","Space on other side","Height or length (m)","Width (m)","Area (m²)","Construction","Entered U-\u001evalue (W/m²K), if required","U-value (W/m²K)","Design temperature difference","Heat loss (W)",null,"`"]
[null,{"$f":"HLOOKUP($B$1,'Room Inputs'!$D$3:$X$137,B59,0)","v":0},{"$f":"HLOOKUP($B$1,'Room Inputs'!$D$3:$X$137,C59,0)","v":0},{"$f":"HLOOKUP($B$1,'Room Inputs'!$D$3:$X$137,D59,0)","v":0},{"$f":"HLOOKUP($B$1,'Room Inputs'!$D$3:$X$137,E59,0)","v":0},{"$f":"D14*E14","v":0},{"$f":"HLOOKUP($B$1,'Room Inputs'!$D$3:$X$137,G59,0)","v":0},{"$f":"HLOOKUP($B$1,'Room Inputs'!$D$3:$X$137,H59,0)","v":0},{"$f":"IF(OR(G14=UvaluesWRF!A$2,ISERROR(VLOOKUP(G14,UvaluesWRF!A$3:B$110,2,FALSE))),\"\",VLOOKUP(G14,UvaluesWRF!A$3:B$110,2,FALSE))","v":""},{"$f":"IF(C14=\"\",\"\",$K$8-VLOOKUP(C14,DRVT,2,FALSE))","v":{"$error":"#N/A"}},{"$f":"IF(G14=UvaluesWRF!A$2,IF(ISERROR(F14*J14*H14),\"\",F14*J14*H14),IF(ISERROR(F14*J14*I14),\"\",F14*J14*I14))","v":""}]
[null,{"$f":"HLOOKUP($B$1,'Room Inputs'!$D$3:$X$137,B60,0)","v":0},{"$f":"HLOOKUP($B$1,'Room Inputs'!$D$3:$X$137,C60,0)","v":0},{"$f":"HLOOKUP($B$1,'Room Inputs'!$D$3:$X$137,D60,0)","v":0},{"$f":"HLOOKUP($B$1,'Room Inputs'!$D$3:$X$137,E60,0)","v":0},{"$f":"D15*E15","v":0},{"$f":"HLOOKUP($B$1,'Room Inputs'!$D$3:$X$137,G60,0)","v":0},{"$f":"HLOOKUP($B$1,'Room Inputs'!$D$3:$X$137,H60,0)","v":0},{"$f":"IF(OR(G15=UvaluesWRF!A$2,ISERROR(VLOOKUP(G15,UvaluesWRF!A$3:B$110,2,FALSE))),\"\",VLOOKUP(G15,UvaluesWRF!A$3:B$110,2,FALSE))","v":""},{"$error":"#N/A"},{"$f":"IF(G15=UvaluesWRF!A$2,IF(ISERROR(F15*J15*H15),\"\",F15*J15*H15),IF(ISERROR(F15*J15*I15),\"\",F15*J15*I15))","v":""}]
[null,{"$f":"HLOOKUP($B$1,'Room Inputs'!$D$3:$X$137,B61,0)","v":0},{"$f":"HLOOKUP($B$1,'Room Inputs'!$D$3:$X$137,C61,0)","v":0},{"$f":"HLOOKUP($B$1,'Room Inputs'!$D$3:$X$137,D61,0)","v":0},{"$f":"HLOOKUP($B$1,'Room Inputs'!$D$3:$X$137,E61,0)","v":0},0,{"$f":"HLOOKUP($B$1,'Room Inputs'!$D$3:$X$137,G61,0)","v":0},{"$f":"HLOOKUP($B$1,'Room Inputs'!$D$3:$X$137,H61,0)","v":0},{"$f":"IF(OR(G16=UvaluesWRF!A$2,ISERROR(VLOOKUP(G16,UvaluesWRF!A$3:B$110,2,FALSE))),\"\",VLOOKUP(G16,UvaluesWRF!A$3:B$110,2,FALSE))","v":""},{"$error":"#N/A"},{"$f":"IF(G16=UvaluesWRF!A$2,IF(ISERROR(F16*J16*H16),\"\",F16*J16*H16),IF(ISERROR(F16*J16*I16),\"\",F16*J16*I16))","v":""}]
[null,{"$f":"HLOOKUP($B$1,'Room Inputs'!$D$3:$X$137,B62,0)","v":0},{"$f":"HLOOKUP($B$1,'Room Inputs'!$D$3:$X$137,C62,0)","v":0},{"$f":"HLOOKUP($B$1,'Room Inputs'!$D$3:$X$137,D62,0)","v":0},{"$f":"HLOOKUP($B$1,'Room Inputs'!$D$3:$X$137,E62,0)","v":0},0,{"$f":"HLOOKUP($B$1,'Room Inputs'!$D$3:$X$137,G62,0)","v":0},{"$f":"HLOOKUP($B$1,'Room Inputs'!$D$3:$X$137,H62,0)","v":0},{"$f":"IF(OR(G17=UvaluesWRF!A$2,ISERROR(VLOOKUP(G17,UvaluesWRF!A$3:B$110,2,FALSE))),\"\",VLOOKUP(G17,UvaluesWRF!A$3:B$110,2,FALSE))","v":""},{"$error":"#N/A"},{"$f":"IF(G17=UvaluesWRF!A$2,IF(ISERROR(F17*J17*H17),\"\",F17*J17*H17),IF(ISERROR(F17*J17*I17),\"\",F17*J17*I17))","v":""}]
[null,{"$f":"HLOOKUP($B$1,'Room Inputs'!$D$3:$X$137,B63,0)","v":0},{"$f":"HLOOKUP($B$1,'Room Inputs'!$D$3:$X$137,C63,0)","v":0},{"$f":"HLOOKUP($B$1,'Room Inputs'!$D$3:$X$137,D63,0)","v":0},{"$f":"HLOOKUP($B$1,'Room Inputs'!$D$3:$X$137,E63,0)","v":0},0,{"$f":"HLOOKUP($B$1,'Room Inputs'!$D$3:$X$137,G63,0)","v":0},{"$f":"HLOOKUP($B$1,'Room Inputs'!$D$3:$X$137,H63,0)","v":0},{"$f":"IF(OR(G18=UvaluesWRF!A$2,ISERROR(VLOOKUP(G18,UvaluesWRF!A$3:B$110,2,FALSE))),\"\",VLOOKUP(G18,UvaluesWRF!A$3:B$110,2,FALSE))","v":""},{"$error":"#N/A"},{"$f":"IF(G18=UvaluesWRF!A$2,IF(ISERROR(F18*J18*H18),\"\",F18*J18*H18),IF(ISERROR(F18*J18*I18),\"\",F18*J18*I18))","v":""}]
[null,{"$f":"HLOOKUP($B$1,'Room Inputs'!$D$3:$X$137,B64,0)","v":0},{"$f":"HLOOKUP($B$1,'Room Inputs'!$D$3:$X$137,C64,0)","v":0},{"$f":"HLOOKUP($B$1,'Room Inputs'!$D$3:$X$137,D64,0)","v":0},{"$f":"HLOOKUP($B$1,'Room Inputs'!$D$3:$X$137,E64,0)","v":0},0,{"$f":"HLOOKUP($B$1,'Room Inputs'!$D$3:$X$137,G64,0)","v":0},{"$f":"HLOOKUP($B$1,'Room Inputs'!$D$3:$X$137,H64,0)","v":0},{"$f":"IF(OR(G19=UvaluesWRF!A$2,ISERROR(VLOOKUP(G19,UvaluesWRF!A$3:B$110,2,FALSE))),\"\",VLOOKUP(G19,UvaluesWRF!A$3:B$110,2,FALSE))","v":""},{"$error":"#N/A"},{"$f":"IF(G19=UvaluesWRF!A$2,IF(ISERROR(F19*J19*H19),\"\",F19*J19*H19),IF(ISERROR(F19*J19*I19),\"\",F19*J19*I19))","v":""}]
[null,{"$f":"HLOOKUP($B$1,'Room Inputs'!$D$3:$X$137,B65,0)","v":0},{"$f":"HLOOKUP($B$1,'Room Inputs'!$D$3:$X$137,C65,0)","v":0},{"$f":"HLOOKUP($B$1,'Room Inputs'!$D$3:$X$137,D65,0)","v":0},{"$f":"HLOOKUP($B$1,'Room Inputs'!$D$3:$X$137,E65,0)","v":0},0,{"$f":"HLOOKUP($B$1,'Room Inputs'!$D$3:$X$137,G65,0)","v":0},{"$f":"HLOOKUP($B$1,'Room Inputs'!$D$3:$X$137,H65,0)","v":0},{"$f":"IF(OR(G20=UvaluesWRF!A$2,ISERROR(VLOOKUP(G20,UvaluesWRF!A$3:B$110,2,FALSE))),\"\",VLOOKUP(G20,UvaluesWRF!A$3:B$110,2,FALSE))","v":""},{"$error":"#N/A"},{"$f":"IF(G20=UvaluesWRF!A$2,IF(ISERROR(F20*J20*H20),\"\",F20*J20*H20),IF(ISERROR(F20*J20*I20),\"\",F20*J20*I20))","v":""}]
[null,{"$f":"HLOOKUP($B$1,'Room Inputs'!$D$3:$X$137,B66,0)","v":0},{"$f":"HLOOKUP($B$1,'Room Inputs'!$D$3:$X$137,C66,0)","v":0},{"$f":"HLOOKUP($B$1,'Room Inputs'!$D$3:$X$137,D66,0)","v":0},{"$f":"HLOOKUP($B$1,'Room Inputs'!$D$3:$X$137,E66,0)","v":0},0,{"$f":"HLOOKUP($B$1,'Room Inputs'!$D$3:$X$137,G66,0)","v":0},{"$f":"HLOOKUP($B$1,'Room Inputs'!$D$3:$X$137,H66,0)","v":0},{"$f":"IF(OR(G21=UvaluesWRF!A$2,ISERROR(VLOOKUP(G21,UvaluesWRF!A$3:B$110,2,FALSE))),\"\",VLOOKUP(G21,UvaluesWRF!A$3:B$110,2,FALSE))","v":""},{"$error":"#N/A"},{"$f":"IF(G21=UvaluesWRF!A$2,IF(ISERROR(F21*J21*H21),\"\",F21*J21*H21),IF(ISERROR(F21*J21*I21),\"\",F21*J21*I21))","v":""}]
[null,{"$f":"HLOOKUP($B$1,'Room Inputs'!$D$3:$X$137,B67,0)","v":0},{"$f":"HLOOKUP($B$1,'Room Inputs'!$D$3:$X$137,C67,0)","v":0},{"$f":"HLOOKUP($B$1,'Room Inputs'!$D$3:$X$137,D67,0)","v":0},{"$f":"HLOOKUP($B$1,'Room Inputs'!$D$3:$X$137,E67,0)","v":0},0,{"$f":"HLOOKUP($B$1,'Room Inputs'!$D$3:$X$137,G67,0)","v":0},{"$f":"HLOOKUP($B$1,'Room Inputs'!$D$3:$X$137,H67,0)","v":0},{"$f":"IF(OR(G22=UvaluesWRF!A$2,ISERROR(VLOOKUP(G22,UvaluesWRF!A$3:B$110,2,FALSE))),\"\",VLOOKUP(G22,UvaluesWRF!A$3:B$110,2,FALSE))","v":""},{"$error":"#N/A"},{"$f":"IF(G22=UvaluesWRF!A$2,IF(ISERROR(F22*J22*H22),\"\",F22*J22*H22),IF(ISERROR(F22*J22*I22),\"\",F22*J22*I22))","v":""}]
[null,{"$f":"HLOOKUP($B$1,'Room Inputs'!$D$3:$X$137,B68,0)","v":0},{"$f":"HLOOKUP($B$1,'Room Inputs'!$D$3:$X$137,C68,0)","v":0},{"$f":"HLOOKUP($B$1,'Room Inputs'!$D$3:$X$137,D68,0)","v":0},{"$f":"HLOOKUP($B$1,'Room Inputs'!$D$3:$X$137,E68,0)","v":0},0,{"$f":"HLOOKUP($B$1,'Room Inputs'!$D$3:$X$137,G68,0)","v":0},{"$f":"HLOOKUP($B$1,'Room Inputs'!$D$3:$X$137,H68,0)","v":0},{"$f":"IF(OR(G23=UvaluesWRF!A$2,ISERROR(VLOOKUP(G23,UvaluesWRF!A$3:B$110,2,FALSE))),\"\",VLOOKUP(G23,UvaluesWRF!A$3:B$110,2,FALSE))","v":""},{"$error":"#N/A"},{"$f":"IF(G23=UvaluesWRF!A$2,IF(ISERROR(F23*J23*H23),\"\",F23*J23*H23),IF(ISERROR(F23*J23*I23),\"\",F23*J23*I23))","v":""}]
[null,{"$f":"HLOOKUP($B$1,'Room Inputs'!$D$3:$X$137,B69,0)","v":0},{"$f":"HLOOKUP($B$1,'Room Inputs'!$D$3:$X$137,C69,0)","v":0},{"$f":"HLOOKUP($B$1,'Room Inputs'!$D$3:$X$137,D69,0)","v":0},{"$f":"HLOOKUP($B$1,'Room Inputs'!$D$3:$X$137,E69,0)","v":0},0,{"$f":"HLOOKUP($B$1,'Room Inputs'!$D$3:$X$137,G69,0)","v":0},{"$f":"HLOOKUP($B$1,'Room Inputs'!$D$3:$X$137,H69,0)","v":0},{"$f":"IF(OR(G24=UvaluesWRF!A$2,ISERROR(VLOOKUP(G24,UvaluesWRF!A$3:B$110,2,FALSE))),\"\",VLOOKUP(G24,UvaluesWRF!A$3:B$110,2,FALSE))","v":""},{"$error":"#N/A"},{"$f":"IF(G24=UvaluesWRF!A$2,IF(ISERROR(F24*J24*H24),\"\",F24*J24*H24),IF(ISERROR(F24*J24*I24),\"\",F24*J24*I24))","v":""}]
[null,{"$f":"HLOOKUP($B$1,'Room Inputs'!$D$3:$X$137,B70,0)","v":0},{"$f":"HLOOKUP($B$1,'Room Inputs'!$D$3:$X$137,C70,0)","v":0},{"$f":"HLOOKUP($B$1,'Room Inputs'!$D$3:$X$137,D70,0)","v":0},{"$f":"HLOOKUP($B$1,'Room Inputs'!$D$3:$X$137,E70,0)","v":0},0,{"$f":"HLOOKUP($B$1,'Room Inputs'!$D$3:$X$137,G70,0)","v":0},{"$f":"HLOOKUP($B$1,'Room Inputs'!$D$3:$X$137,H70,0)","v":0},{"$f":"IF(OR(G25=UvaluesWRF!A$2,ISERROR(VLOOKUP(G25,UvaluesWRF!A$3:B$110,2,FALSE))),\"\",VLOOKUP(G25,UvaluesWRF!A$3:B$110,2,FALSE))","v":""},{"$error":"#N/A"},{"$f":"IF(G25=UvaluesWRF!A$2,IF(ISERROR(F25*J25*H25),\"\",F25*J25*H25),IF(ISERROR(F25*J25*I25),\"\",F25*J25*I25))","v":""}]
[null,"Ground floors \nShort length (m)","long length\n(m)","Edges exposed",null,null,"Type and Insulation  thickness",null,null,null,null,null,"U-value","Edge","Insulation","Column",null,1,2,3,4,5.3,5.4,5.5,5.6,6.3,6.4,6.5,6.6]
[null,{"$f":"HLOOKUP($B$1,'Room Inputs'!$D$3:$X$137,B72,0)","v":0},{"$f":"HLOOKUP($B$1,'Room Inputs'!$D$3:$X$137,C72,0)","v":0},{"$f":"HLOOKUP($B$1,'Room Inputs'!$D$3:$X$137,D72,0)","v":0},{"$f":"HLOOKUP($B$1,'Room Inputs'!$D$3:$X$137,E72,0)","v":0},{"$f":"B27*C27","v":0},{"$f":"HLOOKUP($B$1,'Room Inputs'!$D$3:$X$137,G72,0)","v":0},{"$f":"HLOOKUP($B$1,'Room Inputs'!$D$3:$X$137,H72,0)","v":0},{"$f":"IF(OR(G27=UvaluesFlr!$U$3,G27=UvaluesFlr!$U$4,ISERROR(M27)),\"\",M27)","v":""},{"$f":"$K$8-IF(LEFT(G27,2)=\"So\",10,'Site Inputs'!$C$8)","v":{"$error":"#N/A"}},{"$f":"IF(OR(G27=UvaluesFlr!$U$3,G27=UvaluesFlr!$U$4),IF(ISERROR(F27*J27*H27),\"\",F27*J27*H27),IF(ISERROR(F27*J27*I27),\"\",F27*J27*I27))","v":""},null,{"$f":"HLOOKUP(N27+MIN(0.6,IF(N27>4,O27/10,0)),$R$26:$AC$29,2,TRUE)","v":{"$error":"#N/A"}},{"$f":"VLOOKUP(D27,UvaluesFlr!$U$17:$V$22,2,FALSE)","v":{"$error":"#N/A"}},{"$f":"VLOOKUP(G27,UvaluesFlr!$U$3:$W$14,2,FALSE)","v":{"$error":"#N/A"}},{"$f":"VLOOKUP(G27,UvaluesFlr!$U$3:$W$14,3,FALSE)","v":{"$error":"#N/A"}},null,{"$f":"VLOOKUP(C27,UvaluesFlr!$C$53:$P$59,$P27,TRUE)","v":{"$error":"#N/A"}},{"$f":"VLOOKUP(B27,UvaluesFlr!$C$53:$P$59,$P27,TRUE)","v":{"$error":"#N/A"}},{"$f":"VLOOKUP(B27+C27,UvaluesFlr!$C$4:$P$12,$P27,TRUE)","v":{"$error":"#N/A"}},{"$f":"VLOOKUP(B27,UvaluesFlr!$C$16:$P$21,$P27,TRUE)","v":{"$error":"#N/A"}},{"$f":"VLOOKUP($C27,UvaluesFlr!$D$26:$P$29,$P27-1,TRUE)","v":{"$error":"#N/A"}},{"$f":"VLOOKUP($C27,UvaluesFlr!$D$30:$P$31,$P27-1,TRUE)","v":{"$error":"#N/A"}},{"$f":"VLOOKUP($C27,UvaluesFlr!$D$32:$P$33,$P27-1,TRUE)","v":{"$error":"#N/A"}},{"$f":"VLOOKUP($C27,UvaluesFlr!$D$34:$P$35,$P27-1,TRUE)","v":{"$error":"#N/A"}},{"$f":"VLOOKUP($C27,UvaluesFlr!$D$39:$P$42,$P27-1,TRUE)","v":{"$error":"#N/A"}},{"$f":"VLOOKUP($C27,UvaluesFlr!$D$43:$P$45,$P27-1,TRUE)","v":{"$error":"#N/A"}},{"$f":"VLOOKUP($C27,UvaluesFlr!$D$46:$P$48,$P27-1,TRUE)","v":{"$error":"#N/A"}},{"$f":"VLOOKUP($C27,UvaluesFlr!$D$49:$P$50,$P27-1,TRUE)","v":{"$error":"#N/A"}}]
[null,{"$f":"HLOOKUP($B$1,'Room Inputs'!$D$3:$X$137,B73,0)","v":0},{"$f":"HLOOKUP($B$1,'Room Inputs'!$D$3:$X$137,C73,0)","v":0},{"$f":"HLOOKUP($B$1,'Room Inputs'!$D$3:$X$137,D73,0)","v":0},{"$f":"HLOOKUP($B$1,'Room Inputs'!$D$3:$X$137,E73,0)","v":{"$error":"#VALUE!"}},{"$f":"B28*C28","v":0},{"$f":"HLOOKUP($B$1,'Room Inputs'!$D$3:$X$137,G73,0)","v":0},{"$f":"HLOOKUP($B$1,'Room Inputs'!$D$3:$X$137,H73,0)","v":0},{"$f":"IF(OR(G28=UvaluesFlr!$U$3,G28=UvaluesFlr!$U$4,ISERROR(M28)),\"\",M28)","v":""},{"$f":"$K$8-IF(LEFT(G28,2)=\"So\",10,'Site Inputs'!$C$8)","v":{"$error":"#N/A"}},{"$f":"IF(OR(G28=UvaluesFlr!$U$3,G28=UvaluesFlr!$U$4),IF(ISERROR(F28*J28*H28),\"\",F28*J28*H28),IF(ISERROR(F28*J28*I28),\"\",F28*J28*I28))","v":""},null,{"$f":"HLOOKUP(N28+MIN(0.6,IF(N28>4,O28/10,0)),$R$26:$AC$29,3,TRUE)","v":{"$error":"#N/A"}},{"$f":"VLOOKUP(D28,UvaluesFlr!$U$17:$V$22,2,FALSE)","v":{"$error":"#N/A"}},{"$f":"VLOOKUP(G28,UvaluesFlr!$U$3:$W$14,2,FALSE)","v":{"$error":"#N/A"}},{"$f":"VLOOKUP(G28,UvaluesFlr!$U$3:$W$14,3,FALSE)","v":{"$error":"#N/A"}},null,{"$f":"VLOOKUP(C28,UvaluesFlr!$C$53:$P$59,$P28,TRUE)","v":{"$error":"#N/A"}},{"$f":"VLOOKUP(B28,UvaluesFlr!$C$53:$P$59,$P28,TRUE)","v":{"$error":"#N/A"}},{"$f":"VLOOKUP(B28+C28,UvaluesFlr!$C$4:$P$12,$P28,TRUE)","v":{"$error":"#N/A"}},{"$f":"VLOOKUP(B28,UvaluesFlr!$C$16:$P$21,$P28,TRUE)","v":{"$error":"#N/A"}},{"$f":"VLOOKUP($C28,UvaluesFlr!$D$26:$P$29,$P28-1,TRUE)","v":{"$error":"#N/A"}},{"$f":"VLOOKUP($C28,UvaluesFlr!$D$30:$P$31,$P28-1,TRUE)","v":{"$error":"#N/A"}},{"$f":"VLOOKUP($C28,UvaluesFlr!$D$32:$P$33,$P28-1,TRUE)","v":{"$error":"#N/A"}},{"$f":"VLOOKUP($C28,UvaluesFlr!$D$34:$P$35,$P28-1,TRUE)","v":{"$error":"#N/A"}},{"$f":"VLOOKUP($C28,UvaluesFlr!$D$39:$P$42,$P28-1,TRUE)","v":{"$error":"#N/A"}},{"$f":"VLOOKUP($C28,UvaluesFlr!$D$43:$P$45,$P28-1,TRUE)","v":{"$error":"#N/A"}},{"$f":"VLOOKUP($C28,UvaluesFlr!$D$46:$P$48,$P28-1,TRUE)","v":{"$error":"#N/A"}},{"$f":"VLOOKUP($C28,UvaluesFlr!$D$49:$P$50,$P28-1,TRUE)","v":{"$error":"#N/A"}}]
[null,{"$f":"HLOOKUP($B$1,'Room Inputs'!$D$3:$X$137,B74,0)","v":0},{"$f":"HLOOKUP($B$1,'Room Inputs'!$D$3:$X$137,C74,0)","v":0},{"$f":"HLOOKUP($B$1,'Room Inputs'!$D$3:$X$137,D74,0)","v":0},{"$f":"HLOOKUP($B$1,'Room Inputs'!$D$3:$X$137,E74,0)","v":{"$error":"#VALUE!"}},{"$f":"B29*C29","v":0},{"$f":"HLOOKUP($B$1,'Room Inputs'!$D$3:$X$137,G74,0)","v":0},{"$f":"HLOOKUP($B$1,'Room Inputs'!$D$3:$X$137,H74,0)","v":0},{"$f":"IF(OR(G29=UvaluesFlr!$U$3,G29=UvaluesFlr!$U$4,ISERROR(M29)),\"\",M29)","v":""},{"$f":"$K$8-IF(LEFT(G29,2)=\"So\",10,'Site Inputs'!$C$8)","v":{"$error":"#N/A"}},{"$f":"IF(OR(G29=UvaluesFlr!$U$3,G29=UvaluesFlr!$U$4),IF(ISERROR(F29*J29*H29),\"\",F29*J29*H29),IF(ISERROR(F29*J29*I29),\"\",F29*J29*I29))","v":""},null,{"$f":"HLOOKUP(N29+MIN(0.6,IF(N29>4,O29/10,0)),$R$26:$AC$29,4,TRUE)","v":{"$error":"#N/A"}},{"$f":"VLOOKUP(D29,UvaluesFlr!$U$17:$V$22,2,FALSE)","v":{"$error":"#N/A"}},{"$f":"VLOOKUP(G29,UvaluesFlr!$U$3:$W$14,2,FALSE)","v":{"$error":"#N/A"}},{"$f":"VLOOKUP(G29,UvaluesFlr!$U$3:$W$14,3,FALSE)","v":{"$error":"#N/A"}},null,{"$f":"VLOOKUP(C29,UvaluesFlr!$C$53:$P$59,$P29,TRUE)","v":{"$error":"#N/A"}},{"$f":"VLOOKUP(B29,UvaluesFlr!$C$53:$P$59,$P29,TRUE)","v":{"$error":"#N/A"}},{"$f":"VLOOKUP(B29+C29,UvaluesFlr!$C$4:$P$12,$P29,TRUE)","v":{"$error":"#N/A"}},{"$f":"VLOOKUP(B29,UvaluesFlr!$C$16:$P$21,$P29,TRUE)","v":{"$error":"#N/A"}},{"$f":"VLOOKUP($C29,UvaluesFlr!$D$26:$P$29,$P29-1,TRUE)","v":{"$error":"#N/A"}},{"$f":"VLOOKUP($C29,UvaluesFlr!$D$30:$P$31,$P29-1,TRUE)","v":{"$error":"#N/A"}},{"$f":"VLOOKUP($C29,UvaluesFlr!$D$32:$P$33,$P29-1,TRUE)","v":{"$error":"#N/A"}},{"$f":"VLOOKUP($C29,UvaluesFlr!$D$34:$P$35,$P29-1,TRUE)","v":{"$error":"#N/A"}},{"$f":"VLOOKUP($C29,UvaluesFlr!$D$39:$P$42,$P29-1,TRUE)","v":{"$error":"#N/A"}},{"$f":"VLOOKUP($C29,UvaluesFlr!$D$43:$P$45,$P29-1,TRUE)","v":{"$error":"#N/A"}},{"$f":"VLOOKUP($C29,UvaluesFlr!$D$46:$P$48,$P29-1,TRUE)","v":{"$error":"#N/A"}},{"$f":"VLOOKUP($C29,UvaluesFlr!$D$49:$P$50,$P29-1,TRUE)","v":{"$error":"#N/A"}}]
[]
[]
[null,"Windows and doors"]
[null,"Wall or roof with window or door","Window or door height (m)","Window or door width (m)","Area (m²)","Wall/roof U-value (W/m²K)","Frame and glazing type ","Entered U-\u001evalue (W/m²K), if required","U-value","Design temperature difference","Heat loss (W)*"]
[null,{"$f":"HLOOKUP($B$1,'Room Inputs'!$D$3:$X$137,B79,0)","v":0},{"$f":"HLOOKUP($B$1,'Room Inputs'!$D$3:$X$137,C79,0)","v":0},{"$f":"HLOOKUP($B$1,'Room Inputs'!$D$3:$X$137,D79,0)","v":0},{"$f":"C34*D34","v":0},{"$f":"IF(B34<>\"\",IF(VLOOKUP(B34,B$14:I$25,6,FALSE)=UvalueWD!$C$6,VLOOKUP(B34,B$14:I$25,7,FALSE),VLOOKUP(B34,B$14:I$25,8,FALSE)),\"\")","v":""},{"$f":"HLOOKUP($B$1,'Room Inputs'!$D$3:$X$137,G79,0)","v":0},{"$f":"HLOOKUP($B$1,'Room Inputs'!$D$3:$X$137,H79,0)","v":0},{"$f":"IF(OR(G34=UvalueWD!C$6,G34=\"\"),\"\",VLOOKUP(G34,Windows,2,FALSE))","v":{"$error":"#N/A"}},{"$f":"IF(ISERROR(VLOOKUP(B34,B$13:K$29,9,FALSE)),\"\",VLOOKUP(B34,B$13:K$29,9,FALSE))","v":""},{"$f":"IF(G34=UvaluesWRF!A$2,IF(ISERROR(F34*J34*(H34-F34)),\"\",F34*J34*(H34-F34)),IF(ISERROR(F34*J34*(F34-I34)),\"\",(I34-F34)*J34*I34))","v":""}]
[null,{"$f":"HLOOKUP($B$1,'Room Inputs'!$D$3:$X$137,B80,0)","v":0},{"$f":"HLOOKUP($B$1,'Room Inputs'!$D$3:$X$137,C80,0)","v":0},{"$f":"HLOOKUP($B$1,'Room Inputs'!$D$3:$X$137,D80,0)","v":0},0,{"$f":"IF(B35<>\"\",IF(VLOOKUP(B35,B$14:I$25,6,FALSE)=UvalueWD!$C$6,VLOOKUP(B35,B$14:I$25,7,FALSE),VLOOKUP(B35,B$14:I$25,8,FALSE)),\"\")","v":""},{"$f":"HLOOKUP($B$1,'Room Inputs'!$D$3:$X$137,G80,0)","v":0},{"$f":"HLOOKUP($B$1,'Room Inputs'!$D$3:$X$137,H80,0)","v":0},{"$f":"IF(OR(G35=UvalueWD!C$6,G35=\"\"),\"\",VLOOKUP(G35,Windows,2,FALSE))","v":{"$error":"#N/A"}},"",{"$f":"IF(G35=UvaluesWRF!A$2,IF(ISERROR(F35*J35*(H35-F35)),\"\",F35*J35*(H35-F35)),IF(ISERROR(F35*J35*(F35-I35)),\"\",(I35-F35)*J35*I35))","v":""}]
[null,{"$f":"HLOOKUP($B$1,'Room Inputs'!$D$3:$X$137,B81,0)","v":0},{"$f":"HLOOKUP($B$1,'Room Inputs'!$D$3:$X$137,C81,0)","v":0},{"$f":"HLOOKUP($B$1,'Room Inputs'!$D$3:$X$137,D81,0)","v":0},0,{"$f":"IF(B36<>\"\",IF(VLOOKUP(B36,B$14:I$25,6,FALSE)=UvalueWD!$C$6,VLOOKUP(B36,B$14:I$25,7,FALSE),VLOOKUP(B36,B$14:I$25,8,FALSE)),\"\")","v":""},{"$f":"HLOOKUP($B$1,'Room Inputs'!$D$3:$X$137,G81,0)","v":0},{"$f":"HLOOKUP($B$1,'Room Inputs'!$D$3:$X$137,H81,0)","v":0},{"$f":"IF(OR(G36=UvalueWD!C$6,G36=\"\"),\"\",VLOOKUP(G36,Windows,2,FALSE))","v":{"$error":"#N/A"}},"",{"$f":"IF(G36=UvaluesWRF!A$2,IF(ISERROR(F36*J36*(H36-F36)),\"\",F36*J36*(H36-F36)),IF(ISERROR(F36*J36*(F36-I36)),\"\",(I36-F36)*J36*I36))","v":""}]
[null,{"$f":"HLOOKUP($B$1,'Room Inputs'!$D$3:$X$137,B82,0)","v":0},{"$f":"HLOOKUP($B$1,'Room Inputs'!$D$3:$X$137,C82,0)","v":0},{"$f":"HLOOKUP($B$1,'Room Inputs'!$D$3:$X$137,D82,0)","v":0},0,{"$f":"IF(B37<>\"\",IF(VLOOKUP(B37,B$14:I$25,6,FALSE)=UvalueWD!$C$6,VLOOKUP(B37,B$14:I$25,7,FALSE),VLOOKUP(B37,B$14:I$25,8,FALSE)),\"\")","v":""},{"$f":"HLOOKUP($B$1,'Room Inputs'!$D$3:$X$137,G82,0)","v":0},{"$f":"HLOOKUP($B$1,'Room Inputs'!$D$3:$X$137,H82,0)","v":0},{"$f":"IF(OR(G37=UvalueWD!C$6,G37=\"\"),\"\",VLOOKUP(G37,Windows,2,FALSE))","v":{"$error":"#N/A"}},"",{"$f":"IF(G37=UvaluesWRF!A$2,IF(ISERROR(F37*J37*(H37-F37)),\"\",F37*J37*(H37-F37)),IF(ISERROR(F37*J37*(F37-I37)),\"\",(I37-F37)*J37*I37))","v":""}]
[null,{"$f":"HLOOKUP($B$1,'Room Inputs'!$D$3:$X$137,B83,0)","v":0},{"$f":"HLOOKUP($B$1,'Room Inputs'!$D$3:$X$137,C83,0)","v":0},{"$f":"HLOOKUP($B$1,'Room Inputs'!$D$3:$X$137,D83,0)","v":0},0,{"$f":"IF(B38<>\"\",IF(VLOOKUP(B38,B$14:I$25,6,FALSE)=UvalueWD!$C$6,VLOOKUP(B38,B$14:I$25,7,FALSE),VLOOKUP(B38,B$14:I$25,8,FALSE)),\"\")","v":""},{"$f":"HLOOKUP($B$1,'Room Inputs'!$D$3:$X$137,G83,0)","v":0},{"$f":"HLOOKUP($B$1,'Room Inputs'!$D$3:$X$137,H83,0)","v":0},{"$f":"IF(OR(G38=UvalueWD!C$6,G38=\"\"),\"\",VLOOKUP(G38,Windows,2,FALSE))","v":{"$error":"#N/A"}},"",{"$f":"IF(G38=UvaluesWRF!A$2,IF(ISERROR(F38*J38*(H38-F38)),\"\",F38*J38*(H38-F38)),IF(ISERROR(F38*J38*(F38-I38)),\"\",(I38-F38)*J38*I38))","v":""}]
[null,{"$f":"HLOOKUP($B$1,'Room Inputs'!$D$3:$X$137,B84,0)","v":0},{"$f":"HLOOKUP($B$1,'Room Inputs'!$D$3:$X$137,C84,0)","v":0},{"$f":"HLOOKUP($B$1,'Room Inputs'!$D$3:$X$137,D84,0)","v":0},0,{"$f":"IF(B39<>\"\",IF(VLOOKUP(B39,B$14:I$25,6,FALSE)=UvalueWD!$C$6,VLOOKUP(B39,B$14:I$25,7,FALSE),VLOOKUP(B39,B$14:I$25,8,FALSE)),\"\")","v":""},{"$f":"HLOOKUP($B$1,'Room Inputs'!$D$3:$X$137,G84,0)","v":0},{"$f":"HLOOKUP($B$1,'Room Inputs'!$D$3:$X$137,H84,0)","v":0},{"$f":"IF(OR(G39=UvalueWD!C$6,G39=\"\"),\"\",VLOOKUP(G39,Windows,2,FALSE))","v":{"$error":"#N/A"}},"",{"$f":"IF(G39=UvaluesWRF!A$2,IF(ISERROR(F39*J39*(H39-F39)),\"\",F39*J39*(H39-F39)),IF(ISERROR(F39*J39*(F39-I39)),\"\",(I39-F39)*J39*I39))","v":""}]
[]
[null,"* this is net heat loss (i.e. the heat loss of the window minus that of a wall of the same area) and so can be negative.  This is done so that the area of the window or door does not have to be subtracted from the wall area.  "]
[null,null,null,null,null,null,null,null,"Room heat loss (W)",null,{"$f":"SUM(K10:K39)","v":0}]
[]
[]
[]
[null,"Row number lookup map"]
[]
[null,"Room name",2,null,"Emitter type",3,"For convectors consult the manufacturer's data and enter the temperature factor (FTEMP) for the appropriate fan speed",4,"For radiators enter the n-coefficient (exponent) from manufacturer's data.  If unknown 1.3 may be used",null,5]
[]
[null,"Enter floor type and construction",6,null,"Enter floor type and construction",7,"For UFH enter Tog value (See Table 14)",8,"For UFH enter  active or exposed area of the heated floor ",null,9]
[]
[null,"Enter Room type below",null,null," Enter Open fire/chimney details below "]
[null,10,null,null,11]
[null,"Room Dimensions"]
[null,"Length (m)",null,"Width (m)",null,"Height (m)"]
[null,13,null,14,null,15]
[null,"Walls, floors not ground floors and ceiling"]
[null,"Name of wall, floor, ceiling","Space on other side","Height or length (m)","Width (m)",null,"Construction","Entered U-\u001evalue (W/m²K), if required"]
[null,16,17,18,19,null,20,21]
[null,22,23,24,25,null,26,27]
[null,28,29,30,31,null,32,33]
[null,35,36,37,38,null,39,40]
[null,41,42,43,44,null,45,46]
[null,47,48,49,50,null,51,52]
[null,53,54,55,56,null,57,58]
[null,59,60,61,62,null,63,64]
[null,65,66,67,68,null,69,70]
[null,71,72,73,74,null,75,76]
[null,77,78,79,80,null,81,82]
[null,83,84,85,86,null,87,88]
[null,"Ground floors \nShort length (m)","long length\n(m)","Edges exposed",null,null,"Type and Insulation  thickness"]
[null,89,90,91,92,null,92,93]
[null,95,96,97,null,null,98,99]
[null,100,101,102,null,null,103,104]
[]
[]
[null,"Windows and doors"]
[null,"Wall or roof with window or door","Window or door height (m)","Window or door width (m)","Area (m²)","Wall/roof U-value (W/m²K)","Frame and glazing type ","Entered U-\u001evalue (W/m²K), if required"]
[null,105,106,107,null,null,108,109]
[null,111,112,113,null,null,114,115]
[null,116,117,118,null,null,119,120]
[null,121,122,123,null,null,124,125]
[null,126,127,128,null,null,129,130]
[null,131,132,133,null,null,134,135]

{"sheet":"10","index":15,"n_rows":84,"n_cols":29,"rows_kept":84,"cut":false,"hidden":true,"merged":[[40,1,40,7],[41,8,41,9],[7,7,7,8],[4,8,4,9],[6,1,6,2],[6,4,6,5],[6,7,6,8],[47,8,47,9],[49,2,49,3],[49,8,49,9],[51,1,51,2],[51,4,51,5],[51,7,51,8],[52,1,52,2],[52,4,52,5],[52,7,52,8],[72,3,72,4],[73,3,73,4],[71,3,71,4]]}
[null,{"$f":"'Room Inputs'!M3","v":"Room10"}]
[]
[null,"Room name",{"$f":"HLOOKUP($B$1,'Room Inputs'!$D$3:$X$137,C48,0)","v":0},null,"Emitter type",{"$f":"HLOOKUP($B$1,'Room Inputs'!$D$3:$X$137,F48,0)","v":0},"For convectors consult the manufacturer's data and enter the temperature factor (FTEMP) for the appropriate fan speed",{"$f":"HLOOKUP($B$1,'Room Inputs'!$D$3:$X$137,H48,0)","v":0.85},"For radiators enter the n-coefficient (exponent) from manufacturer's data.  If unknown 1.3 may be used",null,{"$f":"HLOOKUP($B$1,'Room Inputs'!$D$3:$X$137,K48,0)","v":1.3}]
[]
[null,"Enter floor type and construction",{"$f":"HLOOKUP($B$1,'Room Inputs'!$D$3:$X$137,C50,0)","v":0},null,"Enter floor type and construction",{"$f":"HLOOKUP($B$1,'Room Inputs'!$D$3:$X$137,F50,0)","v":0},"For UFH enter Tog value (See Table 14)",{"$f":"HLOOKUP($B$1,'Room Inputs'!$D$3:$X$137,H50,0)","v":0.25},"For UFH enter  active or exposed area of the heated floor ",null,{"$f":"HLOOKUP($B$1,'Room Inputs'!$D$3:$X$137,K50,0)","v":0}]
[]
[null,"Enter Room type below",null,null," Enter Open fire/chimney details below ",null,null,"Design room ventilation rate (air changes per hour)",null,null,"Design room temperature °C"]
[null,{"$f":"HLOOKUP($B$1,'Room Inputs'!$D$3:$X$137,B53,0)","v":0},null,null,{"$f":"HLOOKUP($B$1,'Room Inputs'!$D$3:$X$137,E53,0)","v":0},null,null,{"$f":"IF(E8=VTables!B20,VLOOKUP(B8,DRVT,3,FALSE),MAX(VLOOKUP(B8,DRVT,3,FALSE),VLOOKUP(E8,ARVR,2,FALSE)))","v":{"$error":"#N/A"}},null,null,{"$f":"VLOOKUP(B8,DRVT,2,FALSE)","v":{"$error":"#N/A"}}]
[null,"Room Dimensions"]
[null,"Length (m)",null,"Width (m)",null,"Height (m)","Room volume (m³) ",null,null,"Design temperature difference","Heat loss (W)"]
[null,{"$f":"HLOOKUP($B$1,'Room Inputs'!$D$3:$X$137,B56,0)","v":0},null,{"$f":"HLOOKUP($B$1,'Room Inputs'!$D$3:$X$137,D56,0)","v":0},null,{"$f":"HLOOKUP($B$1,'Room Inputs'!$D$3:$X$137,F56,0)","v":0},{"$f":"B11*D11*F11","v":0},null,null,{"$f":"K8-'Site Inputs'!C8","v":{"$error":"#N/A"}},{"$f":"IF(G11>0,(ROUND(0.33*G11*H8*J11,2)),\"\")","v":""}]
[null,"Walls, floors not ground floors and ceiling"]
[null,"Name of wall, floor, ceiling","Space on other side","Height or length (m)","Width (m)","Area (m²)","Construction","Entered U-\u001evalue (W/m²K), if required","U-value (W/m²K)","Design temperature difference","Heat loss (W)",null,"`"]
[null,{"$f":"HLOOKUP($B$1,'Room Inputs'!$D$3:$X$137,B59,0)","v":0},{"$f":"HLOOKUP($B$1,'Room Inputs'!$D$3:$X$137,C59,0)","v":0},{"$f":"HLOOKUP($B$1,'Room Inputs'!$D$3:$X$137,D59,0)","v":0},{"$f":"HLOOKUP($B$1,'Room Inputs'!$D$3:$X$137,E59,0)","v":0},{"$f":"D14*E14","v":0},{"$f":"HLOOKUP($B$1,'Room Inputs'!$D$3:$X$137,G59,0)","v":0},{"$f":"HLOOKUP($B$1,'Room Inputs'!$D$3:$X$137,H59,0)","v":0},{"$f":"IF(OR(G14=UvaluesWRF!A$2,ISERROR(VLOOKUP(G14,UvaluesWRF!A$3:B$110,2,FALSE))),\"\",VLOOKUP(G14,UvaluesWRF!A$3:B$110,2,FALSE))","v":""},{"$f":"IF(C14=\"\",\"\",$K$8-VLOOKUP(C14,DRVT,2,FALSE))","v":{"$error":"#N/A"}},{"$f":"IF(G14=UvaluesWRF!A$2,IF(ISERROR(F14*J14*H14),\"\",F14*J14*H14),IF(ISERROR(F14*J14*I14),\"\",F14*J14*I14))","v":""}]
[null,{"$f":"HLOOKUP($B$1,'Room Inputs'!$D$3:$X$137,B60,0)","v":0},{"$f":"HLOOKUP($B$1,'Room Inputs'!$D$3:$X$137,C60,0)","v":0},{"$f":"HLOOKUP($B$1,'Room Inputs'!$D$3:$X$137,D60,0)","v":0},{"$f":"HLOOKUP($B$1,'Room Inputs'!$D$3:$X$137,E60,0)","v":0},{"$f":"D15*E15","v":0},{"$f":"HLOOKUP($B$1,'Room Inputs'!$D$3:$X$137,G60,0)","v":0},{"$f":"HLOOKUP($B$1,'Room Inputs'!$D$3:$X$137,H60,0)","v":0},{"$f":"IF(OR(G15=UvaluesWRF!A$2,ISERROR(VLOOKUP(G15,UvaluesWRF!A$3:B$110,2,FALSE))),\"\",VLOOKUP(G15,UvaluesWRF!A$3:B$110,2,FALSE))","v":""},{"$error":"#N/A"},{"$f":"IF(G15=UvaluesWRF!A$2,IF(ISERROR(F15*J15*H15),\"\",F15*J15*H15),IF(ISERROR(F15*J15*I15),\"\",F15*J15*I15))","v":""}]
[null,{"$f":"HLOOKUP($B$1,'Room Inputs'!$D$3:$X$137,B61,0)","v":0},{"$f":"HLOOKUP($B$1,'Room Inputs'!$D$3:$X$137,C61,0)","v":0},{"$f":"HLOOKUP($B$1,'Room Inputs'!$D$3:$X$137,D61,0)","v":0},{"$f":"HLOOKUP($B$1,'Room Inputs'!$D$3:$X$137,E61,0)","v":0},0,{"$f":"HLOOKUP($B$1,'Room Inputs'!$D$3:$X$137,G61,0)","v":0},{"$f":"HLOOKUP($B$1,'Room Inputs'!$D$3:$X$137,H61,0)","v":0},{"$f":"IF(OR(G16=UvaluesWRF!A$2,ISERROR(VLOOKUP(G16,UvaluesWRF!A$3:B$110,2,FALSE))),\"\",VLOOKUP(G16,UvaluesWRF!A$3:B$110,2,FALSE))","v":""},{"$error":"#N/A"},{"$f":"IF(G16=UvaluesWRF!A$2,IF(ISERROR(F16*J16*H16),\"\",F16*J16*H16),IF(ISERROR(F16*J16*I16),\"\",F16*J16*I16))","v":""}]
[null,{"$f":"HLOOKUP($B$1,'Room Inputs'!$D$3:$X$137,B62,0)","v":0},{"$f":"HLOOKUP($B$1,'Room Inputs'!$D$3:$X$137,C62,0)","v":0},{"$f":"HLOOKUP($B$1,'Room Inputs'!$D$3:$X$137,D62,0)","v":0},{"$f":"HLOOKUP($B$1,'Room Inputs'!$D$3:$X$137,E62,0)","v":0},0,{"$f":"HLOOKUP($B$1,'Room Inputs'!$D$3:$X$137,G62,0)","v":0},{"$f":"HLOOKUP($B$1,'Room Inputs'!$D$3:$X$137,H62,0)","v":0},{"$f":"IF(OR(G17=UvaluesWRF!A$2,ISERROR(VLOOKUP(G17,UvaluesWRF!A$3:B$110,2,FALSE))),\"\",VLOOKUP(G17,UvaluesWRF!A$3:B$110,2,FALSE))","v":""},{"$error":"#N/A"},{"$f":"IF(G17=UvaluesWRF!A$2,IF(ISERROR(F17*J17*H17),\"\",F17*J17*H17),IF(ISERROR(F17*J17*I17),\"\",F17*J17*I17))","v":""}]
[null,{"$f":"HLOOKUP($B$1,'Room Inputs'!$D$3:$X$137,B63,0)","v":0},{"$f":"HLOOKUP($B$1,'Room Inputs'!$D$3:$X$137,C63,0)","v":0},{"$f":"HLOOKUP($B$1,'Room Inputs'!$D$3:$X$137,D63,0)","v":0},{"$f":"HLOOKUP($B$1,'Room Inputs'!$D$3:$X$137,E63,0)","v":0},0,{"$f":"HLOOKUP($B$1,'Room Inputs'!$D$3:$X$137,G63,0)","v":0},{"$f":"HLOOKUP($B$1,'Room Inputs'!$D$3:$X$137,H63,0)","v":0},{"$f":"IF(OR(G18=UvaluesWRF!A$2,ISERROR(VLOOKUP(G18,UvaluesWRF!A$3:B$110,2,FALSE))),\"\",VLOOKUP(G18,UvaluesWRF!A$3:B$110,2,FALSE))","v":""},{"$error":"#N/A"},{"$f":"IF(G18=UvaluesWRF!A$2,IF(ISERROR(F18*J18*H18),\"\",F18*J18*H18),IF(ISERROR(F18*J18*I18),\"\",F18*J18*I18))","v":""}]
[null,{"$f":"HLOOKUP($B$1,'Room Inputs'!$D$3:$X$137,B64,0)","v":0},{"$f":"HLOOKUP($B$1,'Room Inputs'!$D$3:$X$137,C64,0)","v":0},{"$f":"HLOOKUP($B$1,'Room Inputs'!$D$3:$X$137,D64,0)","v":0},{"$f":"HLOOKUP($B$1,'Room Inputs'!$D$3:$X$137,E64,0)","v":0},0,{"$f":"HLOOKUP($B$1,'Room Inputs'!$D$3:$X$137,G64,0)","v":0},{"$f":"HLOOKUP($B$1,'Room Inputs'!$D$3:$X$137,H64,0)","v":0},{"$f":"IF(OR(G19=UvaluesWRF!A$2,ISERROR(VLOOKUP(G19,UvaluesWRF!A$3:B$110,2,FALSE))),\"\",VLOOKUP(G19,UvaluesWRF!A$3:B$110,2,FALSE))","v":""},{"$error":"#N/A"},{"$f":"IF(G19=UvaluesWRF!A$2,IF(ISERROR(F19*J19*H19),\"\",F19*J19*H19),IF(ISERROR(F19*J19*I19),\"\",F19*J19*I19))","v":""}]
[null,{"$f":"HLOOKUP($B$1,'Room Inputs'!$D$3:$X$137,B65,0)","v":0},{"$f":"HLOOKUP($B$1,'Room Inputs'!$D$3:$X$137,C65,0)","v":0},{"$f":"HLOOKUP($B$1,'Room Inputs'!$D$3:$X$137,D65,0)","v":0},{"$f":"HLOOKUP($B$1,'Room Inputs'!$D$3:$X$137,E65,0)","v":0},0,{"$f":"HLOOKUP($B$1,'Room Inputs'!$D$3:$X$137,G65,0)","v":0},{"$f":"HLOOKUP($B$1,'Room Inputs'!$D$3:$X$137,H65,0)","v":0},{"$f":"IF(OR(G20=UvaluesWRF!A$2,ISERROR(VLOOKUP(G20,UvaluesWRF!A$3:B$110,2,FALSE))),\"\",VLOOKUP(G20,UvaluesWRF!A$3:B$110,2,FALSE))","v":""},{"$error":"#N/A"},{"$f":"IF(G20=UvaluesWRF!A$2,IF(ISERROR(F20*J20*H20),\"\",F20*J20*H20),IF(ISERROR(F20*J20*I20),\"\",F20*J20*I20))","v":""}]
[null,{"$f":"HLOOKUP($B$1,'Room Inputs'!$D$3:$X$137,B66,0)","v":0},{"$f":"HLOOKUP($B$1,'Room Inputs'!$D$3:$X$137,C66,0)","v":0},{"$f":"HLOOKUP($B$1,'Room Inputs'!$D$3:$X$137,D66,0)","v":0},{"$f":"HLOOKUP($B$1,'Room Inputs'!$D$3:$X$137,E66,0)","v":0},0,{"$f":"HLOOKUP($B$1,'Room Inputs'!$D$3:$X$137,G66,0)","v":0},{"$f":"HLOOKUP($B$1,'Room Inputs'!$D$3:$X$137,H66,0)","v":0},{"$f":"IF(OR(G21=UvaluesWRF!A$2,ISERROR(VLOOKUP(G21,UvaluesWRF!A$3:B$110,2,FALSE))),\"\",VLOOKUP(G21,UvaluesWRF!A$3:B$110,2,FALSE))","v":""},{"$error":"#N/A"},{"$f":"IF(G21=UvaluesWRF!A$2,IF(ISERROR(F21*J21*H21),\"\",F21*J21*H21),IF(ISERROR(F21*J21*I21),\"\",F21*J21*I21))","v":""}]
[null,{"$f":"HLOOKUP($B$1,'Room Inputs'!$D$3:$X$137,B67,0)","v":0},{"$f":"HLOOKUP($B$1,'Room Inputs'!$D$3:$X$137,C67,0)","v":0},{"$f":"HLOOKUP($B$1,'Room Inputs'!$D$3:$X$137,D67,0)","v":0},{"$f":"HLOOKUP($B$1,'Room Inputs'!$D$3:$X$137,E67,0)","v":0},0,{"$f":"HLOOKUP($B$1,'Room Inputs'!$D$3:$X$137,G67,0)","v":0},{"$f":"HLOOKUP($B$1,'Room Inputs'!$D$3:$X$137,H67,0)","v":0},{"$f":"IF(OR(G22=UvaluesWRF!A$2,ISERROR(VLOOKUP(G22,UvaluesWRF!A$3:B$110,2,FALSE))),\"\",VLOOKUP(G22,UvaluesWRF!A$3:B$110,2,FALSE))","v":""},{"$error":"#N/A"},{"$f":"IF(G22=UvaluesWRF!A$2,IF(ISERROR(F22*J22*H22),\"\",F22*J22*H22),IF(ISERROR(F22*J22*I22),\"\",F22*J22*I22))","v":""}]
[null,{"$f":"HLOOKUP($B$1,'Room Inputs'!$D$3:$X$137,B68,0)","v":0},{"$f":"HLOOKUP($B$1,'Room Inputs'!$D$3:$X$137,C68,0)","v":0},{"$f":"HLOOKUP($B$1,'Room Inputs'!$D$3:$X$137,D68,0)","v":0},{"$f":"HLOOKUP($B$1,'Room Inputs'!$D$3:$X$137,E68,0)","v":0},0,{"$f":"HLOOKUP($B$1,'Room Inputs'!$D$3:$X$137,G68,0)","v":0},{"$f":"HLOOKUP($B$1,'Room Inputs'!$D$3:$X$137,H68,0)","v":0},{"$f":"IF(OR(G23=UvaluesWRF!A$2,ISERROR(VLOOKUP(G23,UvaluesWRF!A$3:B$110,2,FALSE))),\"\",VLOOKUP(G23,UvaluesWRF!A$3:B$110,2,FALSE))","v":""},{"$error":"#N/A"},{"$f":"IF(G23=UvaluesWRF!A$2,IF(ISERROR(F23*J23*H23),\"\",F23*J23*H23),IF(ISERROR(F23*J23*I23),\"\",F23*J23*I23))","v":""}]
[null,{"$f":"HLOOKUP($B$1,'Room Inputs'!$D$3:$X$137,B69,0)","v":0},{"$f":"HLOOKUP($B$1,'Room Inputs'!$D$3:$X$137,C69,0)","v":0},{"$f":"HLOOKUP($B$1,'Room Inputs'!$D$3:$X$137,D69,0)","v":0},{"$f":"HLOOKUP($B$1,'Room Inputs'!$D$3:$X$137,E69,0)","v":0},0,{"$f":"HLOOKUP($B$1,'Room Inputs'!$D$3:$X$137,G69,0)","v":0},{"$f":"HLOOKUP($B$1,'Room Inputs'!$D$3:$X$137,H69,0)","v":0},{"$f":"IF(OR(G24=UvaluesWRF!A$2,ISERROR(VLOOKUP(G24,UvaluesWRF!A$3:B$110,2,FALSE))),\"\",VLOOKUP(G24,UvaluesWRF!A$3:B$110,2,FALSE))","v":""},{"$error":"#N/A"},{"$f":"IF(G24=UvaluesWRF!A$2,IF(ISERROR(F24*J24*H24),\"\",F24*J24*H24),IF(ISERROR(F24*J24*I24),\"\",F24*J24*I24))","v":""}]
[null,{"$f":"HLOOKUP($B$1,'Room Inputs'!$D$3:$X$137,B70,0)","v":0},{"$f":"HLOOKUP($B$1,'Room Inputs'!$D$3:$X$137,C70,0)","v":0},{"$f":"HLOOKUP($B$1,'Room Inputs'!$D$3:$X$137,D70,0)","v":0},{"$f":"HLOOKUP($B$1,'Room Inputs'!$D$3:$X$137,E70,0)","v":0},0,{"$f":"HLOOKUP($B$1,'Room Inputs'!$D$3:$X$137,G70,0)","v":0},{"$f":"HLOOKUP($B$1,'Room Inputs'!$D$3:$X$137,H70,0)","v":0},{"$f":"IF(OR(G25=UvaluesWRF!A$2,ISERROR(VLOOKUP(G25,UvaluesWRF!A$3:B$110,2,FALSE))),\"\",VLOOKUP(G25,UvaluesWRF!A$3:B$110,2,FALSE))","v":""},{"$error":"#N/A"},{"$f":"IF(G25=UvaluesWRF!A$2,IF(ISERROR(F25*J25*H25),\"\",F25*J25*H25),IF(ISERROR(F25*J25*I25),\"\",F25*J25*I25))","v":""}]
[null,"Ground floors \nShort length (m)","long length\n(m)","Edges exposed",null,null,"Type and Insulation  thickness",null,null,null,null,null,"U-value","Edge","Insulation","Column",null,1,2,3,4,5.3,5.4,5.5,5.6,6.3,6.4,6.5,6.6]
[null,{"$f":"HLOOKUP($B$1,'Room Inputs'!$D$3:$X$137,B72,0)","v":0},{"$f":"HLOOKUP($B$1,'Room Inputs'!$D$3:$X$137,C72,0)","v":0},{"$f":"HLOOKUP($B$1,'Room Inputs'!$D$3:$X$137,D72,0)","v":0},{"$f":"HLOOKUP($B$1,'Room Inputs'!$D$3:$X$137,E72,0)","v":0},{"$f":"B27*C27","v":0},{"$f":"HLOOKUP($B$1,'Room Inputs'!$D$3:$X$137,G72,0)","v":0},{"$f":"HLOOKUP($B$1,'Room Inputs'!$D$3:$X$137,H72,0)","v":0},{"$f":"IF(OR(G27=UvaluesFlr!$U$3,G27=UvaluesFlr!$U$4,ISERROR(M27)),\"\",M27)","v":""},{"$f":"$K$8-IF(LEFT(G27,2)=\"So\",10,'Site Inputs'!$C$8)","v":{"$error":"#N/A"}},{"$f":"IF(OR(G27=UvaluesFlr!$U$3,G27=UvaluesFlr!$U$4),IF(ISERROR(F27*J27*H27),\"\",F27*J27*H27),IF(ISERROR(F27*J27*I27),\"\",F27*J27*I27))","v":""},null,{"$f":"HLOOKUP(N27+MIN(0.6,IF(N27>4,O27/10,0)),$R$26:$AC$29,2,TRUE)","v":{"$error":"#N/A"}},{"$f":"VLOOKUP(D27,UvaluesFlr!$U$17:$V$22,2,FALSE)","v":{"$error":"#N/A"}},{"$f":"VLOOKUP(G27,UvaluesFlr!$U$3:$W$14,2,FALSE)","v":{"$error":"#N/A"}},{"$f":"VLOOKUP(G27,UvaluesFlr!$U$3:$W$14,3,FALSE)","v":{"$error":"#N/A"}},null,{"$f":"VLOOKUP(C27,UvaluesFlr!$C$53:$P$59,$P27,TRUE)","v":{"$error":"#N/A"}},{"$f":"VLOOKUP(B27,UvaluesFlr!$C$53:$P$59,$P27,TRUE)","v":{"$error":"#N/A"}},{"$f":"VLOOKUP(B27+C27,UvaluesFlr!$C$4:$P$12,$P27,TRUE)","v":{"$error":"#N/A"}},{"$f":"VLOOKUP(B27,UvaluesFlr!$C$16:$P$21,$P27,TRUE)","v":{"$error":"#N/A"}},{"$f":"VLOOKUP($C27,UvaluesFlr!$D$26:$P$29,$P27-1,TRUE)","v":{"$error":"#N/A"}},{"$f":"VLOOKUP($C27,UvaluesFlr!$D$30:$P$31,$P27-1,TRUE)","v":{"$error":"#N/A"}},{"$f":"VLOOKUP($C27,UvaluesFlr!$D$32:$P$33,$P27-1,TRUE)","v":{"$error":"#N/A"}},{"$f":"VLOOKUP($C27,UvaluesFlr!$D$34:$P$35,$P27-1,TRUE)","v":{"$error":"#N/A"}},{"$f":"VLOOKUP($C27,UvaluesFlr!$D$39:$P$42,$P27-1,TRUE)","v":{"$error":"#N/A"}},{"$f":"VLOOKUP($C27,UvaluesFlr!$D$43:$P$45,$P27-1,TRUE)","v":{"$error":"#N/A"}},{"$f":"VLOOKUP($C27,UvaluesFlr!$D$46:$P$48,$P27-1,TRUE)","v":{"$error":"#N/A"}},{"$f":"VLOOKUP($C27,UvaluesFlr!$D$49:$P$50,$P27-1,TRUE)","v":{"$error":"#N/A"}}]
[null,{"$f":"HLOOKUP($B$1,'Room Inputs'!$D$3:$X$137,B73,0)","v":0},{"$f":"HLOOKUP($B$1,'Room Inputs'!$D$3:$X$137,C73,0)","v":0},{"$f":"HLOOKUP($B$1,'Room Inputs'!$D$3:$X$137,D73,0)","v":0},{"$f":"HLOOKUP($B$1,'Room Inputs'!$D$3:$X$137,E73,0)","v":{"$error":"#VALUE!"}},{"$f":"B28*C28","v":0},{"$f":"HLOOKUP($B$1,'Room Inputs'!$D$3:$X$137,G73,0)","v":0},{"$f":"HLOOKUP($B$1,'Room Inputs'!$D$3:$X$137,H73,0)","v":0},{"$f":"IF(OR(G28=UvaluesFlr!$U$3,G28=UvaluesFlr!$U$4,ISERROR(M28)),\"\",M28)","v":""},{"$f":"$K$8-IF(LEFT(G28,2)=\"So\",10,'Site Inputs'!$C$8)","v":{"$error":"#N/A"}},{"$f":"IF(OR(G28=UvaluesFlr!$U$3,G28=UvaluesFlr!$U$4),IF(ISERROR(F28*J28*H28),\"\",F28*J28*H28),IF(ISERROR(F28*J28*I28),\"\",F28*J28*I28))","v":""},null,{"$f":"HLOOKUP(N28+MIN(0.6,IF(N28>4,O28/10,0)),$R$26:$AC$29,3,TRUE)","v":{"$error":"#N/A"}},{"$f":"VLOOKUP(D28,UvaluesFlr!$U$17:$V$22,2,FALSE)","v":{"$error":"#N/A"}},{"$f":"VLOOKUP(G28,UvaluesFlr!$U$3:$W$14,2,FALSE)","v":{"$error":"#N/A"}},{"$f":"VLOOKUP(G28,UvaluesFlr!$U$3:$W$14,3,FALSE)","v":{"$error":"#N/A"}},null,{"$f":"VLOOKUP(C28,UvaluesFlr!$C$53:$P$59,$P28,TRUE)","v":{"$error":"#N/A"}},{"$f":"VLOOKUP(B28,UvaluesFlr!$C$53:$P$59,$P28,TRUE)","v":{"$error":"#N/A"}},{"$f":"VLOOKUP(B28+C28,UvaluesFlr!$C$4:$P$12,$P28,TRUE)","v":{"$error":"#N/A"}},{"$f":"VLOOKUP(B28,UvaluesFlr!$C$16:$P$21,$P28,TRUE)","v":{"$error":"#N/A"}},{"$f":"VLOOKUP($C28,UvaluesFlr!$D$26:$P$29,$P28-1,TRUE)","v":{"$error":"#N/A"}},{"$f":"VLOOKUP($C28,UvaluesFlr!$D$30:$P$31,$P28-1,TRUE)","v":{"$error":"#N/A"}},{"$f":"VLOOKUP($C28,UvaluesFlr!$D$32:$P$33,$P28-1,TRUE)","v":{"$error":"#N/A"}},{"$f":"VLOOKUP($C28,UvaluesFlr!$D$34:$P$35,$P28-1,TRUE)","v":{"$error":"#N/A"}},{"$f":"VLOOKUP($C28,UvaluesFlr!$D$39:$P$42,$P28-1,TRUE)","v":{"$error":"#N/A"}},{"$f":"VLOOKUP($C28,UvaluesFlr!$D$43:$P$45,$P28-1,TRUE)","v":{"$error":"#N/A"}},{"$f":"VLOOKUP($C28,UvaluesFlr!$D$46:$P$48,$P28-1,TRUE)","v":{"$error":"#N/A"}},{"$f":"VLOOKUP($C28,UvaluesFlr!$D$49:$P$50,$P28-1,TRUE)","v":{"$error":"#N/A"}}]
[null,{"$f":"HLOOKUP($B$1,'Room Inputs'!$D$3:$X$137,B74,0)","v":0},{"$f":"HLOOKUP($B$1,'Room Inputs'!$D$3:$X$137,C74,0)","v":0},{"$f":"HLOOKUP($B$1,'Room Inputs'!$D$3:$X$137,D74,0)","v":0},{"$f":"HLOOKUP($B$1,'Room Inputs'!$D$3:$X$137,E74,0)","v":{"$error":"#VALUE!"}},{"$f":"B29*C29","v":0},{"$f":"HLOOKUP($B$1,'Room Inputs'!$D$3:$X$137,G74,0)","v":0},{"$f":"HLOOKUP($B$1,'Room Inputs'!$D$3:$X$137,H74,0)","v":0},{"$f":"IF(OR(G29=UvaluesFlr!$U$3,G29=UvaluesFlr!$U$4,ISERROR(M29)),\"\",M29)","v":""},{"$f":"$K$8-IF(LEFT(G29,2)=\"So\",10,'Site Inputs'!$C$8)","v":{"$error":"#N/A"}},{"$f":"IF(OR(G29=UvaluesFlr!$U$3,G29=UvaluesFlr!$U$4),IF(ISERROR(F29*J29*H29),\"\",F29*J29*H29),IF(ISERROR(F29*J29*I29),\"\",F29*J29*I29))","v":""},null,{"$f":"HLOOKUP(N29+MIN(0.6,IF(N29>4,O29/10,0)),$R$26:$AC$29,4,TRUE)","v":{"$error":"#N/A"}},{"$f":"VLOOKUP(D29,UvaluesFlr!$U$17:$V$22,2,FALSE)","v":{"$error":"#N/A"}},{"$f":"VLOOKUP(G29,UvaluesFlr!$U$3:$W$14,2,FALSE)","v":{"$error":"#N/A"}},{"$f":"VLOOKUP(G29,UvaluesFlr!$U$3:$W$14,3,FALSE)","v":{"$error":"#N/A"}},null,{"$f":"VLOOKUP(C29,UvaluesFlr!$C$53:$P$59,$P29,TRUE)","v":{"$error":"#N/A"}},{"$f":"VLOOKUP(B29,UvaluesFlr!$C$53:$P$59,$P29,TRUE)","v":{"$error":"#N/A"}},{"$f":"VLOOKUP(B29+C29,UvaluesFlr!$C$4:$P$12,$P29,TRUE)","v":{"$error":"#N/A"}},{"$f":"VLOOKUP(B29,UvaluesFlr!$C$16:$P$21,$P29,TRUE)","v":{"$error":"#N/A"}},{"$f":"VLOOKUP($C29,UvaluesFlr!$D$26:$P$29,$P29-1,TRUE)","v":{"$error":"#N/A"}},{"$f":"VLOOKUP($C29,UvaluesFlr!$D$30:$P$31,$P29-1,TRUE)","v":{"$error":"#N/A"}},{"$f":"VLOOKUP($C29,UvaluesFlr!$D$32:$P$33,$P29-1,TRUE)","v":{"$error":"#N/A"}},{"$f":"VLOOKUP($C29,UvaluesFlr!$D$34:$P$35,$P29-1,TRUE)","v":{"$error":"#N/A"}},{"$f":"VLOOKUP($C29,UvaluesFlr!$D$39:$P$42,$P29-1,TRUE)","v":{"$error":"#N/A"}},{"$f":"VLOOKUP($C29,UvaluesFlr!$D$43:$P$45,$P29-1,TRUE)","v":{"$error":"#N/A"}},{"$f":"VLOOKUP($C29,UvaluesFlr!$D$46:$P$48,$P29-1,TRUE)","v":{"$error":"#N/A"}},{"$f":"VLOOKUP($C29,UvaluesFlr!$D$49:$P$50,$P29-1,TRUE)","v":{"$error":"#N/A"}}]
[]
[]
[null,"Windows and doors"]
[null,"Wall or roof with window or door","Window or door height (m)","Window or door width (m)","Area (m²)","Wall/roof U-value (W/m²K)","Frame and glazing type ","Entered U-\u001evalue (W/m²K), if required","U-value","Design temperature difference","Heat loss (W)*"]
[null,{"$f":"HLOOKUP($B$1,'Room Inputs'!$D$3:$X$137,B79,0)","v":0},{"$f":"HLOOKUP($B$1,'Room Inputs'!$D$3:$X$137,C79,0)","v":0},{"$f":"HLOOKUP($B$1,'Room Inputs'!$D$3:$X$137,D79,0)","v":0},{"$f":"C34*D34","v":0},{"$f":"IF(B34<>\"\",IF(VLOOKUP(B34,B$14:I$25,6,FALSE)=UvalueWD!$C$6,VLOOKUP(B34,B$14:I$25,7,FALSE),VLOOKUP(B34,B$14:I$25,8,FALSE)),\"\")","v":""},{"$f":"HLOOKUP($B$1,'Room Inputs'!$D$3:$X$137,G79,0)","v":0},{"$f":"HLOOKUP($B$1,'Room Inputs'!$D$3:$X$137,H79,0)","v":0},{"$f":"IF(OR(G34=UvalueWD!C$6,G34=\"\"),\"\",VLOOKUP(G34,Windows,2,FALSE))","v":{"$error":"#N/A"}},{"$f":"IF(ISERROR(VLOOKUP(B34,B$13:K$29,9,FALSE)),\"\",VLOOKUP(B34,B$13:K$29,9,FALSE))","v":""},{"$f":"IF(G34=UvaluesWRF!A$2,IF(ISERROR(F34*J34*(H34-F34)),\"\",F34*J34*(H34-F34)),IF(ISERROR(F34*J34*(F34-I34)),\"\",(I34-F34)*J34*I34))","v":""}]
[null,{"$f":"HLOOKUP($B$1,'Room Inputs'!$D$3:$X$137,B80,0)","v":0},{"$f":"HLOOKUP($B$1,'Room Inputs'!$D$3:$X$137,C80,0)","v":0},{"$f":"HLOOKUP($B$1,'Room Inputs'!$D$3:$X$137,D80,0)","v":0},0,{"$f":"IF(B35<>\"\",IF(VLOOKUP(B35,B$14:I$25,6,FALSE)=UvalueWD!$C$6,VLOOKUP(B35,B$14:I$25,7,FALSE),VLOOKUP(B35,B$14:I$25,8,FALSE)),\"\")","v":""},{"$f":"HLOOKUP($B$1,'Room Inputs'!$D$3:$X$137,G80,0)","v":0},{"$f":"HLOOKUP($B$1,'Room Inputs'!$D$3:$X$137,H80,0)","v":0},{"$f":"IF(OR(G35=UvalueWD!C$6,G35=\"\"),\"\",VLOOKUP(G35,Windows,2,FALSE))","v":{"$error":"#N/A"}},"",{"$f":"IF(G35=UvaluesWRF!A$2,IF(ISERROR(F35*J35*(H35-F35)),\"\",F35*J35*(H35-F35)),IF(ISERROR(F35*J35*(F35-I35)),\"\",(I35-F35)*J35*I35))","v":""}]
[null,{"$f":"HLOOKUP($B$1,'Room Inputs'!$D$3:$X$137,B81,0)","v":0},{"$f":"HLOOKUP($B$1,'Room Inputs'!$D$3:$X$137,C81,0)","v":0},{"$f":"HLOOKUP($B$1,'Room Inputs'!$D$3:$X$137,D81,0)","v":0},0,{"$f":"IF(B36<>\"\",IF(VLOOKUP(B36,B$14:I$25,6,FALSE)=UvalueWD!$C$6,VLOOKUP(B36,B$14:I$25,7,FALSE),VLOOKUP(B36,B$14:I$25,8,FALSE)),\"\")","v":""},{"$f":"HLOOKUP($B$1,'Room Inputs'!$D$3:$X$137,G81,0)","v":0},{"$f":"HLOOKUP($B$1,'Room Inputs'!$D$3:$X$137,H81,0)","v":0},{"$f":"IF(OR(G36=UvalueWD!C$6,G36=\"\"),\"\",VLOOKUP(G36,Windows,2,FALSE))","v":{"$error":"#N/A"}},"",{"$f":"IF(G36=UvaluesWRF!A$2,IF(ISERROR(F36*J36*(H36-F36)),\"\",F36*J36*(H36-F36)),IF(ISERROR(F36*J36*(F36-I36)),\"\",(I36-F36)*J36*I36))","v":""}]
[null,{"$f":"HLOOKUP($B$1,'Room Inputs'!$D$3:$X$137,B82,0)","v":0},{"$f":"HLOOKUP($B$1,'Room Inputs'!$D$3:$X$137,C82,0)","v":0},{"$f":"HLOOKUP($B$1,'Room Inputs'!$D$3:$X$137,D82,0)","v":0},0,{"$f":"IF(B37<>\"\",IF(VLOOKUP(B37,B$14:I$25,6,FALSE)=UvalueWD!$C$6,VLOOKUP(B37,B$14:I$25,7,FALSE),VLOOKUP(B37,B$14:I$25,8,FALSE)),\"\")","v":""},{"$f":"HLOOKUP($B$1,'Room Inputs'!$D$3:$X$137,G82,0)","v":0},{"$f":"HLOOKUP($B$1,'Room Inputs'!$D$3:$X$137,H82,0)","v":0},{"$f":"IF(OR(G37=UvalueWD!C$6,G37=\"\"),\"\",VLOOKUP(G37,Windows,2,FALSE))","v":{"$error":"#N/A"}},"",{"$f":"IF(G37=UvaluesWRF!A$2,IF(ISERROR(F37*J37*(H37-F37)),\"\",F37*J37*(H37-F37)),IF(ISERROR(F37*J37*(F37-I37)),\"\",(I37-F37)*J37*I37))","v":""}]
[null,{"$f":"HLOOKUP($B$1,'Room Inputs'!$D$3:$X$137,B83,0)","v":0},{"$f":"HLOOKUP($B$1,'Room Inputs'!$D$3:$X$137,C83,0)","v":0},{"$f":"HLOOKUP($B$1,'Room Inputs'!$D$3:$X$137,D83,0)","v":0},0,{"$f":"IF(B38<>\"\",IF(VLOOKUP(B38,B$14:I$25,6,FALSE)=UvalueWD!$C$6,VLOOKUP(B38,B$14:I$25,7,FALSE),VLOOKUP(B38,B$14:I$25,8,FALSE)),\"\")","v":""},{"$f":"HLOOKUP($B$1,'Room Inputs'!$D$3:$X$137,G83,0)","v":0},{"$f":"HLOOKUP($B$1,'Room Inputs'!$D$3:$X$137,H83,0)","v":0},{"$f":"IF(OR(G38=UvalueWD!C$6,G38=\"\"),\"\",VLOOKUP(G38,Windows,2,FALSE))","v":{"$error":"#N/A"}},"",{"$f":"IF(G38=UvaluesWRF!A$2,IF(ISERROR(F38*J38*(H38-F38)),\"\",F38*J38*(H38-F38)),IF(ISERROR(F38*J38*(F38-I38)),\"\",(I38-F38)*J38*I38))","v":""}]
[null,{"$f":"HLOOKUP($B$1,'Room Inputs'!$D$3:$X$137,B84,0)","v":0},{"$f":"HLOOKUP($B$1,'Room Inputs'!$D$3:$X$137,C84,0)","v":0},{"$f":"HLOOKUP($B$1,'Room Inputs'!$D$3:$X$137,D84,0)","v":0},0,{"$f":"IF(B39<>\"\",IF(VLOOKUP(B39,B$14:I$25,6,FALSE)=UvalueWD!$C$6,VLOOKUP(B39,B$14:I$25,7,FALSE),VLOOKUP(B39,B$14:I$25,8,FALSE)),\"\")","v":""},{"$f":"HLOOKUP($B$1,'Room Inputs'!$D$3:$X$137,G84,0)","v":0},{"$f":"HLOOKUP($B$1,'Room Inputs'!$D$3:$X$137,H84,0)","v":0},{"$f":"IF(OR(G39=UvalueWD!C$6,G39=\"\"),\"\",VLOOKUP(G39,Windows,2,FALSE))","v":{"$error":"#N/A"}},"",{"$f":"IF(G39=UvaluesWRF!A$2,IF(ISERROR(F39*J39*(H39-F39)),\"\",F39*J39*(H39-F39)),IF(ISERROR(F39*J39*(F39-I39)),\"\",(I39-F39)*J39*I39))","v":""}]
[]
[null,"* this is net heat loss (i.e. the heat loss of the window minus that of a wall of the same area) and so can be negative.  This is done so that the area of the window or door does not have to be subtracted from the wall area.  "]
[null,null,null,null,null,null,null,null,"Room heat loss (W)",null,{"$f":"SUM(K10:K39)","v":0}]
[]
[]
[]
[null,"Row number lookup map"]
[]
[null,"Room name",2,null,"Emitter type",3,"For convectors consult the manufacturer's data and enter the temperature factor (FTEMP) for the appropriate fan speed",4,"For radiators enter the n-coefficient (exponent) from manufacturer's data.  If unknown 1.3 may be used",null,5]
[]
[null,"Enter floor type and construction",6,null,"Enter floor type and construction",7,"For UFH enter Tog value (See Table 14)",8,"For UFH enter  active or exposed area of the heated floor ",null,9]
[]
[null,"Enter Room type below",null,null," Enter Open fire/chimney details below "]
[null,10,null,null,11]
[null,"Room Dimensions"]
[null,"Length (m)",null,"Width (m)",null,"Height (m)"]
[null,13,null,14,null,15]
[null,"Walls, floors not ground floors and ceiling"]
[null,"Name of wall, floor, ceiling","Space on other side","Height or length (m)","Width (m)",null,"Construction","Entered U-\u001evalue (W/m²K), if required"]
[null,16,17,18,19,null,20,21]
[null,22,23,24,25,null,26,27]
[null,28,29,30,31,null,32,33]
[null,35,36,37,38,null,39,40]
[null,41,42,43,44,null,45,46]
[null,47,48,49,50,null,51,52]
[null,53,54,55,56,null,57,58]
[null,59,60,61,62,null,63,64]
[null,65,66,67,68,null,69,70]
[null,71,72,73,74,null,75,76]
[null,77,78,79,80,null,81,82]
[null,83,84,85,86,null,87,88]
[null,"Ground floors \nShort length (m)","long length\n(m)","Edges exposed",null,null,"Type and Insulation  thickness"]
[null,89,90,91,92,null,92,93]
[null,95,96,97,null,null,98,99]
[null,100,101,102,null,null,103,104]
[]
[]
[null,"Windows and doors"]
[null,"Wall or roof with window or door","Window or door height (m)","Window or door width (m)","Area (m²)","Wall/roof U-value (W/m²K)","Frame and glazing type ","Entered U-\u001evalue (W/m²K), if required"]
[null,105,106,107,null,null,108,109]
[null,111,112,113,null,null,114,115]
[null,116,117,118,null,null,119,120]
[null,121,122,123,null,null,124,125]
[null,126,127,128,null,null,129,130]
[null,131,132,133,null,null,134,135]

{"sheet":"11","index":16,"n_rows":84,"n_cols":29,"rows_kept":84,"cut":false,"hidden":true,"merged":[[40,1,40,7],[41,8,41,9],[7,7,7,8],[4,8,4,9],[6,1,6,2],[6,4,6,5],[6,7,6,8],[47,8,47,9],[49,2,49,3],[49,8,49,9],[51,1,51,2],[51,4,51,5],[51,7,51,8],[52,1,52,2],[52,4,52,5],[52,7,52,8],[72,3,72,4],[73,3,73,4],[71,3,71,4]]}
[null,{"$f":"'Room Inputs'!O3","v":"Room11"}]
[]
[null,"Room name",{"$f":"HLOOKUP($B$1,'Room Inputs'!$D$3:$X$137,C48,0)","v":0},null,"Emitter type",{"$f":"HLOOKUP($B$1,'Room Inputs'!$D$3:$X$137,F48,0)","v":0},"For convectors consult the manufacturer's data and enter the temperature factor (FTEMP) for the appropriate fan speed",{"$f":"HLOOKUP($B$1,'Room Inputs'!$D$3:$X$137,H48,0)","v":0.85},"For radiators enter the n-coefficient (exponent) from manufacturer's data.  If unknown 1.3 may be used",null,{"$f":"HLOOKUP($B$1,'Room Inputs'!$D$3:$X$137,K48,0)","v":1.3}]
[]
[null,"Enter floor type and construction",{"$f":"HLOOKUP($B$1,'Room Inputs'!$D$3:$X$137,C50,0)","v":0},null,"Enter floor type and construction",{"$f":"HLOOKUP($B$1,'Room Inputs'!$D$3:$X$137,F50,0)","v":0},"For UFH enter Tog value (See Table 14)",{"$f":"HLOOKUP($B$1,'Room Inputs'!$D$3:$X$137,H50,0)","v":0.25},"For UFH enter  active or exposed area of the heated floor ",null,{"$f":"HLOOKUP($B$1,'Room Inputs'!$D$3:$X$137,K50,0)","v":0}]
[]
[null,"Enter Room type below",null,null," Enter Open fire/chimney details below ",null,null,"Design room ventilation rate (air changes per hour)",null,null,"Design room temperature °C"]
[null,{"$f":"HLOOKUP($B$1,'Room Inputs'!$D$3:$X$137,B53,0)","v":0},null,null,{"$f":"HLOOKUP($B$1,'Room Inputs'!$D$3:$X$137,E53,0)","v":0},null,null,{"$f":"IF(E8=VTables!B20,VLOOKUP(B8,DRVT,3,FALSE),MAX(VLOOKUP(B8,DRVT,3,FALSE),VLOOKUP(E8,ARVR,2,FALSE)))","v":{"$error":"#N/A"}},null,null,{"$f":"VLOOKUP(B8,DRVT,2,FALSE)","v":{"$error":"#N/A"}}]
[null,"Room Dimensions"]
[null,"Length (m)",null,"Width (m)",null,"Height (m)","Room volume (m³) ",null,null,"Design temperature difference","Heat loss (W)"]
[null,{"$f":"HLOOKUP($B$1,'Room Inputs'!$D$3:$X$137,B56,0)","v":0},null,{"$f":"HLOOKUP($B$1,'Room Inputs'!$D$3:$X$137,D56,0)","v":0},null,{"$f":"HLOOKUP($B$1,'Room Inputs'!$D$3:$X$137,F56,0)","v":0},{"$f":"B11*D11*F11","v":0},null,null,{"$f":"K8-'Site Inputs'!C8","v":{"$error":"#N/A"}},{"$f":"IF(G11>0,(ROUND(0.33*G11*H8*J11,2)),\"\")","v":""}]
[null,"Walls, floors not ground floors and ceiling"]
[null,"Name of wall, floor, ceiling","Space on other side","Height or length (m)","Width (m)","Area (m²)","Construction","Entered U-\u001evalue (W/m²K), if required","U-value (W/m²K)","Design temperature difference","Heat loss (W)",null,"`"]
[null,{"$f":"HLOOKUP($B$1,'Room Inputs'!$D$3:$X$137,B59,0)","v":0},{"$f":"HLOOKUP($B$1,'Room Inputs'!$D$3:$X$137,C59,0)","v":0},{"$f":"HLOOKUP($B$1,'Room Inputs'!$D$3:$X$137,D59,0)","v":0},{"$f":"HLOOKUP($B$1,'Room Inputs'!$D$3:$X$137,E59,0)","v":0},{"$f":"D14*E14","v":0},{"$f":"HLOOKUP($B$1,'Room Inputs'!$D$3:$X$137,G59,0)","v":0},{"$f":"HLOOKUP($B$1,'Room Inputs'!$D$3:$X$137,H59,0)","v":0},{"$f":"IF(OR(G14=UvaluesWRF!A$2,ISERROR(VLOOKUP(G14,UvaluesWRF!A$3:B$110,2,FALSE))),\"\",VLOOKUP(G14,UvaluesWRF!A$3:B$110,2,FALSE))","v":""},{"$f":"IF(C14=\"\",\"\",$K$8-VLOOKUP(C14,DRVT,2,FALSE))","v":{"$error":"#N/A"}},{"$f":"IF(G14=UvaluesWRF!A$2,IF(ISERROR(F14*J14*H14),\"\",F14*J14*H14),IF(ISERROR(F14*J14*I14),\"\",F14*J14*I14))","v":""}]
[null,{"$f":"HLOOKUP($B$1,'Room Inputs'!$D$3:$X$137,B60,0)","v":0},{"$f":"HLOOKUP($B$1,'Room Inputs'!$D$3:$X$137,C60,0)","v":0},{"$f":"HLOOKUP($B$1,'Room Inputs'!$D$3:$X$137,D60,0)","v":0},{"$f":"HLOOKUP($B$1,'Room Inputs'!$D$3:$X$137,E60,0)","v":0},{"$f":"D15*E15","v":0},{"$f":"HLOOKUP($B$1,'Room Inputs'!$D$3:$X$137,G60,0)","v":0},{"$f":"HLOOKUP($B$1,'Room Inputs'!$D$3:$X$137,H60,0)","v":0},{"$f":"IF(OR(G15=UvaluesWRF!A$2,ISERROR(VLOOKUP(G15,UvaluesWRF!A$3:B$110,2,FALSE))),\"\",VLOOKUP(G15,UvaluesWRF!A$3:B$110,2,FALSE))","v":""},{"$error":"#N/A"},{"$f":"IF(G15=UvaluesWRF!A$2,IF(ISERROR(F15*J15*H15),\"\",F15*J15*H15),IF(ISERROR(F15*J15*I15),\"\",F15*J15*I15))","v":""}]
[null,{"$f":"HLOOKUP($B$1,'Room Inputs'!$D$3:$X$137,B61,0)","v":0},{"$f":"HLOOKUP($B$1,'Room Inputs'!$D$3:$X$137,C61,0)","v":0},{"$f":"HLOOKUP($B$1,'Room Inputs'!$D$3:$X$137,D61,0)","v":0},{"$f":"HLOOKUP($B$1,'Room Inputs'!$D$3:$X$137,E61,0)","v":0},0,{"$f":"HLOOKUP($B$1,'Room Inputs'!$D$3:$X$137,G61,0)","v":0},{"$f":"HLOOKUP($B$1,'Room Inputs'!$D$3:$X$137,H61,0)","v":0},{"$f":"IF(OR(G16=UvaluesWRF!A$2,ISERROR(VLOOKUP(G16,UvaluesWRF!A$3:B$110,2,FALSE))),\"\",VLOOKUP(G16,UvaluesWRF!A$3:B$110,2,FALSE))","v":""},{"$error":"#N/A"},{"$f":"IF(G16=UvaluesWRF!A$2,IF(ISERROR(F16*J16*H16),\"\",F16*J16*H16),IF(ISERROR(F16*J16*I16),\"\",F16*J16*I16))","v":""}]
[null,{"$f":"HLOOKUP($B$1,'Room Inputs'!$D$3:$X$137,B62,0)","v":0},{"$f":"HLOOKUP($B$1,'Room Inputs'!$D$3:$X$137,C62,0)","v":0},{"$f":"HLOOKUP($B$1,'Room Inputs'!$D$3:$X$137,D62,0)","v":0},{"$f":"HLOOKUP($B$1,'Room Inputs'!$D$3:$X$137,E62,0)","v":0},0,{"$f":"HLOOKUP($B$1,'Room Inputs'!$D$3:$X$137,G62,0)","v":0},{"$f":"HLOOKUP($B$1,'Room Inputs'!$D$3:$X$137,H62,0)","v":0},{"$f":"IF(OR(G17=UvaluesWRF!A$2,ISERROR(VLOOKUP(G17,UvaluesWRF!A$3:B$110,2,FALSE))),\"\",VLOOKUP(G17,UvaluesWRF!A$3:B$110,2,FALSE))","v":""},{"$error":"#N/A"},{"$f":"IF(G17=UvaluesWRF!A$2,IF(ISERROR(F17*J17*H17),\"\",F17*J17*H17),IF(ISERROR(F17*J17*I17),\"\",F17*J17*I17))","v":""}]
[null,{"$f":"HLOOKUP($B$1,'Room Inputs'!$D$3:$X$137,B63,0)","v":0},{"$f":"HLOOKUP($B$1,'Room Inputs'!$D$3:$X$137,C63,0)","v":0},{"$f":"HLOOKUP($B$1,'Room Inputs'!$D$3:$X$137,D63,0)","v":0},{"$f":"HLOOKUP($B$1,'Room Inputs'!$D$3:$X$137,E63,0)","v":0},0,{"$f":"HLOOKUP($B$1,'Room Inputs'!$D$3:$X$137,G63,0)","v":0},{"$f":"HLOOKUP($B$1,'Room Inputs'!$D$3:$X$137,H63,0)","v":0},{"$f":"IF(OR(G18=UvaluesWRF!A$2,ISERROR(VLOOKUP(G18,UvaluesWRF!A$3:B$110,2,FALSE))),\"\",VLOOKUP(G18,UvaluesWRF!A$3:B$110,2,FALSE))","v":""},{"$error":"#N/A"},{"$f":"IF(G18=UvaluesWRF!A$2,IF(ISERROR(F18*J18*H18),\"\",F18*J18*H18),IF(ISERROR(F18*J18*I18),\"\",F18*J18*I18))","v":""}]
[null,{"$f":"HLOOKUP($B$1,'Room Inputs'!$D$3:$X$137,B64,0)","v":0},{"$f":"HLOOKUP($B$1,'Room Inputs'!$D$3:$X$137,C64,0)","v":0},{"$f":"HLOOKUP($B$1,'Room Inputs'!$D$3:$X$137,D64,0)","v":0},{"$f":"HLOOKUP($B$1,'Room Inputs'!$D$3:$X$137,E64,0)","v":0},0,{"$f":"HLOOKUP($B$1,'Room Inputs'!$D$3:$X$137,G64,0)","v":0},{"$f":"HLOOKUP($B$1,'Room Inputs'!$D$3:$X$137,H64,0)","v":0},{"$f":"IF(OR(G19=UvaluesWRF!A$2,ISERROR(VLOOKUP(G19,UvaluesWRF!A$3:B$110,2,FALSE))),\"\",VLOOKUP(G19,UvaluesWRF!A$3:B$110,2,FALSE))","v":""},{"$error":"#N/A"},{"$f":"IF(G19=UvaluesWRF!A$2,IF(ISERROR(F19*J19*H19),\"\",F19*J19*H19),IF(ISERROR(F19*J19*I19),\"\",F19*J19*I19))","v":""}]
[null,{"$f":"HLOOKUP($B$1,'Room Inputs'!$D$3:$X$137,B65,0)","v":0},{"$f":"HLOOKUP($B$1,'Room Inputs'!$D$3:$X$137,C65,0)","v":0},{"$f":"HLOOKUP($B$1,'Room Inputs'!$D$3:$X$137,D65,0)","v":0},{"$f":"HLOOKUP($B$1,'Room Inputs'!$D$3:$X$137,E65,0)","v":0},0,{"$f":"HLOOKUP($B$1,'Room Inputs'!$D$3:$X$137,G65,0)","v":0},{"$f":"HLOOKUP($B$1,'Room Inputs'!$D$3:$X$137,H65,0)","v":0},{"$f":"IF(OR(G20=UvaluesWRF!A$2,ISERROR(VLOOKUP(G20,UvaluesWRF!A$3:B$110,2,FALSE))),\"\",VLOOKUP(G20,UvaluesWRF!A$3:B$110,2,FALSE))","v":""},{"$error":"#N/A"},{"$f":"IF(G20=UvaluesWRF!A$2,IF(ISERROR(F20*J20*H20),\"\",F20*J20*H20),IF(ISERROR(F20*J20*I20),\"\",F20*J20*I20))","v":""}]
[null,{"$f":"HLOOKUP($B$1,'Room Inputs'!$D$3:$X$137,B66,0)","v":0},{"$f":"HLOOKUP($B$1,'Room Inputs'!$D$3:$X$137,C66,0)","v":0},{"$f":"HLOOKUP($B$1,'Room Inputs'!$D$3:$X$137,D66,0)","v":0},{"$f":"HLOOKUP($B$1,'Room Inputs'!$D$3:$X$137,E66,0)","v":0},0,{"$f":"HLOOKUP($B$1,'Room Inputs'!$D$3:$X$137,G66,0)","v":0},{"$f":"HLOOKUP($B$1,'Room Inputs'!$D$3:$X$137,H66,0)","v":0},{"$f":"IF(OR(G21=UvaluesWRF!A$2,ISERROR(VLOOKUP(G21,UvaluesWRF!A$3:B$110,2,FALSE))),\"\",VLOOKUP(G21,UvaluesWRF!A$3:B$110,2,FALSE))","v":""},{"$error":"#N/A"},{"$f":"IF(G21=UvaluesWRF!A$2,IF(ISERROR(F21*J21*H21),\"\",F21*J21*H21),IF(ISERROR(F21*J21*I21),\"\",F21*J21*I21))","v":""}]
[null,{"$f":"HLOOKUP($B$1,'Room Inputs'!$D$3:$X$137,B67,0)","v":0},{"$f":"HLOOKUP($B$1,'Room Inputs'!$D$3:$X$137,C67,0)","v":0},{"$f":"HLOOKUP($B$1,'Room Inputs'!$D$3:$X$137,D67,0)","v":0},{"$f":"HLOOKUP($B$1,'Room Inputs'!$D$3:$X$137,E67,0)","v":0},0,{"$f":"HLOOKUP($B$1,'Room Inputs'!$D$3:$X$137,G67,0)","v":0},{"$f":"HLOOKUP($B$1,'Room Inputs'!$D$3:$X$137,H67,0)","v":0},{"$f":"IF(OR(G22=UvaluesWRF!A$2,ISERROR(VLOOKUP(G22,UvaluesWRF!A$3:B$110,2,FALSE))),\"\",VLOOKUP(G22,UvaluesWRF!A$3:B$110,2,FALSE))","v":""},{"$error":"#N/A"},{"$f":"IF(G22=UvaluesWRF!A$2,IF(ISERROR(F22*J22*H22),\"\",F22*J22*H22),IF(ISERROR(F22*J22*I22),\"\",F22*J22*I22))","v":""}]
[null,{"$f":"HLOOKUP($B$1,'Room Inputs'!$D$3:$X$137,B68,0)","v":0},{"$f":"HLOOKUP($B$1,'Room Inputs'!$D$3:$X$137,C68,0)","v":0},{"$f":"HLOOKUP($B$1,'Room Inputs'!$D$3:$X$137,D68,0)","v":0},{"$f":"HLOOKUP($B$1,'Room Inputs'!$D$3:$X$137,E68,0)","v":0},0,{"$f":"HLOOKUP($B$1,'Room Inputs'!$D$3:$X$137,G68,0)","v":0},{"$f":"HLOOKUP($B$1,'Room Inputs'!$D$3:$X$137,H68,0)","v":0},{"$f":"IF(OR(G23=UvaluesWRF!A$2,ISERROR(VLOOKUP(G23,UvaluesWRF!A$3:B$110,2,FALSE))),\"\",VLOOKUP(G23,UvaluesWRF!A$3:B$110,2,FALSE))","v":""},{"$error":"#N/A"},{"$f":"IF(G23=UvaluesWRF!A$2,IF(ISERROR(F23*J23*H23),\"\",F23*J23*H23),IF(ISERROR(F23*J23*I23),\"\",F23*J23*I23))","v":""}]
[null,{"$f":"HLOOKUP($B$1,'Room Inputs'!$D$3:$X$137,B69,0)","v":0},{"$f":"HLOOKUP($B$1,'Room Inputs'!$D$3:$X$137,C69,0)","v":0},{"$f":"HLOOKUP($B$1,'Room Inputs'!$D$3:$X$137,D69,0)","v":0},{"$f":"HLOOKUP($B$1,'Room Inputs'!$D$3:$X$137,E69,0)","v":0},0,{"$f":"HLOOKUP($B$1,'Room Inputs'!$D$3:$X$137,G69,0)","v":0},{"$f":"HLOOKUP($B$1,'Room Inputs'!$D$3:$X$137,H69,0)","v":0},{"$f":"IF(OR(G24=UvaluesWRF!A$2,ISERROR(VLOOKUP(G24,UvaluesWRF!A$3:B$110,2,FALSE))),\"\",VLOOKUP(G24,UvaluesWRF!A$3:B$110,2,FALSE))","v":""},{"$error":"#N/A"},{"$f":"IF(G24=UvaluesWRF!A$2,IF(ISERROR(F24*J24*H24),\"\",F24*J24*H24),IF(ISERROR(F24*J24*I24),\"\",F24*J24*I24))","v":""}]
[null,{"$f":"HLOOKUP($B$1,'Room Inputs'!$D$3:$X$137,B70,0)","v":0},{"$f":"HLOOKUP($B$1,'Room Inputs'!$D$3:$X$137,C70,0)","v":0},{"$f":"HLOOKUP($B$1,'Room Inputs'!$D$3:$X$137,D70,0)","v":0},{"$f":"HLOOKUP($B$1,'Room Inputs'!$D$3:$X$137,E70,0)","v":0},0,{"$f":"HLOOKUP($B$1,'Room Inputs'!$D$3:$X$137,G70,0)","v":0},{"$f":"HLOOKUP($B$1,'Room Inputs'!$D$3:$X$137,H70,0)","v":0},{"$f":"IF(OR(G25=UvaluesWRF!A$2,ISERROR(VLOOKUP(G25,UvaluesWRF!A$3:B$110,2,FALSE))),\"\",VLOOKUP(G25,UvaluesWRF!A$3:B$110,2,FALSE))","v":""},{"$error":"#N/A"},{"$f":"IF(G25=UvaluesWRF!A$2,IF(ISERROR(F25*J25*H25),\"\",F25*J25*H25),IF(ISERROR(F25*J25*I25),\"\",F25*J25*I25))","v":""}]
[null,"Ground floors \nShort length (m)","long length\n(m)","Edges exposed",null,null,"Type and Insulation  thickness",null,null,null,null,null,"U-value","Edge","Insulation","Column",null,1,2,3,4,5.3,5.4,5.5,5.6,6.3,6.4,6.5,6.6]
[null,{"$f":"HLOOKUP($B$1,'Room Inputs'!$D$3:$X$137,B72,0)","v":0},{"$f":"HLOOKUP($B$1,'Room Inputs'!$D$3:$X$137,C72,0)","v":0},{"$f":"HLOOKUP($B$1,'Room Inputs'!$D$3:$X$137,D72,0)","v":0},{"$f":"HLOOKUP($B$1,'Room Inputs'!$D$3:$X$137,E72,0)","v":0},{"$f":"B27*C27","v":0},{"$f":"HLOOKUP($B$1,'Room Inputs'!$D$3:$X$137,G72,0)","v":0},{"$f":"HLOOKUP($B$1,'Room Inputs'!$D$3:$X$137,H72,0)","v":0},{"$f":"IF(OR(G27=UvaluesFlr!$U$3,G27=UvaluesFlr!$U$4,ISERROR(M27)),\"\",M27)","v":""},{"$f":"$K$8-IF(LEFT(G27,2)=\"So\",10,'Site Inputs'!$C$8)","v":{"$error":"#N/A"}},{"$f":"IF(OR(G27=UvaluesFlr!$U$3,G27=UvaluesFlr!$U$4),IF(ISERROR(F27*J27*H27),\"\",F27*J27*H27),IF(ISERROR(F27*J27*I27),\"\",F27*J27*I27))","v":""},null,{"$f":"HLOOKUP(N27+MIN(0.6,IF(N27>4,O27/10,0)),$R$26:$AC$29,2,TRUE)","v":{"$error":"#N/A"}},{"$f":"VLOOKUP(D27,UvaluesFlr!$U$17:$V$22,2,FALSE)","v":{"$error":"#N/A"}},{"$f":"VLOOKUP(G27,UvaluesFlr!$U$3:$W$14,2,FALSE)","v":{"$error":"#N/A"}},{"$f":"VLOOKUP(G27,UvaluesFlr!$U$3:$W$14,3,FALSE)","v":{"$error":"#N/A"}},null,{"$f":"VLOOKUP(C27,UvaluesFlr!$C$53:$P$59,$P27,TRUE)","v":{"$error":"#N/A"}},{"$f":"VLOOKUP(B27,UvaluesFlr!$C$53:$P$59,$P27,TRUE)","v":{"$error":"#N/A"}},{"$f":"VLOOKUP(B27+C27,UvaluesFlr!$C$4:$P$12,$P27,TRUE)","v":{"$error":"#N/A"}},{"$f":"VLOOKUP(B27,UvaluesFlr!$C$16:$P$21,$P27,TRUE)","v":{"$error":"#N/A"}},{"$f":"VLOOKUP($C27,UvaluesFlr!$D$26:$P$29,$P27-1,TRUE)","v":{"$error":"#N/A"}},{"$f":"VLOOKUP($C27,UvaluesFlr!$D$30:$P$31,$P27-1,TRUE)","v":{"$error":"#N/A"}},{"$f":"VLOOKUP($C27,UvaluesFlr!$D$32:$P$33,$P27-1,TRUE)","v":{"$error":"#N/A"}},{"$f":"VLOOKUP($C27,UvaluesFlr!$D$34:$P$35,$P27-1,TRUE)","v":{"$error":"#N/A"}},{"$f":"VLOOKUP($C27,UvaluesFlr!$D$39:$P$42,$P27-1,TRUE)","v":{"$error":"#N/A"}},{"$f":"VLOOKUP($C27,UvaluesFlr!$D$43:$P$45,$P27-1,TRUE)","v":{"$error":"#N/A"}},{"$f":"VLOOKUP($C27,UvaluesFlr!$D$46:$P$48,$P27-1,TRUE)","v":{"$error":"#N/A"}},{"$f":"VLOOKUP($C27,UvaluesFlr!$D$49:$P$50,$P27-1,TRUE)","v":{"$error":"#N/A"}}]
[null,{"$f":"HLOOKUP($B$1,'Room Inputs'!$D$3:$X$137,B73,0)","v":0},{"$f":"HLOOKUP($B$1,'Room Inputs'!$D$3:$X$137,C73,0)","v":0},{"$f":"HLOOKUP($B$1,'Room Inputs'!$D$3:$X$137,D73,0)","v":0},{"$f":"HLOOKUP($B$1,'Room Inputs'!$D$3:$X$137,E73,0)","v":{"$error":"#VALUE!"}},{"$f":"B28*C28","v":0},{"$f":"HLOOKUP($B$1,'Room Inputs'!$D$3:$X$137,G73,0)","v":0},{"$f":"HLOOKUP($B$1,'Room Inputs'!$D$3:$X$137,H73,0)","v":0},{"$f":"IF(OR(G28=UvaluesFlr!$U$3,G28=UvaluesFlr!$U$4,ISERROR(M28)),\"\",M28)","v":""},{"$f":"$K$8-IF(LEFT(G28,2)=\"So\",10,'Site Inputs'!$C$8)","v":{"$error":"#N/A"}},{"$f":"IF(OR(G28=UvaluesFlr!$U$3,G28=UvaluesFlr!$U$4),IF(ISERROR(F28*J28*H28),\"\",F28*J28*H28),IF(ISERROR(F28*J28*I28),\"\",F28*J28*I28))","v":""},null,{"$f":"HLOOKUP(N28+MIN(0.6,IF(N28>4,O28/10,0)),$R$26:$AC$29,3,TRUE)","v":{"$error":"#N/A"}},{"$f":"VLOOKUP(D28,UvaluesFlr!$U$17:$V$22,2,FALSE)","v":{"$error":"#N/A"}},{"$f":"VLOOKUP(G28,UvaluesFlr!$U$3:$W$14,2,FALSE)","v":{"$error":"#N/A"}},{"$f":"VLOOKUP(G28,UvaluesFlr!$U$3:$W$14,3,FALSE)","v":{"$error":"#N/A"}},null,{"$f":"VLOOKUP(C28,UvaluesFlr!$C$53:$P$59,$P28,TRUE)","v":{"$error":"#N/A"}},{"$f":"VLOOKUP(B28,UvaluesFlr!$C$53:$P$59,$P28,TRUE)","v":{"$error":"#N/A"}},{"$f":"VLOOKUP(B28+C28,UvaluesFlr!$C$4:$P$12,$P28,TRUE)","v":{"$error":"#N/A"}},{"$f":"VLOOKUP(B28,UvaluesFlr!$C$16:$P$21,$P28,TRUE)","v":{"$error":"#N/A"}},{"$f":"VLOOKUP($C28,UvaluesFlr!$D$26:$P$29,$P28-1,TRUE)","v":{"$error":"#N/A"}},{"$f":"VLOOKUP($C28,UvaluesFlr!$D$30:$P$31,$P28-1,TRUE)","v":{"$error":"#N/A"}},{"$f":"VLOOKUP($C28,UvaluesFlr!$D$32:$P$33,$P28-1,TRUE)","v":{"$error":"#N/A"}},{"$f":"VLOOKUP($C28,UvaluesFlr!$D$34:$P$35,$P28-1,TRUE)","v":{"$error":"#N/A"}},{"$f":"VLOOKUP($C28,UvaluesFlr!$D$39:$P$42,$P28-1,TRUE)","v":{"$error":"#N/A"}},{"$f":"VLOOKUP($C28,UvaluesFlr!$D$43:$P$45,$P28-1,TRUE)","v":{"$error":"#N/A"}},{"$f":"VLOOKUP($C28,UvaluesFlr!$D$46:$P$48,$P28-1,TRUE)","v":{"$error":"#N/A"}},{"$f":"VLOOKUP($C28,UvaluesFlr!$D$49:$P$50,$P28-1,TRUE)","v":{"$error":"#N/A"}}]
[null,{"$f":"HLOOKUP($B$1,'Room Inputs'!$D$3:$X$137,B74,0)","v":0},{"$f":"HLOOKUP($B$1,'Room Inputs'!$D$3:$X$137,C74,0)","v":0},{"$f":"HLOOKUP($B$1,'Room Inputs'!$D$3:$X$137,D74,0)","v":0},{"$f":"HLOOKUP($B$1,'Room Inputs'!$D$3:$X$137,E74,0)","v":{"$error":"#VALUE!"}},{"$f":"B29*C29","v":0},{"$f":"HLOOKUP($B$1,'Room Inputs'!$D$3:$X$137,G74,0)","v":0},{"$f":"HLOOKUP($B$1,'Room Inputs'!$D$3:$X$137,H74,0)","v":0},{"$f":"IF(OR(G29=UvaluesFlr!$U$3,G29=UvaluesFlr!$U$4,ISERROR(M29)),\"\",M29)","v":""},{"$f":"$K$8-IF(LEFT(G29,2)=\"So\",10,'Site Inputs'!$C$8)","v":{"$error":"#N/A"}},{"$f":"IF(OR(G29=UvaluesFlr!$U$3,G29=UvaluesFlr!$U$4),IF(ISERROR(F29*J29*H29),\"\",F29*J29*H29),IF(ISERROR(F29*J29*I29),\"\",F29*J29*I29))","v":""},null,{"$f":"HLOOKUP(N29+MIN(0.6,IF(N29>4,O29/10,0)),$R$26:$AC$29,4,TRUE)","v":{"$error":"#N/A"}},{"$f":"VLOOKUP(D29,UvaluesFlr!$U$17:$V$22,2,FALSE)","v":{"$error":"#N/A"}},{"$f":"VLOOKUP(G29,UvaluesFlr!$U$3:$W$14,2,FALSE)","v":{"$error":"#N/A"}},{"$f":"VLOOKUP(G29,UvaluesFlr!$U$3:$W$14,3,FALSE)","v":{"$error":"#N/A"}},null,{"$f":"VLOOKUP(C29,UvaluesFlr!$C$53:$P$59,$P29,TRUE)","v":{"$error":"#N/A"}},{"$f":"VLOOKUP(B29,UvaluesFlr!$C$53:$P$59,$P29,TRUE)","v":{"$error":"#N/A"}},{"$f":"VLOOKUP(B29+C29,UvaluesFlr!$C$4:$P$12,$P29,TRUE)","v":{"$error":"#N/A"}},{"$f":"VLOOKUP(B29,UvaluesFlr!$C$16:$P$21,$P29,TRUE)","v":{"$error":"#N/A"}},{"$f":"VLOOKUP($C29,UvaluesFlr!$D$26:$P$29,$P29-1,TRUE)","v":{"$error":"#N/A"}},{"$f":"VLOOKUP($C29,UvaluesFlr!$D$30:$P$31,$P29-1,TRUE)","v":{"$error":"#N/A"}},{"$f":"VLOOKUP($C29,UvaluesFlr!$D$32:$P$33,$P29-1,TRUE)","v":{"$error":"#N/A"}},{"$f":"VLOOKUP($C29,UvaluesFlr!$D$34:$P$35,$P29-1,TRUE)","v":{"$error":"#N/A"}},{"$f":"VLOOKUP($C29,UvaluesFlr!$D$39:$P$42,$P29-1,TRUE)","v":{"$error":"#N/A"}},{"$f":"VLOOKUP($C29,UvaluesFlr!$D$43:$P$45,$P29-1,TRUE)","v":{"$error":"#N/A"}},{"$f":"VLOOKUP($C29,UvaluesFlr!$D$46:$P$48,$P29-1,TRUE)","v":{"$error":"#N/A"}},{"$f":"VLOOKUP($C29,UvaluesFlr!$D$49:$P$50,$P29-1,TRUE)","v":{"$error":"#N/A"}}]
[]
[]
[null,"Windows and doors"]
[null,"Wall or roof with window or door","Window or door height (m)","Window or door width (m)","Area (m²)","Wall/roof U-value (W/m²K)","Frame and glazing type ","Entered U-\u001evalue (W/m²K), if required","U-value","Design temperature difference","Heat loss (W)*"]
[null,{"$f":"HLOOKUP($B$1,'Room Inputs'!$D$3:$X$137,B79,0)","v":0},{"$f":"HLOOKUP($B$1,'Room Inputs'!$D$3:$X$137,C79,0)","v":0},{"$f":"HLOOKUP($B$1,'Room Inputs'!$D$3:$X$137,D79,0)","v":0},{"$f":"C34*D34","v":0},{"$f":"IF(B34<>\"\",IF(VLOOKUP(B34,B$14:I$25,6,FALSE)=UvalueWD!$C$6,VLOOKUP(B34,B$14:I$25,7,FALSE),VLOOKUP(B34,B$14:I$25,8,FALSE)),\"\")","v":""},{"$f":"HLOOKUP($B$1,'Room Inputs'!$D$3:$X$137,G79,0)","v":0},{"$f":"HLOOKUP($B$1,'Room Inputs'!$D$3:$X$137,H79,0)","v":0},{"$f":"IF(OR(G34=UvalueWD!C$6,G34=\"\"),\"\",VLOOKUP(G34,Windows,2,FALSE))","v":{"$error":"#N/A"}},{"$f":"IF(ISERROR(VLOOKUP(B34,B$13:K$29,9,FALSE)),\"\",VLOOKUP(B34,B$13:K$29,9,FALSE))","v":""},{"$f":"IF(G34=UvaluesWRF!A$2,IF(ISERROR(F34*J34*(H34-F34)),\"\",F34*J34*(H34-F34)),IF(ISERROR(F34*J34*(F34-I34)),\"\",(I34-F34)*J34*I34))","v":""}]
[null,{"$f":"HLOOKUP($B$1,'Room Inputs'!$D$3:$X$137,B80,0)","v":0},{"$f":"HLOOKUP($B$1,'Room Inputs'!$D$3:$X$137,C80,0)","v":0},{"$f":"HLOOKUP($B$1,'Room Inputs'!$D$3:$X$137,D80,0)","v":0},0,{"$f":"IF(B35<>\"\",IF(VLOOKUP(B35,B$14:I$25,6,FALSE)=UvalueWD!$C$6,VLOOKUP(B35,B$14:I$25,7,FALSE),VLOOKUP(B35,B$14:I$25,8,FALSE)),\"\")","v":""},{"$f":"HLOOKUP($B$1,'Room Inputs'!$D$3:$X$137,G80,0)","v":0},{"$f":"HLOOKUP($B$1,'Room Inputs'!$D$3:$X$137,H80,0)","v":0},{"$f":"IF(OR(G35=UvalueWD!C$6,G35=\"\"),\"\",VLOOKUP(G35,Windows,2,FALSE))","v":{"$error":"#N/A"}},"",{"$f":"IF(G35=UvaluesWRF!A$2,IF(ISERROR(F35*J35*(H35-F35)),\"\",F35*J35*(H35-F35)),IF(ISERROR(F35*J35*(F35-I35)),\"\",(I35-F35)*J35*I35))","v":""}]
[null,{"$f":"HLOOKUP($B$1,'Room Inputs'!$D$3:$X$137,B81,0)","v":0},{"$f":"HLOOKUP($B$1,'Room Inputs'!$D$3:$X$137,C81,0)","v":0},{"$f":"HLOOKUP($B$1,'Room Inputs'!$D$3:$X$137,D81,0)","v":0},0,{"$f":"IF(B36<>\"\",IF(VLOOKUP(B36,B$14:I$25,6,FALSE)=UvalueWD!$C$6,VLOOKUP(B36,B$14:I$25,7,FALSE),VLOOKUP(B36,B$14:I$25,8,FALSE)),\"\")","v":""},{"$f":"HLOOKUP($B$1,'Room Inputs'!$D$3:$X$137,G81,0)","v":0},{"$f":"HLOOKUP($B$1,'Room Inputs'!$D$3:$X$137,H81,0)","v":0},{"$f":"IF(OR(G36=UvalueWD!C$6,G36=\"\"),\"\",VLOOKUP(G36,Windows,2,FALSE))","v":{"$error":"#N/A"}},"",{"$f":"IF(G36=UvaluesWRF!A$2,IF(ISERROR(F36*J36*(H36-F36)),\"\",F36*J36*(H36-F36)),IF(ISERROR(F36*J36*(F36-I36)),\"\",(I36-F36)*J36*I36))","v":""}]
[null,{"$f":"HLOOKUP($B$1,'Room Inputs'!$D$3:$X$137,B82,0)","v":0},{"$f":"HLOOKUP($B$1,'Room Inputs'!$D$3:$X$137,C82,0)","v":0},{"$f":"HLOOKUP($B$1,'Room Inputs'!$D$3:$X$137,D82,0)","v":0},0,{"$f":"IF(B37<>\"\",IF(VLOOKUP(B37,B$14:I$25,6,FALSE)=UvalueWD!$C$6,VLOOKUP(B37,B$14:I$25,7,FALSE),VLOOKUP(B37,B$14:I$25,8,FALSE)),\"\")","v":""},{"$f":"HLOOKUP($B$1,'Room Inputs'!$D$3:$X$137,G82,0)","v":0},{"$f":"HLOOKUP($B$1,'Room Inputs'!$D$3:$X$137,H82,0)","v":0},{"$f":"IF(OR(G37=UvalueWD!C$6,G37=\"\"),\"\",VLOOKUP(G37,Windows,2,FALSE))","v":{"$error":"#N/A"}},"",{"$f":"IF(G37=UvaluesWRF!A$2,IF(ISERROR(F37*J37*(H37-F37)),\"\",F37*J37*(H37-F37)),IF(ISERROR(F37*J37*(F37-I37)),\"\",(I37-F37)*J37*I37))","v":""}]
[null,{"$f":"HLOOKUP($B$1,'Room Inputs'!$D$3:$X$137,B83,0)","v":0},{"$f":"HLOOKUP($B$1,'Room Inputs'!$D$3:$X$137,C83,0)","v":0},{"$f":"HLOOKUP($B$1,'Room Inputs'!$D$3:$X$137,D83,0)","v":0},0,{"$f":"IF(B38<>\"\",IF(VLOOKUP(B38,B$14:I$25,6,FALSE)=UvalueWD!$C$6,VLOOKUP(B38,B$14:I$25,7,FALSE),VLOOKUP(B38,B$14:I$25,8,FALSE)),\"\")","v":""},{"$f":"HLOOKUP($B$1,'Room Inputs'!$D$3:$X$137,G83,0)","v":0},{"$f":"HLOOKUP($B$1,'Room Inputs'!$D$3:$X$137,H83,0)","v":0},{"$f":"IF(OR(G38=UvalueWD!C$6,G38=\"\"),\"\",VLOOKUP(G38,Windows,2,FALSE))","v":{"$error":"#N/A"}},"",{"$f":"IF(G38=UvaluesWRF!A$2,IF(ISERROR(F38*J38*(H38-F38)),\"\",F38*J38*(H38-F38)),IF(ISERROR(F38*J38*(F38-I38)),\"\",(I38-F38)*J38*I38))","v":""}]
[null,{"$f":"HLOOKUP($B$1,'Room Inputs'!$D$3:$X$137,B84,0)","v":0},{"$f":"HLOOKUP($B$1,'Room Inputs'!$D$3:$X$137,C84,0)","v":0},{"$f":"HLOOKUP($B$1,'Room Inputs'!$D$3:$X$137,D84,0)","v":0},0,{"$f":"IF(B39<>\"\",IF(VLOOKUP(B39,B$14:I$25,6,FALSE)=UvalueWD!$C$6,VLOOKUP(B39,B$14:I$25,7,FALSE),VLOOKUP(B39,B$14:I$25,8,FALSE)),\"\")","v":""},{"$f":"HLOOKUP($B$1,'Room Inputs'!$D$3:$X$137,G84,0)","v":0},{"$f":"HLOOKUP($B$1,'Room Inputs'!$D$3:$X$137,H84,0)","v":0},{"$f":"IF(OR(G39=UvalueWD!C$6,G39=\"\"),\"\",VLOOKUP(G39,Windows,2,FALSE))","v":{"$error":"#N/A"}},"",{"$f":"IF(G39=UvaluesWRF!A$2,IF(ISERROR(F39*J39*(H39-F39)),\"\",F39*J39*(H39-F39)),IF(ISERROR(F39*J39*(F39-I39)),\"\",(I39-F39)*J39*I39))","v":""}]
[]
[null,"* this is net heat loss (i.e. the heat loss of the window minus that of a wall of the same area) and so can be negative.  This is done so that the area of the window or door does not have to be subtracted from the wall area.  "]
[null,null,null,null,null,null,null,null,"Room heat loss (W)",null,{"$f":"SUM(K10:K39)","v":0}]
[]
[]
[]
[null,"Row number lookup map"]
[]
[null,"Room name",2,null,"Emitter type",3,"For convectors consult the manufacturer's data and enter the temperature factor (FTEMP) for the appropriate fan speed",4,"For radiators enter the n-coefficient (exponent) from manufacturer's data.  If unknown 1.3 may be used",null,5]
[]
[null,"Enter floor type and construction",6,null,"Enter floor type and construction",7,"For UFH enter Tog value (See Table 14)",8,"For UFH enter  active or exposed area of the heated floor ",null,9]
[]
[null,"Enter Room type below",null,null," Enter Open fire/chimney details below "]
[null,10,null,null,11]
[null,"Room Dimensions"]
[null,"Length (m)",null,"Width (m)",null,"Height (m)"]
[null,13,null,14,null,15]
[null,"Walls, floors not ground floors and ceiling"]
[null,"Name of wall, floor, ceiling","Space on other side","Height or length (m)","Width (m)",null,"Construction","Entered U-\u001evalue (W/m²K), if required"]
[null,16,17,18,19,null,20,21]
[null,22,23,24,25,null,26,27]
[null,28,29,30,31,null,32,33]
[null,35,36,37,38,null,39,40]
[null,41,42,43,44,null,45,46]
[null,47,48,49,50,null,51,52]
[null,53,54,55,56,null,57,58]
[null,59,60,61,62,null,63,64]
[null,65,66,67,68,null,69,70]
[null,71,72,73,74,null,75,76]
[null,77,78,79,80,null,81,82]
[null,83,84,85,86,null,87,88]
[null,"Ground floors \nShort length (m)","long length\n(m)","Edges exposed",null,null,"Type and Insulation  thickness"]
[null,89,90,91,92,null,92,93]
[null,95,96,97,null,null,98,99]
[null,100,101,102,null,null,103,104]
[]
[]
[null,"Windows and doors"]
[null,"Wall or roof with window or door","Window or door height (m)","Window or door width (m)","Area (m²)","Wall/roof U-value (W/m²K)","Frame and glazing type ","Entered U-\u001evalue (W/m²K), if required"]
[null,105,106,107,null,null,108,109]
[null,111,112,113,null,null,114,115]
[null,116,117,118,null,null,119,120]
[null,121,122,123,null,null,124,125]
[null,126,127,128,null,null,129,130]
[null,131,132,133,null,null,134,135]

{"sheet":"12","index":17,"n_rows":84,"n_cols":29,"rows_kept":84,"cut":false,"hidden":true,"merged":[[40,1,40,7],[41,8,41,9],[7,7,7,8],[4,8,4,9],[6,1,6,2],[6,4,6,5],[6,7,6,8],[47,8,47,9],[49,2,49,3],[49,8,49,9],[51,1,51,2],[51,4,51,5],[51,7,51,8],[52,1,52,2],[52,4,52,5],[52,7,52,8],[72,3,72,4],[73,3,73,4],[71,3,71,4]]}
[null,{"$f":"'Room Inputs'!P3","v":"Room12"}]
[]
[null,"Room name",{"$f":"HLOOKUP($B$1,'Room Inputs'!$D$3:$X$137,C48,0)","v":0},null,"Emitter type",{"$f":"HLOOKUP($B$1,'Room Inputs'!$D$3:$X$137,F48,0)","v":0},"For convectors consult the manufacturer's data and enter the temperature factor (FTEMP) for the appropriate fan speed",{"$f":"HLOOKUP($B$1,'Room Inputs'!$D$3:$X$137,H48,0)","v":0.85},"For radiators enter the n-coefficient (exponent) from manufacturer's data.  If unknown 1.3 may be used",null,{"$f":"HLOOKUP($B$1,'Room Inputs'!$D$3:$X$137,K48,0)","v":1.3}]
[]
[null,"Enter floor type and construction",{"$f":"HLOOKUP($B$1,'Room Inputs'!$D$3:$X$137,C50,0)","v":0},null,"Enter floor type and construction",{"$f":"HLOOKUP($B$1,'Room Inputs'!$D$3:$X$137,F50,0)","v":0},"For UFH enter Tog value (See Table 14)",{"$f":"HLOOKUP($B$1,'Room Inputs'!$D$3:$X$137,H50,0)","v":0.25},"For UFH enter  active or exposed area of the heated floor ",null,{"$f":"HLOOKUP($B$1,'Room Inputs'!$D$3:$X$137,K50,0)","v":0}]
[]
[null,"Enter Room type below",null,null," Enter Open fire/chimney details below ",null,null,"Design room ventilation rate (air changes per hour)",null,null,"Design room temperature °C"]
[null,{"$f":"HLOOKUP($B$1,'Room Inputs'!$D$3:$X$137,B53,0)","v":0},null,null,{"$f":"HLOOKUP($B$1,'Room Inputs'!$D$3:$X$137,E53,0)","v":0},null,null,{"$f":"IF(E8=VTables!B20,VLOOKUP(B8,DRVT,3,FALSE),MAX(VLOOKUP(B8,DRVT,3,FALSE),VLOOKUP(E8,ARVR,2,FALSE)))","v":{"$error":"#N/A"}},null,null,{"$f":"VLOOKUP(B8,DRVT,2,FALSE)","v":{"$error":"#N/A"}}]
[null,"Room Dimensions"]
[null,"Length (m)",null,"Width (m)",null,"Height (m)","Room volume (m³) ",null,null,"Design temperature difference","Heat loss (W)"]
[null,{"$f":"HLOOKUP($B$1,'Room Inputs'!$D$3:$X$137,B56,0)","v":0},null,{"$f":"HLOOKUP($B$1,'Room Inputs'!$D$3:$X$137,D56,0)","v":0},null,{"$f":"HLOOKUP($B$1,'Room Inputs'!$D$3:$X$137,F56,0)","v":0},{"$f":"B11*D11*F11","v":0},null,null,{"$f":"K8-'Site Inputs'!C8","v":{"$error":"#N/A"}},{"$f":"IF(G11>0,(ROUND(0.33*G11*H8*J11,2)),\"\")","v":""}]
[null,"Walls, floors not ground floors and ceiling"]
[null,"Name of wall, floor, ceiling","Space on other side","Height or length (m)","Width (m)","Area (m²)","Construction","Entered U-\u001evalue (W/m²K), if required","U-value (W/m²K)","Design temperature difference","Heat loss (W)",null,"`"]
[null,{"$f":"HLOOKUP($B$1,'Room Inputs'!$D$3:$X$137,B59,0)","v":0},{"$f":"HLOOKUP($B$1,'Room Inputs'!$D$3:$X$137,C59,0)","v":0},{"$f":"HLOOKUP($B$1,'Room Inputs'!$D$3:$X$137,D59,0)","v":0},{"$f":"HLOOKUP($B$1,'Room Inputs'!$D$3:$X$137,E59,0)","v":0},{"$f":"D14*E14","v":0},{"$f":"HLOOKUP($B$1,'Room Inputs'!$D$3:$X$137,G59,0)","v":0},{"$f":"HLOOKUP($B$1,'Room Inputs'!$D$3:$X$137,H59,0)","v":0},{"$f":"IF(OR(G14=UvaluesWRF!A$2,ISERROR(VLOOKUP(G14,UvaluesWRF!A$3:B$110,2,FALSE))),\"\",VLOOKUP(G14,UvaluesWRF!A$3:B$110,2,FALSE))","v":""},{"$f":"IF(C14=\"\",\"\",$K$8-VLOOKUP(C14,DRVT,2,FALSE))","v":{"$error":"#N/A"}},{"$f":"IF(G14=UvaluesWRF!A$2,IF(ISERROR(F14*J14*H14),\"\",F14*J14*H14),IF(ISERROR(F14*J14*I14),\"\",F14*J14*I14))","v":""}]
[null,{"$f":"HLOOKUP($B$1,'Room Inputs'!$D$3:$X$137,B60,0)","v":0},{"$f":"HLOOKUP($B$1,'Room Inputs'!$D$3:$X$137,C60,0)","v":0},{"$f":"HLOOKUP($B$1,'Room Inputs'!$D$3:$X$137,D60,0)","v":0},{"$f":"HLOOKUP($B$1,'Room Inputs'!$D$3:$X$137,E60,0)","v":0},{"$f":"D15*E15","v":0},{"$f":"HLOOKUP($B$1,'Room Inputs'!$D$3:$X$137,G60,0)","v":0},{"$f":"HLOOKUP($B$1,'Room Inputs'!$D$3:$X$137,H60,0)","v":0},{"$f":"IF(OR(G15=UvaluesWRF!A$2,ISERROR(VLOOKUP(G15,UvaluesWRF!A$3:B$110,2,FALSE))),\"\",VLOOKUP(G15,UvaluesWRF!A$3:B$110,2,FALSE))","v":""},{"$error":"#N/A"},{"$f":"IF(G15=UvaluesWRF!A$2,IF(ISERROR(F15*J15*H15),\"\",F15*J15*H15),IF(ISERROR(F15*J15*I15),\"\",F15*J15*I15))","v":""}]
[null,{"$f":"HLOOKUP($B$1,'Room Inputs'!$D$3:$X$137,B61,0)","v":0},{"$f":"HLOOKUP($B$1,'Room Inputs'!$D$3:$X$137,C61,0)","v":0},{"$f":"HLOOKUP($B$1,'Room Inputs'!$D$3:$X$137,D61,0)","v":0},{"$f":"HLOOKUP($B$1,'Room Inputs'!$D$3:$X$137,E61,0)","v":0},0,{"$f":"HLOOKUP($B$1,'Room Inputs'!$D$3:$X$137,G61,0)","v":0},{"$f":"HLOOKUP($B$1,'Room Inputs'!$D$3:$X$137,H61,0)","v":0},{"$f":"IF(OR(G16=UvaluesWRF!A$2,ISERROR(VLOOKUP(G16,UvaluesWRF!A$3:B$110,2,FALSE))),\"\",VLOOKUP(G16,UvaluesWRF!A$3:B$110,2,FALSE))","v":""},{"$error":"#N/A"},{"$f":"IF(G16=UvaluesWRF!A$2,IF(ISERROR(F16*J16*H16),\"\",F16*J16*H16),IF(ISERROR(F16*J16*I16),\"\",F16*J16*I16))","v":""}]
[null,{"$f":"HLOOKUP($B$1,'Room Inputs'!$D$3:$X$137,B62,0)","v":0},{"$f":"HLOOKUP($B$1,'Room Inputs'!$D$3:$X$137,C62,0)","v":0},{"$f":"HLOOKUP($B$1,'Room Inputs'!$D$3:$X$137,D62,0)","v":0},{"$f":"HLOOKUP($B$1,'Room Inputs'!$D$3:$X$137,E62,0)","v":0},0,{"$f":"HLOOKUP($B$1,'Room Inputs'!$D$3:$X$137,G62,0)","v":0},{"$f":"HLOOKUP($B$1,'Room Inputs'!$D$3:$X$137,H62,0)","v":0},{"$f":"IF(OR(G17=UvaluesWRF!A$2,ISERROR(VLOOKUP(G17,UvaluesWRF!A$3:B$110,2,FALSE))),\"\",VLOOKUP(G17,UvaluesWRF!A$3:B$110,2,FALSE))","v":""},{"$error":"#N/A"},{"$f":"IF(G17=UvaluesWRF!A$2,IF(ISERROR(F17*J17*H17),\"\",F17*J17*H17),IF(ISERROR(F17*J17*I17),\"\",F17*J17*I17))","v":""}]
[null,{"$f":"HLOOKUP($B$1,'Room Inputs'!$D$3:$X$137,B63,0)","v":0},{"$f":"HLOOKUP($B$1,'Room Inputs'!$D$3:$X$137,C63,0)","v":0},{"$f":"HLOOKUP($B$1,'Room Inputs'!$D$3:$X$137,D63,0)","v":0},{"$f":"HLOOKUP($B$1,'Room Inputs'!$D$3:$X$137,E63,0)","v":0},0,{"$f":"HLOOKUP($B$1,'Room Inputs'!$D$3:$X$137,G63,0)","v":0},{"$f":"HLOOKUP($B$1,'Room Inputs'!$D$3:$X$137,H63,0)","v":0},{"$f":"IF(OR(G18=UvaluesWRF!A$2,ISERROR(VLOOKUP(G18,UvaluesWRF!A$3:B$110,2,FALSE))),\"\",VLOOKUP(G18,UvaluesWRF!A$3:B$110,2,FALSE))","v":""},{"$error":"#N/A"},{"$f":"IF(G18=UvaluesWRF!A$2,IF(ISERROR(F18*J18*H18),\"\",F18*J18*H18),IF(ISERROR(F18*J18*I18),\"\",F18*J18*I18))","v":""}]
[null,{"$f":"HLOOKUP($B$1,'Room Inputs'!$D$3:$X$137,B64,0)","v":0},{"$f":"HLOOKUP($B$1,'Room Inputs'!$D$3:$X$137,C64,0)","v":0},{"$f":"HLOOKUP($B$1,'Room Inputs'!$D$3:$X$137,D64,0)","v":0},{"$f":"HLOOKUP($B$1,'Room Inputs'!$D$3:$X$137,E64,0)","v":0},0,{"$f":"HLOOKUP($B$1,'Room Inputs'!$D$3:$X$137,G64,0)","v":0},{"$f":"HLOOKUP($B$1,'Room Inputs'!$D$3:$X$137,H64,0)","v":0},{"$f":"IF(OR(G19=UvaluesWRF!A$2,ISERROR(VLOOKUP(G19,UvaluesWRF!A$3:B$110,2,FALSE))),\"\",VLOOKUP(G19,UvaluesWRF!A$3:B$110,2,FALSE))","v":""},{"$error":"#N/A"},{"$f":"IF(G19=UvaluesWRF!A$2,IF(ISERROR(F19*J19*H19),\"\",F19*J19*H19),IF(ISERROR(F19*J19*I19),\"\",F19*J19*I19))","v":""}]
[null,{"$f":"HLOOKUP($B$1,'Room Inputs'!$D$3:$X$137,B65,0)","v":0},{"$f":"HLOOKUP($B$1,'Room Inputs'!$D$3:$X$137,C65,0)","v":0},{"$f":"HLOOKUP($B$1,'Room Inputs'!$D$3:$X$137,D65,0)","v":0},{"$f":"HLOOKUP($B$1,'Room Inputs'!$D$3:$X$137,E65,0)","v":0},0,{"$f":"HLOOKUP($B$1,'Room Inputs'!$D$3:$X$137,G65,0)","v":0},{"$f":"HLOOKUP($B$1,'Room Inputs'!$D$3:$X$137,H65,0)","v":0},{"$f":"IF(OR(G20=UvaluesWRF!A$2,ISERROR(VLOOKUP(G20,UvaluesWRF!A$3:B$110,2,FALSE))),\"\",VLOOKUP(G20,UvaluesWRF!A$3:B$110,2,FALSE))","v":""},{"$error":"#N/A"},{"$f":"IF(G20=UvaluesWRF!A$2,IF(ISERROR(F20*J20*H20),\"\",F20*J20*H20),IF(ISERROR(F20*J20*I20),\"\",F20*J20*I20))","v":""}]
[null,{"$f":"HLOOKUP($B$1,'Room Inputs'!$D$3:$X$137,B66,0)","v":0},{"$f":"HLOOKUP($B$1,'Room Inputs'!$D$3:$X$137,C66,0)","v":0},{"$f":"HLOOKUP($B$1,'Room Inputs'!$D$3:$X$137,D66,0)","v":0},{"$f":"HLOOKUP($B$1,'Room Inputs'!$D$3:$X$137,E66,0)","v":0},0,{"$f":"HLOOKUP($B$1,'Room Inputs'!$D$3:$X$137,G66,0)","v":0},{"$f":"HLOOKUP($B$1,'Room Inputs'!$D$3:$X$137,H66,0)","v":0},{"$f":"IF(OR(G21=UvaluesWRF!A$2,ISERROR(VLOOKUP(G21,UvaluesWRF!A$3:B$110,2,FALSE))),\"\",VLOOKUP(G21,UvaluesWRF!A$3:B$110,2,FALSE))","v":""},{"$error":"#N/A"},{"$f":"IF(G21=UvaluesWRF!A$2,IF(ISERROR(F21*J21*H21),\"\",F21*J21*H21),IF(ISERROR(F21*J21*I21),\"\",F21*J21*I21))","v":""}]
[null,{"$f":"HLOOKUP($B$1,'Room Inputs'!$D$3:$X$137,B67,0)","v":0},{"$f":"HLOOKUP($B$1,'Room Inputs'!$D$3:$X$137,C67,0)","v":0},{"$f":"HLOOKUP($B$1,'Room Inputs'!$D$3:$X$137,D67,0)","v":0},{"$f":"HLOOKUP($B$1,'Room Inputs'!$D$3:$X$137,E67,0)","v":0},0,{"$f":"HLOOKUP($B$1,'Room Inputs'!$D$3:$X$137,G67,0)","v":0},{"$f":"HLOOKUP($B$1,'Room Inputs'!$D$3:$X$137,H67,0)","v":0},{"$f":"IF(OR(G22=UvaluesWRF!A$2,ISERROR(VLOOKUP(G22,UvaluesWRF!A$3:B$110,2,FALSE))),\"\",VLOOKUP(G22,UvaluesWRF!A$3:B$110,2,FALSE))","v":""},{"$error":"#N/A"},{"$f":"IF(G22=UvaluesWRF!A$2,IF(ISERROR(F22*J22*H22),\"\",F22*J22*H22),IF(ISERROR(F22*J22*I22),\"\",F22*J22*I22))","v":""}]
[null,{"$f":"HLOOKUP($B$1,'Room Inputs'!$D$3:$X$137,B68,0)","v":0},{"$f":"HLOOKUP($B$1,'Room Inputs'!$D$3:$X$137,C68,0)","v":0},{"$f":"HLOOKUP($B$1,'Room Inputs'!$D$3:$X$137,D68,0)","v":0},{"$f":"HLOOKUP($B$1,'Room Inputs'!$D$3:$X$137,E68,0)","v":0},0,{"$f":"HLOOKUP($B$1,'Room Inputs'!$D$3:$X$137,G68,0)","v":0},{"$f":"HLOOKUP($B$1,'Room Inputs'!$D$3:$X$137,H68,0)","v":0},{"$f":"IF(OR(G23=UvaluesWRF!A$2,ISERROR(VLOOKUP(G23,UvaluesWRF!A$3:B$110,2,FALSE))),\"\",VLOOKUP(G23,UvaluesWRF!A$3:B$110,2,FALSE))","v":""},{"$error":"#N/A"},{"$f":"IF(G23=UvaluesWRF!A$2,IF(ISERROR(F23*J23*H23),\"\",F23*J23*H23),IF(ISERROR(F23*J23*I23),\"\",F23*J23*I23))","v":""}]
[null,{"$f":"HLOOKUP($B$1,'Room Inputs'!$D$3:$X$137,B69,0)","v":0},{"$f":"HLOOKUP($B$1,'Room Inputs'!$D$3:$X$137,C69,0)","v":0},{"$f":"HLOOKUP($B$1,'Room Inputs'!$D$3:$X$137,D69,0)","v":0},{"$f":"HLOOKUP($B$1,'Room Inputs'!$D$3:$X$137,E69,0)","v":0},0,{"$f":"HLOOKUP($B$1,'Room Inputs'!$D$3:$X$137,G69,0)","v":0},{"$f":"HLOOKUP($B$1,'Room Inputs'!$D$3:$X$137,H69,0)","v":0},{"$f":"IF(OR(G24=UvaluesWRF!A$2,ISERROR(VLOOKUP(G24,UvaluesWRF!A$3:B$110,2,FALSE))),\"\",VLOOKUP(G24,UvaluesWRF!A$3:B$110,2,FALSE))","v":""},{"$error":"#N/A"},{"$f":"IF(G24=UvaluesWRF!A$2,IF(ISERROR(F24*J24*H24),\"\",F24*J24*H24),IF(ISERROR(F24*J24*I24),\"\",F24*J24*I24))","v":""}]
[null,{"$f":"HLOOKUP($B$1,'Room Inputs'!$D$3:$X$137,B70,0)","v":0},{"$f":"HLOOKUP($B$1,'Room Inputs'!$D$3:$X$137,C70,0)","v":0},{"$f":"HLOOKUP($B$1,'Room Inputs'!$D$3:$X$137,D70,0)","v":0},{"$f":"HLOOKUP($B$1,'Room Inputs'!$D$3:$X$137,E70,0)","v":0},0,{"$f":"HLOOKUP($B$1,'Room Inputs'!$D$3:$X$137,G70,0)","v":0},{"$f":"HLOOKUP($B$1,'Room Inputs'!$D$3:$X$137,H70,0)","v":0},{"$f":"IF(OR(G25=UvaluesWRF!A$2,ISERROR(VLOOKUP(G25,UvaluesWRF!A$3:B$110,2,FALSE))),\"\",VLOOKUP(G25,UvaluesWRF!A$3:B$110,2,FALSE))","v":""},{"$error":"#N/A"},{"$f":"IF(G25=UvaluesWRF!A$2,IF(ISERROR(F25*J25*H25),\"\",F25*J25*H25),IF(ISERROR(F25*J25*I25),\"\",F25*J25*I25))","v":""}]
[null,"Ground floors \nShort length (m)","long length\n(m)","Edges exposed",null,null,"Type and Insulation  thickness",null,null,null,null,null,"U-value","Edge","Insulation","Column",null,1,2,3,4,5.3,5.4,5.5,5.6,6.3,6.4,6.5,6.6]
[null,{"$f":"HLOOKUP($B$1,'Room Inputs'!$D$3:$X$137,B72,0)","v":0},{"$f":"HLOOKUP($B$1,'Room Inputs'!$D$3:$X$137,C72,0)","v":0},{"$f":"HLOOKUP($B$1,'Room Inputs'!$D$3:$X$137,D72,0)","v":0},{"$f":"HLOOKUP($B$1,'Room Inputs'!$D$3:$X$137,E72,0)","v":0},{"$f":"B27*C27","v":0},{"$f":"HLOOKUP($B$1,'Room Inputs'!$D$3:$X$137,G72,0)","v":0},{"$f":"HLOOKUP($B$1,'Room Inputs'!$D$3:$X$137,H72,0)","v":0},{"$f":"IF(OR(G27=UvaluesFlr!$U$3,G27=UvaluesFlr!$U$4,ISERROR(M27)),\"\",M27)","v":""},{"$f":"$K$8-IF(LEFT(G27,2)=\"So\",10,'Site Inputs'!$C$8)","v":{"$error":"#N/A"}},{"$f":"IF(OR(G27=UvaluesFlr!$U$3,G27=UvaluesFlr!$U$4),IF(ISERROR(F27*J27*H27),\"\",F27*J27*H27),IF(ISERROR(F27*J27*I27),\"\",F27*J27*I27))","v":""},null,{"$f":"HLOOKUP(N27+MIN(0.6,IF(N27>4,O27/10,0)),$R$26:$AC$29,2,TRUE)","v":{"$error":"#N/A"}},{"$f":"VLOOKUP(D27,UvaluesFlr!$U$17:$V$22,2,FALSE)","v":{"$error":"#N/A"}},{"$f":"VLOOKUP(G27,UvaluesFlr!$U$3:$W$14,2,FALSE)","v":{"$error":"#N/A"}},{"$f":"VLOOKUP(G27,UvaluesFlr!$U$3:$W$14,3,FALSE)","v":{"$error":"#N/A"}},null,{"$f":"VLOOKUP(C27,UvaluesFlr!$C$53:$P$59,$P27,TRUE)","v":{"$error":"#N/A"}},{"$f":"VLOOKUP(B27,UvaluesFlr!$C$53:$P$59,$P27,TRUE)","v":{"$error":"#N/A"}},{"$f":"VLOOKUP(B27+C27,UvaluesFlr!$C$4:$P$12,$P27,TRUE)","v":{"$error":"#N/A"}},{"$f":"VLOOKUP(B27,UvaluesFlr!$C$16:$P$21,$P27,TRUE)","v":{"$error":"#N/A"}},{"$f":"VLOOKUP($C27,UvaluesFlr!$D$26:$P$29,$P27-1,TRUE)","v":{"$error":"#N/A"}},{"$f":"VLOOKUP($C27,UvaluesFlr!$D$30:$P$31,$P27-1,TRUE)","v":{"$error":"#N/A"}},{"$f":"VLOOKUP($C27,UvaluesFlr!$D$32:$P$33,$P27-1,TRUE)","v":{"$error":"#N/A"}},{"$f":"VLOOKUP($C27,UvaluesFlr!$D$34:$P$35,$P27-1,TRUE)","v":{"$error":"#N/A"}},{"$f":"VLOOKUP($C27,UvaluesFlr!$D$39:$P$42,$P27-1,TRUE)","v":{"$error":"#N/A"}},{"$f":"VLOOKUP($C27,UvaluesFlr!$D$43:$P$45,$P27-1,TRUE)","v":{"$error":"#N/A"}},{"$f":"VLOOKUP($C27,UvaluesFlr!$D$46:$P$48,$P27-1,TRUE)","v":{"$error":"#N/A"}},{"$f":"VLOOKUP($C27,UvaluesFlr!$D$49:$P$50,$P27-1,TRUE)","v":{"$error":"#N/A"}}]
[null,{"$f":"HLOOKUP($B$1,'Room Inputs'!$D$3:$X$137,B73,0)","v":0},{"$f":"HLOOKUP($B$1,'Room Inputs'!$D$3:$X$137,C73,0)","v":0},{"$f":"HLOOKUP($B$1,'Room Inputs'!$D$3:$X$137,D73,0)","v":0},{"$f":"HLOOKUP($B$1,'Room Inputs'!$D$3:$X$137,E73,0)","v":{"$error":"#VALUE!"}},{"$f":"B28*C28","v":0},{"$f":"HLOOKUP($B$1,'Room Inputs'!$D$3:$X$137,G73,0)","v":0},{"$f":"HLOOKUP($B$1,'Room Inputs'!$D$3:$X$137,H73,0)","v":0},{"$f":"IF(OR(G28=UvaluesFlr!$U$3,G28=UvaluesFlr!$U$4,ISERROR(M28)),\"\",M28)","v":""},{"$f":"$K$8-IF(LEFT(G28,2)=\"So\",10,'Site Inputs'!$C$8)","v":{"$error":"#N/A"}},{"$f":"IF(OR(G28=UvaluesFlr!$U$3,G28=UvaluesFlr!$U$4),IF(ISERROR(F28*J28*H28),\"\",F28*J28*H28),IF(ISERROR(F28*J28*I28),\"\",F28*J28*I28))","v":""},null,{"$f":"HLOOKUP(N28+MIN(0.6,IF(N28>4,O28/10,0)),$R$26:$AC$29,3,TRUE)","v":{"$error":"#N/A"}},{"$f":"VLOOKUP(D28,UvaluesFlr!$U$17:$V$22,2,FALSE)","v":{"$error":"#N/A"}},{"$f":"VLOOKUP(G28,UvaluesFlr!$U$3:$W$14,2,FALSE)","v":{"$error":"#N/A"}},{"$f":"VLOOKUP(G28,UvaluesFlr!$U$3:$W$14,3,FALSE)","v":{"$error":"#N/A"}},null,{"$f":"VLOOKUP(C28,UvaluesFlr!$C$53:$P$59,$P28,TRUE)","v":{"$error":"#N/A"}},{"$f":"VLOOKUP(B28,UvaluesFlr!$C$53:$P$59,$P28,TRUE)","v":{"$error":"#N/A"}},{"$f":"VLOOKUP(B28+C28,UvaluesFlr!$C$4:$P$12,$P28,TRUE)","v":{"$error":"#N/A"}},{"$f":"VLOOKUP(B28,UvaluesFlr!$C$16:$P$21,$P28,TRUE)","v":{"$error":"#N/A"}},{"$f":"VLOOKUP($C28,UvaluesFlr!$D$26:$P$29,$P28-1,TRUE)","v":{"$error":"#N/A"}},{"$f":"VLOOKUP($C28,UvaluesFlr!$D$30:$P$31,$P28-1,TRUE)","v":{"$error":"#N/A"}},{"$f":"VLOOKUP($C28,UvaluesFlr!$D$32:$P$33,$P28-1,TRUE)","v":{"$error":"#N/A"}},{"$f":"VLOOKUP($C28,UvaluesFlr!$D$34:$P$35,$P28-1,TRUE)","v":{"$error":"#N/A"}},{"$f":"VLOOKUP($C28,UvaluesFlr!$D$39:$P$42,$P28-1,TRUE)","v":{"$error":"#N/A"}},{"$f":"VLOOKUP($C28,UvaluesFlr!$D$43:$P$45,$P28-1,TRUE)","v":{"$error":"#N/A"}},{"$f":"VLOOKUP($C28,UvaluesFlr!$D$46:$P$48,$P28-1,TRUE)","v":{"$error":"#N/A"}},{"$f":"VLOOKUP($C28,UvaluesFlr!$D$49:$P$50,$P28-1,TRUE)","v":{"$error":"#N/A"}}]
[null,{"$f":"HLOOKUP($B$1,'Room Inputs'!$D$3:$X$137,B74,0)","v":0},{"$f":"HLOOKUP($B$1,'Room Inputs'!$D$3:$X$137,C74,0)","v":0},{"$f":"HLOOKUP($B$1,'Room Inputs'!$D$3:$X$137,D74,0)","v":0},{"$f":"HLOOKUP($B$1,'Room Inputs'!$D$3:$X$137,E74,0)","v":{"$error":"#VALUE!"}},{"$f":"B29*C29","v":0},{"$f":"HLOOKUP($B$1,'Room Inputs'!$D$3:$X$137,G74,0)","v":0},{"$f":"HLOOKUP($B$1,'Room Inputs'!$D$3:$X$137,H74,0)","v":0},{"$f":"IF(OR(G29=UvaluesFlr!$U$3,G29=UvaluesFlr!$U$4,ISERROR(M29)),\"\",M29)","v":""},{"$f":"$K$8-IF(LEFT(G29,2)=\"So\",10,'Site Inputs'!$C$8)","v":{"$error":"#N/A"}},{"$f":"IF(OR(G29=UvaluesFlr!$U$3,G29=UvaluesFlr!$U$4),IF(ISERROR(F29*J29*H29),\"\",F29*J29*H29),IF(ISERROR(F29*J29*I29),\"\",F29*J29*I29))","v":""},null,{"$f":"HLOOKUP(N29+MIN(0.6,IF(N29>4,O29/10,0)),$R$26:$AC$29,4,TRUE)","v":{"$error":"#N/A"}},{"$f":"VLOOKUP(D29,UvaluesFlr!$U$17:$V$22,2,FALSE)","v":{"$error":"#N/A"}},{"$f":"VLOOKUP(G29,UvaluesFlr!$U$3:$W$14,2,FALSE)","v":{"$error":"#N/A"}},{"$f":"VLOOKUP(G29,UvaluesFlr!$U$3:$W$14,3,FALSE)","v":{"$error":"#N/A"}},null,{"$f":"VLOOKUP(C29,UvaluesFlr!$C$53:$P$59,$P29,TRUE)","v":{"$error":"#N/A"}},{"$f":"VLOOKUP(B29,UvaluesFlr!$C$53:$P$59,$P29,TRUE)","v":{"$error":"#N/A"}},{"$f":"VLOOKUP(B29+C29,UvaluesFlr!$C$4:$P$12,$P29,TRUE)","v":{"$error":"#N/A"}},{"$f":"VLOOKUP(B29,UvaluesFlr!$C$16:$P$21,$P29,TRUE)","v":{"$error":"#N/A"}},{"$f":"VLOOKUP($C29,UvaluesFlr!$D$26:$P$29,$P29-1,TRUE)","v":{"$error":"#N/A"}},{"$f":"VLOOKUP($C29,UvaluesFlr!$D$30:$P$31,$P29-1,TRUE)","v":{"$error":"#N/A"}},{"$f":"VLOOKUP($C29,UvaluesFlr!$D$32:$P$33,$P29-1,TRUE)","v":{"$error":"#N/A"}},{"$f":"VLOOKUP($C29,UvaluesFlr!$D$34:$P$35,$P29-1,TRUE)","v":{"$error":"#N/A"}},{"$f":"VLOOKUP($C29,UvaluesFlr!$D$39:$P$42,$P29-1,TRUE)","v":{"$error":"#N/A"}},{"$f":"VLOOKUP($C29,UvaluesFlr!$D$43:$P$45,$P29-1,TRUE)","v":{"$error":"#N/A"}},{"$f":"VLOOKUP($C29,UvaluesFlr!$D$46:$P$48,$P29-1,TRUE)","v":{"$error":"#N/A"}},{"$f":"VLOOKUP($C29,UvaluesFlr!$D$49:$P$50,$P29-1,TRUE)","v":{"$error":"#N/A"}}]
[]
[]
[null,"Windows and doors"]
[null,"Wall or roof with window or door","Window or door height (m)","Window or door width (m)","Area (m²)","Wall/roof U-value (W/m²K)","Frame and glazing type ","Entered U-\u001evalue (W/m²K), if required","U-value","Design temperature difference","Heat loss (W)*"]
[null,{"$f":"HLOOKUP($B$1,'Room Inputs'!$D$3:$X$137,B79,0)","v":0},{"$f":"HLOOKUP($B$1,'Room Inputs'!$D$3:$X$137,C79,0)","v":0},{"$f":"HLOOKUP($B$1,'Room Inputs'!$D$3:$X$137,D79,0)","v":0},{"$f":"C34*D34","v":0},{"$f":"IF(B34<>\"\",IF(VLOOKUP(B34,B$14:I$25,6,FALSE)=UvalueWD!$C$6,VLOOKUP(B34,B$14:I$25,7,FALSE),VLOOKUP(B34,B$14:I$25,8,FALSE)),\"\")","v":""},{"$f":"HLOOKUP($B$1,'Room Inputs'!$D$3:$X$137,G79,0)","v":0},{"$f":"HLOOKUP($B$1,'Room Inputs'!$D$3:$X$137,H79,0)","v":0},{"$f":"IF(OR(G34=UvalueWD!C$6,G34=\"\"),\"\",VLOOKUP(G34,Windows,2,FALSE))","v":{"$error":"#N/A"}},{"$f":"IF(ISERROR(VLOOKUP(B34,B$13:K$29,9,FALSE)),\"\",VLOOKUP(B34,B$13:K$29,9,FALSE))","v":""},{"$f":"IF(G34=UvaluesWRF!A$2,IF(ISERROR(F34*J34*(H34-F34)),\"\",F34*J34*(H34-F34)),IF(ISERROR(F34*J34*(F34-I34)),\"\",(I34-F34)*J34*I34))","v":""}]
[null,{"$f":"HLOOKUP($B$1,'Room Inputs'!$D$3:$X$137,B80,0)","v":0},{"$f":"HLOOKUP($B$1,'Room Inputs'!$D$3:$X$137,C80,0)","v":0},{"$f":"HLOOKUP($B$1,'Room Inputs'!$D$3:$X$137,D80,0)","v":0},0,{"$f":"IF(B35<>\"\",IF(VLOOKUP(B35,B$14:I$25,6,FALSE)=UvalueWD!$C$6,VLOOKUP(B35,B$14:I$25,7,FALSE),VLOOKUP(B35,B$14:I$25,8,FALSE)),\"\")","v":""},{"$f":"HLOOKUP($B$1,'Room Inputs'!$D$3:$X$137,G80,0)","v":0},{"$f":"HLOOKUP($B$1,'Room Inputs'!$D$3:$X$137,H80,0)","v":0},{"$f":"IF(OR(G35=UvalueWD!C$6,G35=\"\"),\"\",VLOOKUP(G35,Windows,2,FALSE))","v":{"$error":"#N/A"}},"",{"$f":"IF(G35=UvaluesWRF!A$2,IF(ISERROR(F35*J35*(H35-F35)),\"\",F35*J35*(H35-F35)),IF(ISERROR(F35*J35*(F35-I35)),\"\",(I35-F35)*J35*I35))","v":""}]
[null,{"$f":"HLOOKUP($B$1,'Room Inputs'!$D$3:$X$137,B81,0)","v":0},{"$f":"HLOOKUP($B$1,'Room Inputs'!$D$3:$X$137,C81,0)","v":0},{"$f":"HLOOKUP($B$1,'Room Inputs'!$D$3:$X$137,D81,0)","v":0},0,{"$f":"IF(B36<>\"\",IF(VLOOKUP(B36,B$14:I$25,6,FALSE)=UvalueWD!$C$6,VLOOKUP(B36,B$14:I$25,7,FALSE),VLOOKUP(B36,B$14:I$25,8,FALSE)),\"\")","v":""},{"$f":"HLOOKUP($B$1,'Room Inputs'!$D$3:$X$137,G81,0)","v":0},{"$f":"HLOOKUP($B$1,'Room Inputs'!$D$3:$X$137,H81,0)","v":0},{"$f":"IF(OR(G36=UvalueWD!C$6,G36=\"\"),\"\",VLOOKUP(G36,Windows,2,FALSE))","v":{"$error":"#N/A"}},"",{"$f":"IF(G36=UvaluesWRF!A$2,IF(ISERROR(F36*J36*(H36-F36)),\"\",F36*J36*(H36-F36)),IF(ISERROR(F36*J36*(F36-I36)),\"\",(I36-F36)*J36*I36))","v":""}]
[null,{"$f":"HLOOKUP($B$1,'Room Inputs'!$D$3:$X$137,B82,0)","v":0},{"$f":"HLOOKUP($B$1,'Room Inputs'!$D$3:$X$137,C82,0)","v":0},{"$f":"HLOOKUP($B$1,'Room Inputs'!$D$3:$X$137,D82,0)","v":0},0,{"$f":"IF(B37<>\"\",IF(VLOOKUP(B37,B$14:I$25,6,FALSE)=UvalueWD!$C$6,VLOOKUP(B37,B$14:I$25,7,FALSE),VLOOKUP(B37,B$14:I$25,8,FALSE)),\"\")","v":""},{"$f":"HLOOKUP($B$1,'Room Inputs'!$D$3:$X$137,G82,0)","v":0},{"$f":"HLOOKUP($B$1,'Room Inputs'!$D$3:$X$137,H82,0)","v":0},{"$f":"IF(OR(G37=UvalueWD!C$6,G37=\"\"),\"\",VLOOKUP(G37,Windows,2,FALSE))","v":{"$error":"#N/A"}},"",{"$f":"IF(G37=UvaluesWRF!A$2,IF(ISERROR(F37*J37*(H37-F37)),\"\",F37*J37*(H37-F37)),IF(ISERROR(F37*J37*(F37-I37)),\"\",(I37-F37)*J37*I37))","v":""}]
[null,{"$f":"HLOOKUP($B$1,'Room Inputs'!$D$3:$X$137,B83,0)","v":0},{"$f":"HLOOKUP($B$1,'Room Inputs'!$D$3:$X$137,C83,0)","v":0},{"$f":"HLOOKUP($B$1,'Room Inputs'!$D$3:$X$137,D83,0)","v":0},0,{"$f":"IF(B38<>\"\",IF(VLOOKUP(B38,B$14:I$25,6,FALSE)=UvalueWD!$C$6,VLOOKUP(B38,B$14:I$25,7,FALSE),VLOOKUP(B38,B$14:I$25,8,FALSE)),\"\")","v":""},{"$f":"HLOOKUP($B$1,'Room Inputs'!$D$3:$X$137,G83,0)","v":0},{"$f":"HLOOKUP($B$1,'Room Inputs'!$D$3:$X$137,H83,0)","v":0},{"$f":"IF(OR(G38=UvalueWD!C$6,G38=\"\"),\"\",VLOOKUP(G38,Windows,2,FALSE))","v":{"$error":"#N/A"}},"",{"$f":"IF(G38=UvaluesWRF!A$2,IF(ISERROR(F38*J38*(H38-F38)),\"\",F38*J38*(H38-F38)),IF(ISERROR(F38*J38*(F38-I38)),\"\",(I38-F38)*J38*I38))","v":""}]
[null,{"$f":"HLOOKUP($B$1,'Room Inputs'!$D$3:$X$137,B84,0)","v":0},{"$f":"HLOOKUP($B$1,'Room Inputs'!$D$3:$X$137,C84,0)","v":0},{"$f":"HLOOKUP($B$1,'Room Inputs'!$D$3:$X$137,D84,0)","v":0},0,{"$f":"IF(B39<>\"\",IF(VLOOKUP(B39,B$14:I$25,6,FALSE)=UvalueWD!$C$6,VLOOKUP(B39,B$14:I$25,7,FALSE),VLOOKUP(B39,B$14:I$25,8,FALSE)),\"\")","v":""},{"$f":"HLOOKUP($B$1,'Room Inputs'!$D$3:$X$137,G84,0)","v":0},{"$f":"HLOOKUP($B$1,'Room Inputs'!$D$3:$X$137,H84,0)","v":0},{"$f":"IF(OR(G39=UvalueWD!C$6,G39=\"\"),\"\",VLOOKUP(G39,Windows,2,FALSE))","v":{"$error":"#N/A"}},"",{"$f":"IF(G39=UvaluesWRF!A$2,IF(ISERROR(F39*J39*(H39-F39)),\"\",F39*J39*(H39-F39)),IF(ISERROR(F39*J39*(F39-I39)),\"\",(I39-F39)*J39*I39))","v":""}]
[]
[null,"* this is net heat loss (i.e. the heat loss of the window minus that of a wall of the same area) and so can be negative.  This is done so that the area of the window or door does not have to be subtracted from the wall area.  "]
[null,null,null,null,null,null,null,null,"Room heat loss (W)",null,{"$f":"SUM(K10:K39)","v":0}]
[]
[]
[]
[null,"Row number lookup map"]
[]
[null,"Room name",2,null,"Emitter type",3,"For convectors consult the manufacturer's data and enter the temperature factor (FTEMP) for the appropriate fan speed",4,"For radiators enter the n-coefficient (exponent) from manufacturer's data.  If unknown 1.3 may be used",null,5]
[]
[null,"Enter floor type and construction",6,null,"Enter floor type and construction",7,"For UFH enter Tog value (See Table 14)",8,"For UFH enter  active or exposed area of the heated floor ",null,9]
[]
[null,"Enter Room type below",null,null," Enter Open fire/chimney details below "]
[null,10,null,null,11]
[null,"Room Dimensions"]
[null,"Length (m)",null,"Width (m)",null,"Height (m)"]
[null,13,null,14,null,15]
[null,"Walls, floors not ground floors and ceiling"]
[null,"Name of wall, floor, ceiling","Space on other side","Height or length (m)","Width (m)",null,"Construction","Entered U-\u001evalue (W/m²K), if required"]
[null,16,17,18,19,null,20,21]
[null,22,23,24,25,null,26,27]
[null,28,29,30,31,null,32,33]
[null,35,36,37,38,null,39,40]
[null,41,42,43,44,null,45,46]
[null,47,48,49,50,null,51,52]
[null,53,54,55,56,null,57,58]
[null,59,60,61,62,null,63,64]
[null,65,66,67,68,null,69,70]
[null,71,72,73,74,null,75,76]
[null,77,78,79,80,null,81,82]
[null,83,84,85,86,null,87,88]
[null,"Ground floors \nShort length (m)","long length\n(m)","Edges exposed",null,null,"Type and Insulation  thickness"]
[null,89,90,91,92,null,92,93]
[null,95,96,97,null,null,98,99]
[null,100,101,102,null,null,103,104]
[]
[]
[null,"Windows and doors"]
[null,"Wall or roof with window or door","Window or door height (m)","Window or door width (m)","Area (m²)","Wall/roof U-value (W/m²K)","Frame and glazing type ","Entered U-\u001evalue (W/m²K), if required"]
[null,105,106,107,null,null,108,109]
[null,111,112,113,null,null,114,115]
[null,116,117,118,null,null,119,120]
[null,121,122,123,null,null,124,125]
[null,126,127,128,null,null,129,130]
[null,131,132,133,null,null,134,135]

{"sheet":"13","index":18,"n_rows":84,"n_cols":29,"rows_kept":84,"cut":false,"hidden":true,"merged":[[40,1,40,7],[41,8,41,9],[7,7,7,8],[4,8,4,9],[6,1,6,2],[6,4,6,5],[6,7,6,8],[47,8,47,9],[49,2,49,3],[49,8,49,9],[51,1,51,2],[51,4,51,5],[51,7,51,8],[52,1,52,2],[52,4,52,5],[52,7,52,8],[72,3,72,4],[73,3,73,4],[71,3,71,4]]}
[null,{"$f":"'Room Inputs'!Q3","v":"Room13"}]
[]
[null,"Room name",{"$f":"HLOOKUP($B$1,'Room Inputs'!$D$3:$X$137,C48,0)","v":0},null,"Emitter type",{"$f":"HLOOKUP($B$1,'Room Inputs'!$D$3:$X$137,F48,0)","v":0},"For convectors consult the manufacturer's data and enter the temperature factor (FTEMP) for the appropriate fan speed",{"$f":"HLOOKUP($B$1,'Room Inputs'!$D$3:$X$137,H48,0)","v":0.85},"For radiators enter the n-coefficient (exponent) from manufacturer's data.  If unknown 1.3 may be used",null,{"$f":"HLOOKUP($B$1,'Room Inputs'!$D$3:$X$137,K48,0)","v":1.3}]
[]
[null,"Enter floor type and construction",{"$f":"HLOOKUP($B$1,'Room Inputs'!$D$3:$X$137,C50,0)","v":0},null,"Enter floor type and construction",{"$f":"HLOOKUP($B$1,'Room Inputs'!$D$3:$X$137,F50,0)","v":0},"For UFH enter Tog value (See Table 14)",{"$f":"HLOOKUP($B$1,'Room Inputs'!$D$3:$X$137,H50,0)","v":0.25},"For UFH enter  active or exposed area of the heated floor ",null,{"$f":"HLOOKUP($B$1,'Room Inputs'!$D$3:$X$137,K50,0)","v":0}]
[]
[null,"Enter Room type below",null,null," Enter Open fire/chimney details below ",null,null,"Design room ventilation rate (air changes per hour)",null,null,"Design room temperature °C"]
[null,{"$f":"HLOOKUP($B$1,'Room Inputs'!$D$3:$X$137,B53,0)","v":0},null,null,{"$f":"HLOOKUP($B$1,'Room Inputs'!$D$3:$X$137,E53,0)","v":0},null,null,{"$f":"IF(E8=VTables!B20,VLOOKUP(B8,DRVT,3,FALSE),MAX(VLOOKUP(B8,DRVT,3,FALSE),VLOOKUP(E8,ARVR,2,FALSE)))","v":{"$error":"#N/A"}},null,null,{"$f":"VLOOKUP(B8,DRVT,2,FALSE)","v":{"$error":"#N/A"}}]
[null,"Room Dimensions"]
[null,"Length (m)",null,"Width (m)",null,"Height (m)","Room volume (m³) ",null,null,"Design temperature difference","Heat loss (W)"]
[null,{"$f":"HLOOKUP($B$1,'Room Inputs'!$D$3:$X$137,B56,0)","v":0},null,{"$f":"HLOOKUP($B$1,'Room Inputs'!$D$3:$X$137,D56,0)","v":0},null,{"$f":"HLOOKUP($B$1,'Room Inputs'!$D$3:$X$137,F56,0)","v":0},{"$f":"B11*D11*F11","v":0},null,null,{"$f":"K8-'Site Inputs'!C8","v":{"$error":"#N/A"}},{"$f":"IF(G11>0,(ROUND(0.33*G11*H8*J11,2)),\"\")","v":""}]
[null,"Walls, floors not ground floors and ceiling"]
[null,"Name of wall, floor, ceiling","Space on other side","Height or length (m)","Width (m)","Area (m²)","Construction","Entered U-\u001evalue (W/m²K), if required","U-value (W/m²K)","Design temperature difference","Heat loss (W)",null,"`"]
[null,{"$f":"HLOOKUP($B$1,'Room Inputs'!$D$3:$X$137,B59,0)","v":0},{"$f":"HLOOKUP($B$1,'Room Inputs'!$D$3:$X$137,C59,0)","v":0},{"$f":"HLOOKUP($B$1,'Room Inputs'!$D$3:$X$137,D59,0)","v":0},{"$f":"HLOOKUP($B$1,'Room Inputs'!$D$3:$X$137,E59,0)","v":0},{"$f":"D14*E14","v":0},{"$f":"HLOOKUP($B$1,'Room Inputs'!$D$3:$X$137,G59,0)","v":0},{"$f":"HLOOKUP($B$1,'Room Inputs'!$D$3:$X$137,H59,0)","v":0},{"$f":"IF(OR(G14=UvaluesWRF!A$2,ISERROR(VLOOKUP(G14,UvaluesWRF!A$3:B$110,2,FALSE))),\"\",VLOOKUP(G14,UvaluesWRF!A$3:B$110,2,FALSE))","v":""},{"$f":"IF(C14=\"\",\"\",$K$8-VLOOKUP(C14,DRVT,2,FALSE))","v":{"$error":"#N/A"}},{"$f":"IF(G14=UvaluesWRF!A$2,IF(ISERROR(F14*J14*H14),\"\",F14*J14*H14),IF(ISERROR(F14*J14*I14),\"\",F14*J14*I14))","v":""}]
[null,{"$f":"HLOOKUP($B$1,'Room Inputs'!$D$3:$X$137,B60,0)","v":0},{"$f":"HLOOKUP($B$1,'Room Inputs'!$D$3:$X$137,C60,0)","v":0},{"$f":"HLOOKUP($B$1,'Room Inputs'!$D$3:$X$137,D60,0)","v":0},{"$f":"HLOOKUP($B$1,'Room Inputs'!$D$3:$X$137,E60,0)","v":0},{"$f":"D15*E15","v":0},{"$f":"HLOOKUP($B$1,'Room Inputs'!$D$3:$X$137,G60,0)","v":0},{"$f":"HLOOKUP($B$1,'Room Inputs'!$D$3:$X$137,H60,0)","v":0},{"$f":"IF(OR(G15=UvaluesWRF!A$2,ISERROR(VLOOKUP(G15,UvaluesWRF!A$3:B$110,2,FALSE))),\"\",VLOOKUP(G15,UvaluesWRF!A$3:B$110,2,FALSE))","v":""},{"$error":"#N/A"},{"$f":"IF(G15=UvaluesWRF!A$2,IF(ISERROR(F15*J15*H15),\"\",F15*J15*H15),IF(ISERROR(F15*J15*I15),\"\",F15*J15*I15))","v":""}]
[null,{"$f":"HLOOKUP($B$1,'Room Inputs'!$D$3:$X$137,B61,0)","v":0},{"$f":"HLOOKUP($B$1,'Room Inputs'!$D$3:$X$137,C61,0)","v":0},{"$f":"HLOOKUP($B$1,'Room Inputs'!$D$3:$X$137,D61,0)","v":0},{"$f":"HLOOKUP($B$1,'Room Inputs'!$D$3:$X$137,E61,0)","v":0},0,{"$f":"HLOOKUP($B$1,'Room Inputs'!$D$3:$X$137,G61,0)","v":0},{"$f":"HLOOKUP($B$1,'Room Inputs'!$D$3:$X$137,H61,0)","v":0},{"$f":"IF(OR(G16=UvaluesWRF!A$2,ISERROR(VLOOKUP(G16,UvaluesWRF!A$3:B$110,2,FALSE))),\"\",VLOOKUP(G16,UvaluesWRF!A$3:B$110,2,FALSE))","v":""},{"$error":"#N/A"},{"$f":"IF(G16=UvaluesWRF!A$2,IF(ISERROR(F16*J16*H16),\"\",F16*J16*H16),IF(ISERROR(F16*J16*I16),\"\",F16*J16*I16))","v":""}]
[null,{"$f":"HLOOKUP($B$1,'Room Inputs'!$D$3:$X$137,B62,0)","v":0},{"$f":"HLOOKUP($B$1,'Room Inputs'!$D$3:$X$137,C62,0)","v":0},{"$f":"HLOOKUP($B$1,'Room Inputs'!$D$3:$X$137,D62,0)","v":0},{"$f":"HLOOKUP($B$1,'Room Inputs'!$D$3:$X$137,E62,0)","v":0},0,{"$f":"HLOOKUP($B$1,'Room Inputs'!$D$3:$X$137,G62,0)","v":0},{"$f":"HLOOKUP($B$1,'Room Inputs'!$D$3:$X$137,H62,0)","v":0},{"$f":"IF(OR(G17=UvaluesWRF!A$2,ISERROR(VLOOKUP(G17,UvaluesWRF!A$3:B$110,2,FALSE))),\"\",VLOOKUP(G17,UvaluesWRF!A$3:B$110,2,FALSE))","v":""},{"$error":"#N/A"},{"$f":"IF(G17=UvaluesWRF!A$2,IF(ISERROR(F17*J17*H17),\"\",F17*J17*H17),IF(ISERROR(F17*J17*I17),\"\",F17*J17*I17))","v":""}]
[null,{"$f":"HLOOKUP($B$1,'Room Inputs'!$D$3:$X$137,B63,0)","v":0},{"$f":"HLOOKUP($B$1,'Room Inputs'!$D$3:$X$137,C63,0)","v":0},{"$f":"HLOOKUP($B$1,'Room Inputs'!$D$3:$X$137,D63,0)","v":0},{"$f":"HLOOKUP($B$1,'Room Inputs'!$D$3:$X$137,E63,0)","v":0},0,{"$f":"HLOOKUP($B$1,'Room Inputs'!$D$3:$X$137,G63,0)","v":0},{"$f":"HLOOKUP($B$1,'Room Inputs'!$D$3:$X$137,H63,0)","v":0},{"$f":"IF(OR(G18=UvaluesWRF!A$2,ISERROR(VLOOKUP(G18,UvaluesWRF!A$3:B$110,2,FALSE))),\"\",VLOOKUP(G18,UvaluesWRF!A$3:B$110,2,FALSE))","v":""},{"$error":"#N/A"},{"$f":"IF(G18=UvaluesWRF!A$2,IF(ISERROR(F18*J18*H18),\"\",F18*J18*H18),IF(ISERROR(F18*J18*I18),\"\",F18*J18*I18))","v":""}]
[null,{"$f":"HLOOKUP($B$1,'Room Inputs'!$D$3:$X$137,B64,0)","v":0},{"$f":"HLOOKUP($B$1,'Room Inputs'!$D$3:$X$137,C64,0)","v":0},{"$f":"HLOOKUP($B$1,'Room Inputs'!$D$3:$X$137,D64,0)","v":0},{"$f":"HLOOKUP($B$1,'Room Inputs'!$D$3:$X$137,E64,0)","v":0},0,{"$f":"HLOOKUP($B$1,'Room Inputs'!$D$3:$X$137,G64,0)","v":0},{"$f":"HLOOKUP($B$1,'Room Inputs'!$D$3:$X$137,H64,0)","v":0},{"$f":"IF(OR(G19=UvaluesWRF!A$2,ISERROR(VLOOKUP(G19,UvaluesWRF!A$3:B$110,2,FALSE))),\"\",VLOOKUP(G19,UvaluesWRF!A$3:B$110,2,FALSE))","v":""},{"$error":"#N/A"},{"$f":"IF(G19=UvaluesWRF!A$2,IF(ISERROR(F19*J19*H19),\"\",F19*J19*H19),IF(ISERROR(F19*J19*I19),\"\",F19*J19*I19))","v":""}]
[null,{"$f":"HLOOKUP($B$1,'Room Inputs'!$D$3:$X$137,B65,0)","v":0},{"$f":"HLOOKUP($B$1,'Room Inputs'!$D$3:$X$137,C65,0)","v":0},{"$f":"HLOOKUP($B$1,'Room Inputs'!$D$3:$X$137,D65,0)","v":0},{"$f":"HLOOKUP($B$1,'Room Inputs'!$D$3:$X$137,E65,0)","v":0},0,{"$f":"HLOOKUP($B$1,'Room Inputs'!$D$3:$X$137,G65,0)","v":0},{"$f":"HLOOKUP($B$1,'Room Inputs'!$D$3:$X$137,H65,0)","v":0},{"$f":"IF(OR(G20=UvaluesWRF!A$2,ISERROR(VLOOKUP(G20,UvaluesWRF!A$3:B$110,2,FALSE))),\"\",VLOOKUP(G20,UvaluesWRF!A$3:B$110,2,FALSE))","v":""},{"$error":"#N/A"},{"$f":"IF(G20=UvaluesWRF!A$2,IF(ISERROR(F20*J20*H20),\"\",F20*J20*H20),IF(ISERROR(F20*J20*I20),\"\",F20*J20*I20))","v":""}]
[null,{"$f":"HLOOKUP($B$1,'Room Inputs'!$D$3:$X$137,B66,0)","v":0},{"$f":"HLOOKUP($B$1,'Room Inputs'!$D$3:$X$137,C66,0)","v":0},{"$f":"HLOOKUP($B$1,'Room Inputs'!$D$3:$X$137,D66,0)","v":0},{"$f":"HLOOKUP($B$1,'Room Inputs'!$D$3:$X$137,E66,0)","v":0},0,{"$f":"HLOOKUP($B$1,'Room Inputs'!$D$3:$X$137,G66,0)","v":0},{"$f":"HLOOKUP($B$1,'Room Inputs'!$D$3:$X$137,H66,0)","v":0},{"$f":"IF(OR(G21=UvaluesWRF!A$2,ISERROR(VLOOKUP(G21,UvaluesWRF!A$3:B$110,2,FALSE))),\"\",VLOOKUP(G21,UvaluesWRF!A$3:B$110,2,FALSE))","v":""},{"$error":"#N/A"},{"$f":"IF(G21=UvaluesWRF!A$2,IF(ISERROR(F21*J21*H21),\"\",F21*J21*H21),IF(ISERROR(F21*J21*I21),\"\",F21*J21*I21))","v":""}]
[null,{"$f":"HLOOKUP($B$1,'Room Inputs'!$D$3:$X$137,B67,0)","v":0},{"$f":"HLOOKUP($B$1,'Room Inputs'!$D$3:$X$137,C67,0)","v":0},{"$f":"HLOOKUP($B$1,'Room Inputs'!$D$3:$X$137,D67,0)","v":0},{"$f":"HLOOKUP($B$1,'Room Inputs'!$D$3:$X$137,E67,0)","v":0},0,{"$f":"HLOOKUP($B$1,'Room Inputs'!$D$3:$X$137,G67,0)","v":0},{"$f":"HLOOKUP($B$1,'Room Inputs'!$D$3:$X$137,H67,0)","v":0},{"$f":"IF(OR(G22=UvaluesWRF!A$2,ISERROR(VLOOKUP(G22,UvaluesWRF!A$3:B$110,2,FALSE))),\"\",VLOOKUP(G22,UvaluesWRF!A$3:B$110,2,FALSE))","v":""},{"$error":"#N/A"},{"$f":"IF(G22=UvaluesWRF!A$2,IF(ISERROR(F22*J22*H22),\"\",F22*J22*H22),IF(ISERROR(F22*J22*I22),\"\",F22*J22*I22))","v":""}]
[null,{"$f":"HLOOKUP($B$1,'Room Inputs'!$D$3:$X$137,B68,0)","v":0},{"$f":"HLOOKUP($B$1,'Room Inputs'!$D$3:$X$137,C68,0)","v":0},{"$f":"HLOOKUP($B$1,'Room Inputs'!$D$3:$X$137,D68,0)","v":0},{"$f":"HLOOKUP($B$1,'Room Inputs'!$D$3:$X$137,E68,0)","v":0},0,{"$f":"HLOOKUP($B$1,'Room Inputs'!$D$3:$X$137,G68,0)","v":0},{"$f":"HLOOKUP($B$1,'Room Inputs'!$D$3:$X$137,H68,0)","v":0},{"$f":"IF(OR(G23=UvaluesWRF!A$2,ISERROR(VLOOKUP(G23,UvaluesWRF!A$3:B$110,2,FALSE))),\"\",VLOOKUP(G23,UvaluesWRF!A$3:B$110,2,FALSE))","v":""},{"$error":"#N/A"},{"$f":"IF(G23=UvaluesWRF!A$2,IF(ISERROR(F23*J23*H23),\"\",F23*J23*H23),IF(ISERROR(F23*J23*I23),\"\",F23*J23*I23))","v":""}]
[null,{"$f":"HLOOKUP($B$1,'Room Inputs'!$D$3:$X$137,B69,0)","v":0},{"$f":"HLOOKUP($B$1,'Room Inputs'!$D$3:$X$137,C69,0)","v":0},{"$f":"HLOOKUP($B$1,'Room Inputs'!$D$3:$X$137,D69,0)","v":0},{"$f":"HLOOKUP($B$1,'Room Inputs'!$D$3:$X$137,E69,0)","v":0},0,{"$f":"HLOOKUP($B$1,'Room Inputs'!$D$3:$X$137,G69,0)","v":0},{"$f":"HLOOKUP($B$1,'Room Inputs'!$D$3:$X$137,H69,0)","v":0},{"$f":"IF(OR(G24=UvaluesWRF!A$2,ISERROR(VLOOKUP(G24,UvaluesWRF!A$3:B$110,2,FALSE))),\"\",VLOOKUP(G24,UvaluesWRF!A$3:B$110,2,FALSE))","v":""},{"$error":"#N/A"},{"$f":"IF(G24=UvaluesWRF!A$2,IF(ISERROR(F24*J24*H24),\"\",F24*J24*H24),IF(ISERROR(F24*J24*I24),\"\",F24*J24*I24))","v":""}]
[null,{"$f":"HLOOKUP($B$1,'Room Inputs'!$D$3:$X$137,B70,0)","v":0},{"$f":"HLOOKUP($B$1,'Room Inputs'!$D$3:$X$137,C70,0)","v":0},{"$f":"HLOOKUP($B$1,'Room Inputs'!$D$3:$X$137,D70,0)","v":0},{"$f":"HLOOKUP($B$1,'Room Inputs'!$D$3:$X$137,E70,0)","v":0},0,{"$f":"HLOOKUP($B$1,'Room Inputs'!$D$3:$X$137,G70,0)","v":0},{"$f":"HLOOKUP($B$1,'Room Inputs'!$D$3:$X$137,H70,0)","v":0},{"$f":"IF(OR(G25=UvaluesWRF!A$2,ISERROR(VLOOKUP(G25,UvaluesWRF!A$3:B$110,2,FALSE))),\"\",VLOOKUP(G25,UvaluesWRF!A$3:B$110,2,FALSE))","v":""},{"$error":"#N/A"},{"$f":"IF(G25=UvaluesWRF!A$2,IF(ISERROR(F25*J25*H25),\"\",F25*J25*H25),IF(ISERROR(F25*J25*I25),\"\",F25*J25*I25))","v":""}]
[null,"Ground floors \nShort length (m)","long length\n(m)","Edges exposed",null,null,"Type and Insulation  thickness",null,null,null,null,null,"U-value","Edge","Insulation","Column",null,1,2,3,4,5.3,5.4,5.5,5.6,6.3,6.4,6.5,6.6]
[null,{"$f":"HLOOKUP($B$1,'Room Inputs'!$D$3:$X$137,B72,0)","v":0},{"$f":"HLOOKUP($B$1,'Room Inputs'!$D$3:$X$137,C72,0)","v":0},{"$f":"HLOOKUP($B$1,'Room Inputs'!$D$3:$X$137,D72,0)","v":0},{"$f":"HLOOKUP($B$1,'Room Inputs'!$D$3:$X$137,E72,0)","v":0},{"$f":"B27*C27","v":0},{"$f":"HLOOKUP($B$1,'Room Inputs'!$D$3:$X$137,G72,0)","v":0},{"$f":"HLOOKUP($B$1,'Room Inputs'!$D$3:$X$137,H72,0)","v":0},{"$f":"IF(OR(G27=UvaluesFlr!$U$3,G27=UvaluesFlr!$U$4,ISERROR(M27)),\"\",M27)","v":""},{"$f":"$K$8-IF(LEFT(G27,2)=\"So\",10,'Site Inputs'!$C$8)","v":{"$error":"#N/A"}},{"$f":"IF(OR(G27=UvaluesFlr!$U$3,G27=UvaluesFlr!$U$4),IF(ISERROR(F27*J27*H27),\"\",F27*J27*H27),IF(ISERROR(F27*J27*I27),\"\",F27*J27*I27))","v":""},null,{"$f":"HLOOKUP(N27+MIN(0.6,IF(N27>4,O27/10,0)),$R$26:$AC$29,2,TRUE)","v":{"$error":"#N/A"}},{"$f":"VLOOKUP(D27,UvaluesFlr!$U$17:$V$22,2,FALSE)","v":{"$error":"#N/A"}},{"$f":"VLOOKUP(G27,UvaluesFlr!$U$3:$W$14,2,FALSE)","v":{"$error":"#N/A"}},{"$f":"VLOOKUP(G27,UvaluesFlr!$U$3:$W$14,3,FALSE)","v":{"$error":"#N/A"}},null,{"$f":"VLOOKUP(C27,UvaluesFlr!$C$53:$P$59,$P27,TRUE)","v":{"$error":"#N/A"}},{"$f":"VLOOKUP(B27,UvaluesFlr!$C$53:$P$59,$P27,TRUE)","v":{"$error":"#N/A"}},{"$f":"VLOOKUP(B27+C27,UvaluesFlr!$C$4:$P$12,$P27,TRUE)","v":{"$error":"#N/A"}},{"$f":"VLOOKUP(B27,UvaluesFlr!$C$16:$P$21,$P27,TRUE)","v":{"$error":"#N/A"}},{"$f":"VLOOKUP($C27,UvaluesFlr!$D$26:$P$29,$P27-1,TRUE)","v":{"$error":"#N/A"}},{"$f":"VLOOKUP($C27,UvaluesFlr!$D$30:$P$31,$P27-1,TRUE)","v":{"$error":"#N/A"}},{"$f":"VLOOKUP($C27,UvaluesFlr!$D$32:$P$33,$P27-1,TRUE)","v":{"$error":"#N/A"}},{"$f":"VLOOKUP($C27,UvaluesFlr!$D$34:$P$35,$P27-1,TRUE)","v":{"$error":"#N/A"}},{"$f":"VLOOKUP($C27,UvaluesFlr!$D$39:$P$42,$P27-1,TRUE)","v":{"$error":"#N/A"}},{"$f":"VLOOKUP($C27,UvaluesFlr!$D$43:$P$45,$P27-1,TRUE)","v":{"$error":"#N/A"}},{"$f":"VLOOKUP($C27,UvaluesFlr!$D$46:$P$48,$P27-1,TRUE)","v":{"$error":"#N/A"}},{"$f":"VLOOKUP($C27,UvaluesFlr!$D$49:$P$50,$P27-1,TRUE)","v":{"$error":"#N/A"}}]
[null,{"$f":"HLOOKUP($B$1,'Room Inputs'!$D$3:$X$137,B73,0)","v":0},{"$f":"HLOOKUP($B$1,'Room Inputs'!$D$3:$X$137,C73,0)","v":0},{"$f":"HLOOKUP($B$1,'Room Inputs'!$D$3:$X$137,D73,0)","v":0},{"$f":"HLOOKUP($B$1,'Room Inputs'!$D$3:$X$137,E73,0)","v":{"$error":"#VALUE!"}},{"$f":"B28*C28","v":0},{"$f":"HLOOKUP($B$1,'Room Inputs'!$D$3:$X$137,G73,0)","v":0},{"$f":"HLOOKUP($B$1,'Room Inputs'!$D$3:$X$137,H73,0)","v":0},{"$f":"IF(OR(G28=UvaluesFlr!$U$3,G28=UvaluesFlr!$U$4,ISERROR(M28)),\"\",M28)","v":""},{"$f":"$K$8-IF(LEFT(G28,2)=\"So\",10,'Site Inputs'!$C$8)","v":{"$error":"#N/A"}},{"$f":"IF(OR(G28=UvaluesFlr!$U$3,G28=UvaluesFlr!$U$4),IF(ISERROR(F28*J28*H28),\"\",F28*J28*H28),IF(ISERROR(F28*J28*I28),\"\",F28*J28*I28))","v":""},null,{"$f":"HLOOKUP(N28+MIN(0.6,IF(N28>4,O28/10,0)),$R$26:$AC$29,3,TRUE)","v":{"$error":"#N/A"}},{"$f":"VLOOKUP(D28,UvaluesFlr!$U$17:$V$22,2,FALSE)","v":{"$error":"#N/A"}},{"$f":"VLOOKUP(G28,UvaluesFlr!$U$3:$W$14,2,FALSE)","v":{"$error":"#N/A"}},{"$f":"VLOOKUP(G28,UvaluesFlr!$U$3:$W$14,3,FALSE)","v":{"$error":"#N/A"}},null,{"$f":"VLOOKUP(C28,UvaluesFlr!$C$53:$P$59,$P28,TRUE)","v":{"$error":"#N/A"}},{"$f":"VLOOKUP(B28,UvaluesFlr!$C$53:$P$59,$P28,TRUE)","v":{"$error":"#N/A"}},{"$f":"VLOOKUP(B28+C28,UvaluesFlr!$C$4:$P$12,$P28,TRUE)","v":{"$error":"#N/A"}},{"$f":"VLOOKUP(B28,UvaluesFlr!$C$16:$P$21,$P28,TRUE)","v":{"$error":"#N/A"}},{"$f":"VLOOKUP($C28,UvaluesFlr!$D$26:$P$29,$P28-1,TRUE)","v":{"$error":"#N/A"}},{"$f":"VLOOKUP($C28,UvaluesFlr!$D$30:$P$31,$P28-1,TRUE)","v":{"$error":"#N/A"}},{"$f":"VLOOKUP($C28,UvaluesFlr!$D$32:$P$33,$P28-1,TRUE)","v":{"$error":"#N/A"}},{"$f":"VLOOKUP($C28,UvaluesFlr!$D$34:$P$35,$P28-1,TRUE)","v":{"$error":"#N/A"}},{"$f":"VLOOKUP($C28,UvaluesFlr!$D$39:$P$42,$P28-1,TRUE)","v":{"$error":"#N/A"}},{"$f":"VLOOKUP($C28,UvaluesFlr!$D$43:$P$45,$P28-1,TRUE)","v":{"$error":"#N/A"}},{"$f":"VLOOKUP($C28,UvaluesFlr!$D$46:$P$48,$P28-1,TRUE)","v":{"$error":"#N/A"}},{"$f":"VLOOKUP($C28,UvaluesFlr!$D$49:$P$50,$P28-1,TRUE)","v":{"$error":"#N/A"}}]
[null,{"$f":"HLOOKUP($B$1,'Room Inputs'!$D$3:$X$137,B74,0)","v":0},{"$f":"HLOOKUP($B$1,'Room Inputs'!$D$3:$X$137,C74,0)","v":0},{"$f":"HLOOKUP($B$1,'Room Inputs'!$D$3:$X$137,D74,0)","v":0},{"$f":"HLOOKUP($B$1,'Room Inputs'!$D$3:$X$137,E74,0)","v":{"$error":"#VALUE!"}},{"$f":"B29*C29","v":0},{"$f":"HLOOKUP($B$1,'Room Inputs'!$D$3:$X$137,G74,0)","v":0},{"$f":"HLOOKUP($B$1,'Room Inputs'!$D$3:$X$137,H74,0)","v":0},{"$f":"IF(OR(G29=UvaluesFlr!$U$3,G29=UvaluesFlr!$U$4,ISERROR(M29)),\"\",M29)","v":""},{"$f":"$K$8-IF(LEFT(G29,2)=\"So\",10,'Site Inputs'!$C$8)","v":{"$error":"#N/A"}},{"$f":"IF(OR(G29=UvaluesFlr!$U$3,G29=UvaluesFlr!$U$4),IF(ISERROR(F29*J29*H29),\"\",F29*J29*H29),IF(ISERROR(F29*J29*I29),\"\",F29*J29*I29))","v":""},null,{"$f":"HLOOKUP(N29+MIN(0.6,IF(N29>4,O29/10,0)),$R$26:$AC$29,4,TRUE)","v":{"$error":"#N/A"}},{"$f":"VLOOKUP(D29,UvaluesFlr!$U$17:$V$22,2,FALSE)","v":{"$error":"#N/A"}},{"$f":"VLOOKUP(G29,UvaluesFlr!$U$3:$W$14,2,FALSE)","v":{"$error":"#N/A"}},{"$f":"VLOOKUP(G29,UvaluesFlr!$U$3:$W$14,3,FALSE)","v":{"$error":"#N/A"}},null,{"$f":"VLOOKUP(C29,UvaluesFlr!$C$53:$P$59,$P29,TRUE)","v":{"$error":"#N/A"}},{"$f":"VLOOKUP(B29,UvaluesFlr!$C$53:$P$59,$P29,TRUE)","v":{"$error":"#N/A"}},{"$f":"VLOOKUP(B29+C29,UvaluesFlr!$C$4:$P$12,$P29,TRUE)","v":{"$error":"#N/A"}},{"$f":"VLOOKUP(B29,UvaluesFlr!$C$16:$P$21,$P29,TRUE)","v":{"$error":"#N/A"}},{"$f":"VLOOKUP($C29,UvaluesFlr!$D$26:$P$29,$P29-1,TRUE)","v":{"$error":"#N/A"}},{"$f":"VLOOKUP($C29,UvaluesFlr!$D$30:$P$31,$P29-1,TRUE)","v":{"$error":"#N/A"}},{"$f":"VLOOKUP($C29,UvaluesFlr!$D$32:$P$33,$P29-1,TRUE)","v":{"$error":"#N/A"}},{"$f":"VLOOKUP($C29,UvaluesFlr!$D$34:$P$35,$P29-1,TRUE)","v":{"$error":"#N/A"}},{"$f":"VLOOKUP($C29,UvaluesFlr!$D$39:$P$42,$P29-1,TRUE)","v":{"$error":"#N/A"}},{"$f":"VLOOKUP($C29,UvaluesFlr!$D$43:$P$45,$P29-1,TRUE)","v":{"$error":"#N/A"}},{"$f":"VLOOKUP($C29,UvaluesFlr!$D$46:$P$48,$P29-1,TRUE)","v":{"$error":"#N/A"}},{"$f":"VLOOKUP($C29,UvaluesFlr!$D$49:$P$50,$P29-1,TRUE)","v":{"$error":"#N/A"}}]
[]
[]
[null,"Windows and doors"]
[null,"Wall or roof with window or door","Window or door height (m)","Window or door width (m)","Area (m²)","Wall/roof U-value (W/m²K)","Frame and glazing type ","Entered U-\u001evalue (W/m²K), if required","U-value","Design temperature difference","Heat loss (W)*"]
[null,{"$f":"HLOOKUP($B$1,'Room Inputs'!$D$3:$X$137,B79,0)","v":0},{"$f":"HLOOKUP($B$1,'Room Inputs'!$D$3:$X$137,C79,0)","v":0},{"$f":"HLOOKUP($B$1,'Room Inputs'!$D$3:$X$137,D79,0)","v":0},{"$f":"C34*D34","v":0},{"$f":"IF(B34<>\"\",IF(VLOOKUP(B34,B$14:I$25,6,FALSE)=UvalueWD!$C$6,VLOOKUP(B34,B$14:I$25,7,FALSE),VLOOKUP(B34,B$14:I$25,8,FALSE)),\"\")","v":""},{"$f":"HLOOKUP($B$1,'Room Inputs'!$D$3:$X$137,G79,0)","v":0},{"$f":"HLOOKUP($B$1,'Room Inputs'!$D$3:$X$137,H79,0)","v":0},{"$f":"IF(OR(G34=UvalueWD!C$6,G34=\"\"),\"\",VLOOKUP(G34,Windows,2,FALSE))","v":{"$error":"#N/A"}},{"$f":"IF(ISERROR(VLOOKUP(B34,B$13:K$29,9,FALSE)),\"\",VLOOKUP(B34,B$13:K$29,9,FALSE))","v":""},{"$f":"IF(G34=UvaluesWRF!A$2,IF(ISERROR(F34*J34*(H34-F34)),\"\",F34*J34*(H34-F34)),IF(ISERROR(F34*J34*(F34-I34)),\"\",(I34-F34)*J34*I34))","v":""}]
[null,{"$f":"HLOOKUP($B$1,'Room Inputs'!$D$3:$X$137,B80,0)","v":0},{"$f":"HLOOKUP($B$1,'Room Inputs'!$D$3:$X$137,C80,0)","v":0},{"$f":"HLOOKUP($B$1,'Room Inputs'!$D$3:$X$137,D80,0)","v":0},0,{"$f":"IF(B35<>\"\",IF(VLOOKUP(B35,B$14:I$25,6,FALSE)=UvalueWD!$C$6,VLOOKUP(B35,B$14:I$25,7,FALSE),VLOOKUP(B35,B$14:I$25,8,FALSE)),\"\")","v":""},{"$f":"HLOOKUP($B$1,'Room Inputs'!$D$3:$X$137,G80,0)","v":0},{"$f":"HLOOKUP($B$1,'Room Inputs'!$D$3:$X$137,H80,0)","v":0},{"$f":"IF(OR(G35=UvalueWD!C$6,G35=\"\"),\"\",VLOOKUP(G35,Windows,2,FALSE))","v":{"$error":"#N/A"}},"",{"$f":"IF(G35=UvaluesWRF!A$2,IF(ISERROR(F35*J35*(H35-F35)),\"\",F35*J35*(H35-F35)),IF(ISERROR(F35*J35*(F35-I35)),\"\",(I35-F35)*J35*I35))","v":""}]
[null,{"$f":"HLOOKUP($B$1,'Room Inputs'!$D$3:$X$137,B81,0)","v":0},{"$f":"HLOOKUP($B$1,'Room Inputs'!$D$3:$X$137,C81,0)","v":0},{"$f":"HLOOKUP($B$1,'Room Inputs'!$D$3:$X$137,D81,0)","v":0},0,{"$f":"IF(B36<>\"\",IF(VLOOKUP(B36,B$14:I$25,6,FALSE)=UvalueWD!$C$6,VLOOKUP(B36,B$14:I$25,7,FALSE),VLOOKUP(B36,B$14:I$25,8,FALSE)),\"\")","v":""},{"$f":"HLOOKUP($B$1,'Room Inputs'!$D$3:$X$137,G81,0)","v":0},{"$f":"HLOOKUP($B$1,'Room Inputs'!$D$3:$X$137,H81,0)","v":0},{"$f":"IF(OR(G36=UvalueWD!C$6,G36=\"\"),\"\",VLOOKUP(G36,Windows,2,FALSE))","v":{"$error":"#N/A"}},"",{"$f":"IF(G36=UvaluesWRF!A$2,IF(ISERROR(F36*J36*(H36-F36)),\"\",F36*J36*(H36-F36)),IF(ISERROR(F36*J36*(F36-I36)),\"\",(I36-F36)*J36*I36))","v":""}]
[null,{"$f":"HLOOKUP($B$1,'Room Inputs'!$D$3:$X$137,B82,0)","v":0},{"$f":"HLOOKUP($B$1,'Room Inputs'!$D$3:$X$137,C82,0)","v":0},{"$f":"HLOOKUP($B$1,'Room Inputs'!$D$3:$X$137,D82,0)","v":0},0,{"$f":"IF(B37<>\"\",IF(VLOOKUP(B37,B$14:I$25,6,FALSE)=UvalueWD!$C$6,VLOOKUP(B37,B$14:I$25,7,FALSE),VLOOKUP(B37,B$14:I$25,8,FALSE)),\"\")","v":""},{"$f":"HLOOKUP($B$1,'Room Inputs'!$D$3:$X$137,G82,0)","v":0},{"$f":"HLOOKUP($B$1,'Room Inputs'!$D$3:$X$137,H82,0)","v":0},{"$f":"IF(OR(G37=UvalueWD!C$6,G37=\"\"),\"\",VLOOKUP(G37,Windows,2,FALSE))","v":{"$error":"#N/A"}},"",{"$f":"IF(G37=UvaluesWRF!A$2,IF(ISERROR(F37*J37*(H37-F37)),\"\",F37*J37*(H37-F37)),IF(ISERROR(F37*J37*(F37-I37)),\"\",(I37-F37)*J37*I37))","v":""}]
[null,{"$f":"HLOOKUP($B$1,'Room Inputs'!$D$3:$X$137,B83,0)","v":0},{"$f":"HLOOKUP($B$1,'Room Inputs'!$D$3:$X$137,C83,0)","v":0},{"$f":"HLOOKUP($B$1,'Room Inputs'!$D$3:$X$137,D83,0)","v":0},0,{"$f":"IF(B38<>\"\",IF(VLOOKUP(B38,B$14:I$25,6,FALSE)=UvalueWD!$C$6,VLOOKUP(B38,B$14:I$25,7,FALSE),VLOOKUP(B38,B$14:I$25,8,FALSE)),\"\")","v":""},{"$f":"HLOOKUP($B$1,'Room Inputs'!$D$3:$X$137,G83,0)","v":0},{"$f":"HLOOKUP($B$1,'Room Inputs'!$D$3:$X$137,H83,0)","v":0},{"$f":"IF(OR(G38=UvalueWD!C$6,G38=\"\"),\"\",VLOOKUP(G38,Windows,2,FALSE))","v":{"$error":"#N/A"}},"",{"$f":"IF(G38=UvaluesWRF!A$2,IF(ISERROR(F38*J38*(H38-F38)),\"\",F38*J38*(H38-F38)),IF(ISERROR(F38*J38*(F38-I38)),\"\",(I38-F38)*J38*I38))","v":""}]
[null,{"$f":"HLOOKUP($B$1,'Room Inputs'!$D$3:$X$137,B84,0)","v":0},{"$f":"HLOOKUP($B$1,'Room Inputs'!$D$3:$X$137,C84,0)","v":0},{"$f":"HLOOKUP($B$1,'Room Inputs'!$D$3:$X$137,D84,0)","v":0},0,{"$f":"IF(B39<>\"\",IF(VLOOKUP(B39,B$14:I$25,6,FALSE)=UvalueWD!$C$6,VLOOKUP(B39,B$14:I$25,7,FALSE),VLOOKUP(B39,B$14:I$25,8,FALSE)),\"\")","v":""},{"$f":"HLOOKUP($B$1,'Room Inputs'!$D$3:$X$137,G84,0)","v":0},{"$f":"HLOOKUP($B$1,'Room Inputs'!$D$3:$X$137,H84,0)","v":0},{"$f":"IF(OR(G39=UvalueWD!C$6,G39=\"\"),\"\",VLOOKUP(G39,Windows,2,FALSE))","v":{"$error":"#N/A"}},"",{"$f":"IF(G39=UvaluesWRF!A$2,IF(ISERROR(F39*J39*(H39-F39)),\"\",F39*J39*(H39-F39)),IF(ISERROR(F39*J39*(F39-I39)),\"\",(I39-F39)*J39*I39))","v":""}]
[]
[null,"* this is net heat loss (i.e. the heat loss of the window minus that of a wall of the same area) and so can be negative.  This is done so that the area of the window or door does not have to be subtracted from the wall area.  "]
[null,null,null,null,null,null,null,null,"Room heat loss (W)",null,{"$f":"SUM(K10:K39)","v":0}]
[]
[]
[]
[null,"Row number lookup map"]
[]
[null,"Room name",2,null,"Emitter type",3,"For convectors consult the manufacturer's data and enter the temperature factor (FTEMP) for the appropriate fan speed",4,"For radiators enter the n-coefficient (exponent) from manufacturer's data.  If unknown 1.3 may be used",null,5]
[]
[null,"Enter floor type and construction",6,null,"Enter floor type and construction",7,"For UFH enter Tog value (See Table 14)",8,"For UFH enter  active or exposed area of the heated floor ",null,9]
[]
[null,"Enter Room type below",null,null," Enter Open fire/chimney details below "]
[null,10,null,null,11]
[null,"Room Dimensions"]
[null,"Length (m)",null,"Width (m)",null,"Height (m)"]
[null,13,null,14,null,15]
[null,"Walls, floors not ground floors and ceiling"]
[null,"Name of wall, floor, ceiling","Space on other side","Height or length (m)","Width (m)",null,"Construction","Entered U-\u001evalue (W/m²K), if required"]
[null,16,17,18,19,null,20,21]
[null,22,23,24,25,null,26,27]
[null,28,29,30,31,null,32,33]
[null,35,36,37,38,null,39,40]
[null,41,42,43,44,null,45,46]
[null,47,48,49,50,null,51,52]
[null,53,54,55,56,null,57,58]
[null,59,60,61,62,null,63,64]
[null,65,66,67,68,null,69,70]
[null,71,72,73,74,null,75,76]
[null,77,78,79,80,null,81,82]
[null,83,84,85,86,null,87,88]
[null,"Ground floors \nShort length (m)","long length\n(m)","Edges exposed",null,null,"Type and Insulation  thickness"]
[null,89,90,91,92,null,92,93]
[null,95,96,97,null,null,98,99]
[null,100,101,102,null,null,103,104]
[]
[]
[null,"Windows and doors"]
[null,"Wall or roof with window or door","Window or door height (m)","Window or door width (m)","Area (m²)","Wall/roof U-value (W/m²K)","Frame and glazing type ","Entered U-\u001evalue (W/m²K), if required"]
[null,105,106,107,null,null,108,109]
[null,111,112,113,null,null,114,115]
[null,116,117,118,null,null,119,120]
[null,121,122,123,null,null,124,125]
[null,126,127,128,null,null,129,130]
[null,131,132,133,null,null,134,135]

{"sheet":"14","index":19,"n_rows":84,"n_cols":29,"rows_kept":84,"cut":false,"hidden":true,"merged":[[40,1,40,7],[41,8,41,9],[7,7,7,8],[4,8,4,9],[6,1,6,2],[6,4,6,5],[6,7,6,8],[47,8,47,9],[49,2,49,3],[49,8,49,9],[51,1,51,2],[51,4,51,5],[51,7,51,8],[52,1,52,2],[52,4,52,5],[52,7,52,8],[72,3,72,4],[73,3,73,4],[71,3,71,4]]}
[null,{"$f":"'Room Inputs'!R3","v":"Room14"}]
[]
[null,"Room name",{"$f":"HLOOKUP($B$1,'Room Inputs'!$D$3:$X$137,C48,0)","v":0},null,"Emitter type",{"$f":"HLOOKUP($B$1,'Room Inputs'!$D$3:$X$137,F48,0)","v":0},"For convectors consult the manufacturer's data and enter the temperature factor (FTEMP) for the appropriate fan speed",{"$f":"HLOOKUP($B$1,'Room Inputs'!$D$3:$X$137,H48,0)","v":0.85},"For radiators enter the n-coefficient (exponent) from manufacturer's data.  If unknown 1.3 may be used",null,{"$f":"HLOOKUP($B$1,'Room Inputs'!$D$3:$X$137,K48,0)","v":1.3}]
[]
[null,"Enter floor type and construction",{"$f":"HLOOKUP($B$1,'Room Inputs'!$D$3:$X$137,C50,0)","v":0},null,"Enter floor type and construction",{"$f":"HLOOKUP($B$1,'Room Inputs'!$D$3:$X$137,F50,0)","v":0},"For UFH enter Tog value (See Table 14)",{"$f":"HLOOKUP($B$1,'Room Inputs'!$D$3:$X$137,H50,0)","v":0.25},"For UFH enter  active or exposed area of the heated floor ",null,{"$f":"HLOOKUP($B$1,'Room Inputs'!$D$3:$X$137,K50,0)","v":0}]
[]
[null,"Enter Room type below",null,null," Enter Open fire/chimney details below ",null,null,"Design room ventilation rate (air changes per hour)",null,null,"Design room temperature °C"]
[null,{"$f":"HLOOKUP($B$1,'Room Inputs'!$D$3:$X$137,B53,0)","v":0},null,null,{"$f":"HLOOKUP($B$1,'Room Inputs'!$D$3:$X$137,E53,0)","v":0},null,null,{"$f":"IF(E8=VTables!B20,VLOOKUP(B8,DRVT,3,FALSE),MAX(VLOOKUP(B8,DRVT,3,FALSE),VLOOKUP(E8,ARVR,2,FALSE)))","v":{"$error":"#N/A"}},null,null,{"$f":"VLOOKUP(B8,DRVT,2,FALSE)","v":{"$error":"#N/A"}}]
[null,"Room Dimensions"]
[null,"Length (m)",null,"Width (m)",null,"Height (m)","Room volume (m³) ",null,null,"Design temperature difference","Heat loss (W)"]
[null,{"$f":"HLOOKUP($B$1,'Room Inputs'!$D$3:$X$137,B56,0)","v":0},null,{"$f":"HLOOKUP($B$1,'Room Inputs'!$D$3:$X$137,D56,0)","v":0},null,{"$f":"HLOOKUP($B$1,'Room Inputs'!$D$3:$X$137,F56,0)","v":0},{"$f":"B11*D11*F11","v":0},null,null,{"$f":"K8-'Site Inputs'!C8","v":{"$error":"#N/A"}},{"$f":"IF(G11>0,(ROUND(0.33*G11*H8*J11,2)),\"\")","v":""}]
[null,"Walls, floors not ground floors and ceiling"]
[null,"Name of wall, floor, ceiling","Space on other side","Height or length (m)","Width (m)","Area (m²)","Construction","Entered U-\u001evalue (W/m²K), if required","U-value (W/m²K)","Design temperature difference","Heat loss (W)",null,"`"]
[null,{"$f":"HLOOKUP($B$1,'Room Inputs'!$D$3:$X$137,B59,0)","v":0},{"$f":"HLOOKUP($B$1,'Room Inputs'!$D$3:$X$137,C59,0)","v":0},{"$f":"HLOOKUP($B$1,'Room Inputs'!$D$3:$X$137,D59,0)","v":0},{"$f":"HLOOKUP($B$1,'Room Inputs'!$D$3:$X$137,E59,0)","v":0},{"$f":"D14*E14","v":0},{"$f":"HLOOKUP($B$1,'Room Inputs'!$D$3:$X$137,G59,0)","v":0},{"$f":"HLOOKUP($B$1,'Room Inputs'!$D$3:$X$137,H59,0)","v":0},{"$f":"IF(OR(G14=UvaluesWRF!A$2,ISERROR(VLOOKUP(G14,UvaluesWRF!A$3:B$110,2,FALSE))),\"\",VLOOKUP(G14,UvaluesWRF!A$3:B$110,2,FALSE))","v":""},{"$f":"IF(C14=\"\",\"\",$K$8-VLOOKUP(C14,DRVT,2,FALSE))","v":{"$error":"#N/A"}},{"$f":"IF(G14=UvaluesWRF!A$2,IF(ISERROR(F14*J14*H14),\"\",F14*J14*H14),IF(ISERROR(F14*J14*I14),\"\",F14*J14*I14))","v":""}]
[null,{"$f":"HLOOKUP($B$1,'Room Inputs'!$D$3:$X$137,B60,0)","v":0},{"$f":"HLOOKUP($B$1,'Room Inputs'!$D$3:$X$137,C60,0)","v":0},{"$f":"HLOOKUP($B$1,'Room Inputs'!$D$3:$X$137,D60,0)","v":0},{"$f":"HLOOKUP($B$1,'Room Inputs'!$D$3:$X$137,E60,0)","v":0},{"$f":"D15*E15","v":0},{"$f":"HLOOKUP($B$1,'Room Inputs'!$D$3:$X$137,G60,0)","v":0},{"$f":"HLOOKUP($B$1,'Room Inputs'!$D$3:$X$137,H60,0)","v":0},{"$f":"IF(OR(G15=UvaluesWRF!A$2,ISERROR(VLOOKUP(G15,UvaluesWRF!A$3:B$110,2,FALSE))),\"\",VLOOKUP(G15,UvaluesWRF!A$3:B$110,2,FALSE))","v":""},{"$error":"#N/A"},{"$f":"IF(G15=UvaluesWRF!A$2,IF(ISERROR(F15*J15*H15),\"\",F15*J15*H15),IF(ISERROR(F15*J15*I15),\"\",F15*J15*I15))","v":""}]
[null,{"$f":"HLOOKUP($B$1,'Room Inputs'!$D$3:$X$137,B61,0)","v":0},{"$f":"HLOOKUP($B$1,'Room Inputs'!$D$3:$X$137,C61,0)","v":0},{"$f":"HLOOKUP($B$1,'Room Inputs'!$D$3:$X$137,D61,0)","v":0},{"$f":"HLOOKUP($B$1,'Room Inputs'!$D$3:$X$137,E61,0)","v":0},0,{"$f":"HLOOKUP($B$1,'Room Inputs'!$D$3:$X$137,G61,0)","v":0},{"$f":"HLOOKUP($B$1,'Room Inputs'!$D$3:$X$137,H61,0)","v":0},{"$f":"IF(OR(G16=UvaluesWRF!A$2,ISERROR(VLOOKUP(G16,UvaluesWRF!A$3:B$110,2,FALSE))),\"\",VLOOKUP(G16,UvaluesWRF!A$3:B$110,2,FALSE))","v":""},{"$error":"#N/A"},{"$f":"IF(G16=UvaluesWRF!A$2,IF(ISERROR(F16*J16*H16),\"\",F16*J16*H16),IF(ISERROR(F16*J16*I16),\"\",F16*J16*I16))","v":""}]
[null,{"$f":"HLOOKUP($B$1,'Room Inputs'!$D$3:$X$137,B62,0)","v":0},{"$f":"HLOOKUP($B$1,'Room Inputs'!$D$3:$X$137,C62,0)","v":0},{"$f":"HLOOKUP($B$1,'Room Inputs'!$D$3:$X$137,D62,0)","v":0},{"$f":"HLOOKUP($B$1,'Room Inputs'!$D$3:$X$137,E62,0)","v":0},0,{"$f":"HLOOKUP($B$1,'Room Inputs'!$D$3:$X$137,G62,0)","v":0},{"$f":"HLOOKUP($B$1,'Room Inputs'!$D$3:$X$137,H62,0)","v":0},{"$f":"IF(OR(G17=UvaluesWRF!A$2,ISERROR(VLOOKUP(G17,UvaluesWRF!A$3:B$110,2,FALSE))),\"\",VLOOKUP(G17,UvaluesWRF!A$3:B$110,2,FALSE))","v":""},{"$error":"#N/A"},{"$f":"IF(G17=UvaluesWRF!A$2,IF(ISERROR(F17*J17*H17),\"\",F17*J17*H17),IF(ISERROR(F17*J17*I17),\"\",F17*J17*I17))","v":""}]
[null,{"$f":"HLOOKUP($B$1,'Room Inputs'!$D$3:$X$137,B63,0)","v":0},{"$f":"HLOOKUP($B$1,'Room Inputs'!$D$3:$X$137,C63,0)","v":0},{"$f":"HLOOKUP($B$1,'Room Inputs'!$D$3:$X$137,D63,0)","v":0},{"$f":"HLOOKUP($B$1,'Room Inputs'!$D$3:$X$137,E63,0)","v":0},0,{"$f":"HLOOKUP($B$1,'Room Inputs'!$D$3:$X$137,G63,0)","v":0},{"$f":"HLOOKUP($B$1,'Room Inputs'!$D$3:$X$137,H63,0)","v":0},{"$f":"IF(OR(G18=UvaluesWRF!A$2,ISERROR(VLOOKUP(G18,UvaluesWRF!A$3:B$110,2,FALSE))),\"\",VLOOKUP(G18,UvaluesWRF!A$3:B$110,2,FALSE))","v":""},{"$error":"#N/A"},{"$f":"IF(G18=UvaluesWRF!A$2,IF(ISERROR(F18*J18*H18),\"\",F18*J18*H18),IF(ISERROR(F18*J18*I18),\"\",F18*J18*I18))","v":""}]
[null,{"$f":"HLOOKUP($B$1,'Room Inputs'!$D$3:$X$137,B64,0)","v":0},{"$f":"HLOOKUP($B$1,'Room Inputs'!$D$3:$X$137,C64,0)","v":0},{"$f":"HLOOKUP($B$1,'Room Inputs'!$D$3:$X$137,D64,0)","v":0},{"$f":"HLOOKUP($B$1,'Room Inputs'!$D$3:$X$137,E64,0)","v":0},0,{"$f":"HLOOKUP($B$1,'Room Inputs'!$D$3:$X$137,G64,0)","v":0},{"$f":"HLOOKUP($B$1,'Room Inputs'!$D$3:$X$137,H64,0)","v":0},{"$f":"IF(OR(G19=UvaluesWRF!A$2,ISERROR(VLOOKUP(G19,UvaluesWRF!A$3:B$110,2,FALSE))),\"\",VLOOKUP(G19,UvaluesWRF!A$3:B$110,2,FALSE))","v":""},{"$error":"#N/A"},{"$f":"IF(G19=UvaluesWRF!A$2,IF(ISERROR(F19*J19*H19),\"\",F19*J19*H19),IF(ISERROR(F19*J19*I19),\"\",F19*J19*I19))","v":""}]
[null,{"$f":"HLOOKUP($B$1,'Room Inputs'!$D$3:$X$137,B65,0)","v":0},{"$f":"HLOOKUP($B$1,'Room Inputs'!$D$3:$X$137,C65,0)","v":0},{"$f":"HLOOKUP($B$1,'Room Inputs'!$D$3:$X$137,D65,0)","v":0},{"$f":"HLOOKUP($B$1,'Room Inputs'!$D$3:$X$137,E65,0)","v":0},0,{"$f":"HLOOKUP($B$1,'Room Inputs'!$D$3:$X$137,G65,0)","v":0},{"$f":"HLOOKUP($B$1,'Room Inputs'!$D$3:$X$137,H65,0)","v":0},{"$f":"IF(OR(G20=UvaluesWRF!A$2,ISERROR(VLOOKUP(G20,UvaluesWRF!A$3:B$110,2,FALSE))),\"\",VLOOKUP(G20,UvaluesWRF!A$3:B$110,2,FALSE))","v":""},{"$error":"#N/A"},{"$f":"IF(G20=UvaluesWRF!A$2,IF(ISERROR(F20*J20*H20),\"\",F20*J20*H20),IF(ISERROR(F20*J20*I20),\"\",F20*J20*I20))","v":""}]
[null,{"$f":"HLOOKUP($B$1,'Room Inputs'!$D$3:$X$137,B66,0)","v":0},{"$f":"HLOOKUP($B$1,'Room Inputs'!$D$3:$X$137,C66,0)","v":0},{"$f":"HLOOKUP($B$1,'Room Inputs'!$D$3:$X$137,D66,0)","v":0},{"$f":"HLOOKUP($B$1,'Room Inputs'!$D$3:$X$137,E66,0)","v":0},0,{"$f":"HLOOKUP($B$1,'Room Inputs'!$D$3:$X$137,G66,0)","v":0},{"$f":"HLOOKUP($B$1,'Room Inputs'!$D$3:$X$137,H66,0)","v":0},{"$f":"IF(OR(G21=UvaluesWRF!A$2,ISERROR(VLOOKUP(G21,UvaluesWRF!A$3:B$110,2,FALSE))),\"\",VLOOKUP(G21,UvaluesWRF!A$3:B$110,2,FALSE))","v":""},{"$error":"#N/A"},{"$f":"IF(G21=UvaluesWRF!A$2,IF(ISERROR(F21*J21*H21),\"\",F21*J21*H21),IF(ISERROR(F21*J21*I21),\"\",F21*J21*I21))","v":""}]
[null,{"$f":"HLOOKUP($B$1,'Room Inputs'!$D$3:$X$137,B67,0)","v":0},{"$f":"HLOOKUP($B$1,'Room Inputs'!$D$3:$X$137,C67,0)","v":0},{"$f":"HLOOKUP($B$1,'Room Inputs'!$D$3:$X$137,D67,0)","v":0},{"$f":"HLOOKUP($B$1,'Room Inputs'!$D$3:$X$137,E67,0)","v":0},0,{"$f":"HLOOKUP($B$1,'Room Inputs'!$D$3:$X$137,G67,0)","v":0},{"$f":"HLOOKUP($B$1,'Room Inputs'!$D$3:$X$137,H67,0)","v":0},{"$f":"IF(OR(G22=UvaluesWRF!A$2,ISERROR(VLOOKUP(G22,UvaluesWRF!A$3:B$110,2,FALSE))),\"\",VLOOKUP(G22,UvaluesWRF!A$3:B$110,2,FALSE))","v":""},{"$error":"#N/A"},{"$f":"IF(G22=UvaluesWRF!A$2,IF(ISERROR(F22*J22*H22),\"\",F22*J22*H22),IF(ISERROR(F22*J22*I22),\"\",F22*J22*I22))","v":""}]
[null,{"$f":"HLOOKUP($B$1,'Room Inputs'!$D$3:$X$137,B68,0)","v":0},{"$f":"HLOOKUP($B$1,'Room Inputs'!$D$3:$X$137,C68,0)","v":0},{"$f":"HLOOKUP($B$1,'Room Inputs'!$D$3:$X$137,D68,0)","v":0},{"$f":"HLOOKUP($B$1,'Room Inputs'!$D$3:$X$137,E68,0)","v":0},0,{"$f":"HLOOKUP($B$1,'Room Inputs'!$D$3:$X$137,G68,0)","v":0},{"$f":"HLOOKUP($B$1,'Room Inputs'!$D$3:$X$137,H68,0)","v":0},{"$f":"IF(OR(G23=UvaluesWRF!A$2,ISERROR(VLOOKUP(G23,UvaluesWRF!A$3:B$110,2,FALSE))),\"\",VLOOKUP(G23,UvaluesWRF!A$3:B$110,2,FALSE))","v":""},{"$error":"#N/A"},{"$f":"IF(G23=UvaluesWRF!A$2,IF(ISERROR(F23*J23*H23),\"\",F23*J23*H23),IF(ISERROR(F23*J23*I23),\"\",F23*J23*I23))","v":""}]
[null,{"$f":"HLOOKUP($B$1,'Room Inputs'!$D$3:$X$137,B69,0)","v":0},{"$f":"HLOOKUP($B$1,'Room Inputs'!$D$3:$X$137,C69,0)","v":0},{"$f":"HLOOKUP($B$1,'Room Inputs'!$D$3:$X$137,D69,0)","v":0},{"$f":"HLOOKUP($B$1,'Room Inputs'!$D$3:$X$137,E69,0)","v":0},0,{"$f":"HLOOKUP($B$1,'Room Inputs'!$D$3:$X$137,G69,0)","v":0},{"$f":"HLOOKUP($B$1,'Room Inputs'!$D$3:$X$137,H69,0)","v":0},{"$f":"IF(OR(G24=UvaluesWRF!A$2,ISERROR(VLOOKUP(G24,UvaluesWRF!A$3:B$110,2,FALSE))),\"\",VLOOKUP(G24,UvaluesWRF!A$3:B$110,2,FALSE))","v":""},{"$error":"#N/A"},{"$f":"IF(G24=UvaluesWRF!A$2,IF(ISERROR(F24*J24*H24),\"\",F24*J24*H24),IF(ISERROR(F24*J24*I24),\"\",F24*J24*I24))","v":""}]
[null,{"$f":"HLOOKUP($B$1,'Room Inputs'!$D$3:$X$137,B70,0)","v":0},{"$f":"HLOOKUP($B$1,'Room Inputs'!$D$3:$X$137,C70,0)","v":0},{"$f":"HLOOKUP($B$1,'Room Inputs'!$D$3:$X$137,D70,0)","v":0},{"$f":"HLOOKUP($B$1,'Room Inputs'!$D$3:$X$137,E70,0)","v":0},0,{"$f":"HLOOKUP($B$1,'Room Inputs'!$D$3:$X$137,G70,0)","v":0},{"$f":"HLOOKUP($B$1,'Room Inputs'!$D$3:$X$137,H70,0)","v":0},{"$f":"IF(OR(G25=UvaluesWRF!A$2,ISERROR(VLOOKUP(G25,UvaluesWRF!A$3:B$110,2,FALSE))),\"\",VLOOKUP(G25,UvaluesWRF!A$3:B$110,2,FALSE))","v":""},{"$error":"#N/A"},{"$f":"IF(G25=UvaluesWRF!A$2,IF(ISERROR(F25*J25*H25),\"\",F25*J25*H25),IF(ISERROR(F25*J25*I25),\"\",F25*J25*I25))","v":""}]
[null,"Ground floors \nShort length (m)","long length\n(m)","Edges exposed",null,null,"Type and Insulation  thickness",null,null,null,null,null,"U-value","Edge","Insulation","Column",null,1,2,3,4,5.3,5.4,5.5,5.6,6.3,6.4,6.5,6.6]
[null,{"$f":"HLOOKUP($B$1,'Room Inputs'!$D$3:$X$137,B72,0)","v":0},{"$f":"HLOOKUP($B$1,'Room Inputs'!$D$3:$X$137,C72,0)","v":0},{"$f":"HLOOKUP($B$1,'Room Inputs'!$D$3:$X$137,D72,0)","v":0},{"$f":"HLOOKUP($B$1,'Room Inputs'!$D$3:$X$137,E72,0)","v":0},{"$f":"B27*C27","v":0},{"$f":"HLOOKUP($B$1,'Room Inputs'!$D$3:$X$137,G72,0)","v":0},{"$f":"HLOOKUP($B$1,'Room Inputs'!$D$3:$X$137,H72,0)","v":0},{"$f":"IF(OR(G27=UvaluesFlr!$U$3,G27=UvaluesFlr!$U$4,ISERROR(M27)),\"\",M27)","v":""},{"$f":"$K$8-IF(LEFT(G27,2)=\"So\",10,'Site Inputs'!$C$8)","v":{"$error":"#N/A"}},{"$f":"IF(OR(G27=UvaluesFlr!$U$3,G27=UvaluesFlr!$U$4),IF(ISERROR(F27*J27*H27),\"\",F27*J27*H27),IF(ISERROR(F27*J27*I27),\"\",F27*J27*I27))","v":""},null,{"$f":"HLOOKUP(N27+MIN(0.6,IF(N27>4,O27/10,0)),$R$26:$AC$29,2,TRUE)","v":{"$error":"#N/A"}},{"$f":"VLOOKUP(D27,UvaluesFlr!$U$17:$V$22,2,FALSE)","v":{"$error":"#N/A"}},{"$f":"VLOOKUP(G27,UvaluesFlr!$U$3:$W$14,2,FALSE)","v":{"$error":"#N/A"}},{"$f":"VLOOKUP(G27,UvaluesFlr!$U$3:$W$14,3,FALSE)","v":{"$error":"#N/A"}},null,{"$f":"VLOOKUP(C27,UvaluesFlr!$C$53:$P$59,$P27,TRUE)","v":{"$error":"#N/A"}},{"$f":"VLOOKUP(B27,UvaluesFlr!$C$53:$P$59,$P27,TRUE)","v":{"$error":"#N/A"}},{"$f":"VLOOKUP(B27+C27,UvaluesFlr!$C$4:$P$12,$P27,TRUE)","v":{"$error":"#N/A"}},{"$f":"VLOOKUP(B27,UvaluesFlr!$C$16:$P$21,$P27,TRUE)","v":{"$error":"#N/A"}},{"$f":"VLOOKUP($C27,UvaluesFlr!$D$26:$P$29,$P27-1,TRUE)","v":{"$error":"#N/A"}},{"$f":"VLOOKUP($C27,UvaluesFlr!$D$30:$P$31,$P27-1,TRUE)","v":{"$error":"#N/A"}},{"$f":"VLOOKUP($C27,UvaluesFlr!$D$32:$P$33,$P27-1,TRUE)","v":{"$error":"#N/A"}},{"$f":"VLOOKUP($C27,UvaluesFlr!$D$34:$P$35,$P27-1,TRUE)","v":{"$error":"#N/A"}},{"$f":"VLOOKUP($C27,UvaluesFlr!$D$39:$P$42,$P27-1,TRUE)","v":{"$error":"#N/A"}},{"$f":"VLOOKUP($C27,UvaluesFlr!$D$43:$P$45,$P27-1,TRUE)","v":{"$error":"#N/A"}},{"$f":"VLOOKUP($C27,UvaluesFlr!$D$46:$P$48,$P27-1,TRUE)","v":{"$error":"#N/A"}},{"$f":"VLOOKUP($C27,UvaluesFlr!$D$49:$P$50,$P27-1,TRUE)","v":{"$error":"#N/A"}}]
[null,{"$f":"HLOOKUP($B$1,'Room Inputs'!$D$3:$X$137,B73,0)","v":0},{"$f":"HLOOKUP($B$1,'Room Inputs'!$D$3:$X$137,C73,0)","v":0},{"$f":"HLOOKUP($B$1,'Room Inputs'!$D$3:$X$137,D73,0)","v":0},{"$f":"HLOOKUP($B$1,'Room Inputs'!$D$3:$X$137,E73,0)","v":{"$error":"#VALUE!"}},{"$f":"B28*C28","v":0},{"$f":"HLOOKUP($B$1,'Room Inputs'!$D$3:$X$137,G73,0)","v":0},{"$f":"HLOOKUP($B$1,'Room Inputs'!$D$3:$X$137,H73,0)","v":0},{"$f":"IF(OR(G28=UvaluesFlr!$U$3,G28=UvaluesFlr!$U$4,ISERROR(M28)),\"\",M28)","v":""},{"$f":"$K$8-IF(LEFT(G28,2)=\"So\",10,'Site Inputs'!$C$8)","v":{"$error":"#N/A"}},{"$f":"IF(OR(G28=UvaluesFlr!$U$3,G28=UvaluesFlr!$U$4),IF(ISERROR(F28*J28*H28),\"\",F28*J28*H28),IF(ISERROR(F28*J28*I28),\"\",F28*J28*I28))","v":""},null,{"$f":"HLOOKUP(N28+MIN(0.6,IF(N28>4,O28/10,0)),$R$26:$AC$29,3,TRUE)","v":{"$error":"#N/A"}},{"$f":"VLOOKUP(D28,UvaluesFlr!$U$17:$V$22,2,FALSE)","v":{"$error":"#N/A"}},{"$f":"VLOOKUP(G28,UvaluesFlr!$U$3:$W$14,2,FALSE)","v":{"$error":"#N/A"}},{"$f":"VLOOKUP(G28,UvaluesFlr!$U$3:$W$14,3,FALSE)","v":{"$error":"#N/A"}},null,{"$f":"VLOOKUP(C28,UvaluesFlr!$C$53:$P$59,$P28,TRUE)","v":{"$error":"#N/A"}},{"$f":"VLOOKUP(B28,UvaluesFlr!$C$53:$P$59,$P28,TRUE)","v":{"$error":"#N/A"}},{"$f":"VLOOKUP(B28+C28,UvaluesFlr!$C$4:$P$12,$P28,TRUE)","v":{"$error":"#N/A"}},{"$f":"VLOOKUP(B28,UvaluesFlr!$C$16:$P$21,$P28,TRUE)","v":{"$error":"#N/A"}},{"$f":"VLOOKUP($C28,UvaluesFlr!$D$26:$P$29,$P28-1,TRUE)","v":{"$error":"#N/A"}},{"$f":"VLOOKUP($C28,UvaluesFlr!$D$30:$P$31,$P28-1,TRUE)","v":{"$error":"#N/A"}},{"$f":"VLOOKUP($C28,UvaluesFlr!$D$32:$P$33,$P28-1,TRUE)","v":{"$error":"#N/A"}},{"$f":"VLOOKUP($C28,UvaluesFlr!$D$34:$P$35,$P28-1,TRUE)","v":{"$error":"#N/A"}},{"$f":"VLOOKUP($C28,UvaluesFlr!$D$39:$P$42,$P28-1,TRUE)","v":{"$error":"#N/A"}},{"$f":"VLOOKUP($C28,UvaluesFlr!$D$43:$P$45,$P28-1,TRUE)","v":{"$error":"#N/A"}},{"$f":"VLOOKUP($C28,UvaluesFlr!$D$46:$P$48,$P28-1,TRUE)","v":{"$error":"#N/A"}},{"$f":"VLOOKUP($C28,UvaluesFlr!$D$49:$P$50,$P28-1,TRUE)","v":{"$error":"#N/A"}}]
[null,{"$f":"HLOOKUP($B$1,'Room Inputs'!$D$3:$X$137,B74,0)","v":0},{"$f":"HLOOKUP($B$1,'Room Inputs'!$D$3:$X$137,C74,0)","v":0},{"$f":"HLOOKUP($B$1,'Room Inputs'!$D$3:$X$137,D74,0)","v":0},{"$f":"HLOOKUP($B$1,'Room Inputs'!$D$3:$X$137,E74,0)","v":{"$error":"#VALUE!"}},{"$f":"B29*C29","v":0},{"$f":"HLOOKUP($B$1,'Room Inputs'!$D$3:$X$137,G74,0)","v":0},{"$f":"HLOOKUP($B$1,'Room Inputs'!$D$3:$X$137,H74,0)","v":0},{"$f":"IF(OR(G29=UvaluesFlr!$U$3,G29=UvaluesFlr!$U$4,ISERROR(M29)),\"\",M29)","v":""},{"$f":"$K$8-IF(LEFT(G29,2)=\"So\",10,'Site Inputs'!$C$8)","v":{"$error":"#N/A"}},{"$f":"IF(OR(G29=UvaluesFlr!$U$3,G29=UvaluesFlr!$U$4),IF(ISERROR(F29*J29*H29),\"\",F29*J29*H29),IF(ISERROR(F29*J29*I29),\"\",F29*J29*I29))","v":""},null,{"$f":"HLOOKUP(N29+MIN(0.6,IF(N29>4,O29/10,0)),$R$26:$AC$29,4,TRUE)","v":{"$error":"#N/A"}},{"$f":"VLOOKUP(D29,UvaluesFlr!$U$17:$V$22,2,FALSE)","v":{"$error":"#N/A"}},{"$f":"VLOOKUP(G29,UvaluesFlr!$U$3:$W$14,2,FALSE)","v":{"$error":"#N/A"}},{"$f":"VLOOKUP(G29,UvaluesFlr!$U$3:$W$14,3,FALSE)","v":{"$error":"#N/A"}},null,{"$f":"VLOOKUP(C29,UvaluesFlr!$C$53:$P$59,$P29,TRUE)","v":{"$error":"#N/A"}},{"$f":"VLOOKUP(B29,UvaluesFlr!$C$53:$P$59,$P29,TRUE)","v":{"$error":"#N/A"}},{"$f":"VLOOKUP(B29+C29,UvaluesFlr!$C$4:$P$12,$P29,TRUE)","v":{"$error":"#N/A"}},{"$f":"VLOOKUP(B29,UvaluesFlr!$C$16:$P$21,$P29,TRUE)","v":{"$error":"#N/A"}},{"$f":"VLOOKUP($C29,UvaluesFlr!$D$26:$P$29,$P29-1,TRUE)","v":{"$error":"#N/A"}},{"$f":"VLOOKUP($C29,UvaluesFlr!$D$30:$P$31,$P29-1,TRUE)","v":{"$error":"#N/A"}},{"$f":"VLOOKUP($C29,UvaluesFlr!$D$32:$P$33,$P29-1,TRUE)","v":{"$error":"#N/A"}},{"$f":"VLOOKUP($C29,UvaluesFlr!$D$34:$P$35,$P29-1,TRUE)","v":{"$error":"#N/A"}},{"$f":"VLOOKUP($C29,UvaluesFlr!$D$39:$P$42,$P29-1,TRUE)","v":{"$error":"#N/A"}},{"$f":"VLOOKUP($C29,UvaluesFlr!$D$43:$P$45,$P29-1,TRUE)","v":{"$error":"#N/A"}},{"$f":"VLOOKUP($C29,UvaluesFlr!$D$46:$P$48,$P29-1,TRUE)","v":{"$error":"#N/A"}},{"$f":"VLOOKUP($C29,UvaluesFlr!$D$49:$P$50,$P29-1,TRUE)","v":{"$error":"#N/A"}}]
[]
[]
[null,"Windows and doors"]
[null,"Wall or roof with window or door","Window or door height (m)","Window or door width (m)","Area (m²)","Wall/roof U-value (W/m²K)","Frame and glazing type ","Entered U-\u001evalue (W/m²K), if required","U-value","Design temperature difference","Heat loss (W)*"]
[null,{"$f":"HLOOKUP($B$1,'Room Inputs'!$D$3:$X$137,B79,0)","v":0},{"$f":"HLOOKUP($B$1,'Room Inputs'!$D$3:$X$137,C79,0)","v":0},{"$f":"HLOOKUP($B$1,'Room Inputs'!$D$3:$X$137,D79,0)","v":0},{"$f":"C34*D34","v":0},{"$f":"IF(B34<>\"\",IF(VLOOKUP(B34,B$14:I$25,6,FALSE)=UvalueWD!$C$6,VLOOKUP(B34,B$14:I$25,7,FALSE),VLOOKUP(B34,B$14:I$25,8,FALSE)),\"\")","v":""},{"$f":"HLOOKUP($B$1,'Room Inputs'!$D$3:$X$137,G79,0)","v":0},{"$f":"HLOOKUP($B$1,'Room Inputs'!$D$3:$X$137,H79,0)","v":0},{"$f":"IF(OR(G34=UvalueWD!C$6,G34=\"\"),\"\",VLOOKUP(G34,Windows,2,FALSE))","v":{"$error":"#N/A"}},{"$f":"IF(ISERROR(VLOOKUP(B34,B$13:K$29,9,FALSE)),\"\",VLOOKUP(B34,B$13:K$29,9,FALSE))","v":""},{"$f":"IF(G34=UvaluesWRF!A$2,IF(ISERROR(F34*J34*(H34-F34)),\"\",F34*J34*(H34-F34)),IF(ISERROR(F34*J34*(F34-I34)),\"\",(I34-F34)*J34*I34))","v":""}]
[null,{"$f":"HLOOKUP($B$1,'Room Inputs'!$D$3:$X$137,B80,0)","v":0},{"$f":"HLOOKUP($B$1,'Room Inputs'!$D$3:$X$137,C80,0)","v":0},{"$f":"HLOOKUP($B$1,'Room Inputs'!$D$3:$X$137,D80,0)","v":0},0,{"$f":"IF(B35<>\"\",IF(VLOOKUP(B35,B$14:I$25,6,FALSE)=UvalueWD!$C$6,VLOOKUP(B35,B$14:I$25,7,FALSE),VLOOKUP(B35,B$14:I$25,8,FALSE)),\"\")","v":""},{"$f":"HLOOKUP($B$1,'Room Inputs'!$D$3:$X$137,G80,0)","v":0},{"$f":"HLOOKUP($B$1,'Room Inputs'!$D$3:$X$137,H80,0)","v":0},{"$f":"IF(OR(G35=UvalueWD!C$6,G35=\"\"),\"\",VLOOKUP(G35,Windows,2,FALSE))","v":{"$error":"#N/A"}},"",{"$f":"IF(G35=UvaluesWRF!A$2,IF(ISERROR(F35*J35*(H35-F35)),\"\",F35*J35*(H35-F35)),IF(ISERROR(F35*J35*(F35-I35)),\"\",(I35-F35)*J35*I35))","v":""}]
[null,{"$f":"HLOOKUP($B$1,'Room Inputs'!$D$3:$X$137,B81,0)","v":0},{"$f":"HLOOKUP($B$1,'Room Inputs'!$D$3:$X$137,C81,0)","v":0},{"$f":"HLOOKUP($B$1,'Room Inputs'!$D$3:$X$137,D81,0)","v":0},0,{"$f":"IF(B36<>\"\",IF(VLOOKUP(B36,B$14:I$25,6,FALSE)=UvalueWD!$C$6,VLOOKUP(B36,B$14:I$25,7,FALSE),VLOOKUP(B36,B$14:I$25,8,FALSE)),\"\")","v":""},{"$f":"HLOOKUP($B$1,'Room Inputs'!$D$3:$X$137,G81,0)","v":0},{"$f":"HLOOKUP($B$1,'Room Inputs'!$D$3:$X$137,H81,0)","v":0},{"$f":"IF(OR(G36=UvalueWD!C$6,G36=\"\"),\"\",VLOOKUP(G36,Windows,2,FALSE))","v":{"$error":"#N/A"}},"",{"$f":"IF(G36=UvaluesWRF!A$2,IF(ISERROR(F36*J36*(H36-F36)),\"\",F36*J36*(H36-F36)),IF(ISERROR(F36*J36*(F36-I36)),\"\",(I36-F36)*J36*I36))","v":""}]
[null,{"$f":"HLOOKUP($B$1,'Room Inputs'!$D$3:$X$137,B82,0)","v":0},{"$f":"HLOOKUP($B$1,'Room Inputs'!$D$3:$X$137,C82,0)","v":0},{"$f":"HLOOKUP($B$1,'Room Inputs'!$D$3:$X$137,D82,0)","v":0},0,{"$f":"IF(B37<>\"\",IF(VLOOKUP(B37,B$14:I$25,6,FALSE)=UvalueWD!$C$6,VLOOKUP(B37,B$14:I$25,7,FALSE),VLOOKUP(B37,B$14:I$25,8,FALSE)),\"\")","v":""},{"$f":"HLOOKUP($B$1,'Room Inputs'!$D$3:$X$137,G82,0)","v":0},{"$f":"HLOOKUP($B$1,'Room Inputs'!$D$3:$X$137,H82,0)","v":0},{"$f":"IF(OR(G37=UvalueWD!C$6,G37=\"\"),\"\",VLOOKUP(G37,Windows,2,FALSE))","v":{"$error":"#N/A"}},"",{"$f":"IF(G37=UvaluesWRF!A$2,IF(ISERROR(F37*J37*(H37-F37)),\"\",F37*J37*(H37-F37)),IF(ISERROR(F37*J37*(F37-I37)),\"\",(I37-F37)*J37*I37))","v":""}]
[null,{"$f":"HLOOKUP($B$1,'Room Inputs'!$D$3:$X$137,B83,0)","v":0},{"$f":"HLOOKUP($B$1,'Room Inputs'!$D$3:$X$137,C83,0)","v":0},{"$f":"HLOOKUP($B$1,'Room Inputs'!$D$3:$X$137,D83,0)","v":0},0,{"$f":"IF(B38<>\"\",IF(VLOOKUP(B38,B$14:I$25,6,FALSE)=UvalueWD!$C$6,VLOOKUP(B38,B$14:I$25,7,FALSE),VLOOKUP(B38,B$14:I$25,8,FALSE)),\"\")","v":""},{"$f":"HLOOKUP($B$1,'Room Inputs'!$D$3:$X$137,G83,0)","v":0},{"$f":"HLOOKUP($B$1,'Room Inputs'!$D$3:$X$137,H83,0)","v":0},{"$f":"IF(OR(G38=UvalueWD!C$6,G38=\"\"),\"\",VLOOKUP(G38,Windows,2,FALSE))","v":{"$error":"#N/A"}},"",{"$f":"IF(G38=UvaluesWRF!A$2,IF(ISERROR(F38*J38*(H38-F38)),\"\",F38*J38*(H38-F38)),IF(ISERROR(F38*J38*(F38-I38)),\"\",(I38-F38)*J38*I38))","v":""}]
[null,{"$f":"HLOOKUP($B$1,'Room Inputs'!$D$3:$X$137,B84,0)","v":0},{"$f":"HLOOKUP($B$1,'Room Inputs'!$D$3:$X$137,C84,0)","v":0},{"$f":"HLOOKUP($B$1,'Room Inputs'!$D$3:$X$137,D84,0)","v":0},0,{"$f":"IF(B39<>\"\",IF(VLOOKUP(B39,B$14:I$25,6,FALSE)=UvalueWD!$C$6,VLOOKUP(B39,B$14:I$25,7,FALSE),VLOOKUP(B39,B$14:I$25,8,FALSE)),\"\")","v":""},{"$f":"HLOOKUP($B$1,'Room Inputs'!$D$3:$X$137,G84,0)","v":0},{"$f":"HLOOKUP($B$1,'Room Inputs'!$D$3:$X$137,H84,0)","v":0},{"$f":"IF(OR(G39=UvalueWD!C$6,G39=\"\"),\"\",VLOOKUP(G39,Windows,2,FALSE))","v":{"$error":"#N/A"}},"",{"$f":"IF(G39=UvaluesWRF!A$2,IF(ISERROR(F39*J39*(H39-F39)),\"\",F39*J39*(H39-F39)),IF(ISERROR(F39*J39*(F39-I39)),\"\",(I39-F39)*J39*I39))","v":""}]
[]
[null,"* this is net heat loss (i.e. the heat loss of the window minus that of a wall of the same area) and so can be negative.  This is done so that the area of the window or door does not have to be subtracted from the wall area.  "]
[null,null,null,null,null,null,null,null,"Room heat loss (W)",null,{"$f":"SUM(K10:K39)","v":0}]
[]
[]
[]
[null,"Row number lookup map"]
[]
[null,"Room name",2,null,"Emitter type",3,"For convectors consult the manufacturer's data and enter the temperature factor (FTEMP) for the appropriate fan speed",4,"For radiators enter the n-coefficient (exponent) from manufacturer's data.  If unknown 1.3 may be used",null,5]
[]
[null,"Enter floor type and construction",6,null,"Enter floor type and construction",7,"For UFH enter Tog value (See Table 14)",8,"For UFH enter  active or exposed area of the heated floor ",null,9]
[]
[null,"Enter Room type below",null,null," Enter Open fire/chimney details below "]
[null,10,null,null,11]
[null,"Room Dimensions"]
[null,"Length (m)",null,"Width (m)",null,"Height (m)"]
[null,13,null,14,null,15]
[null,"Walls, floors not ground floors and ceiling"]
[null,"Name of wall, floor, ceiling","Space on other side","Height or length (m)","Width (m)",null,"Construction","Entered U-\u001evalue (W/m²K), if required"]
[null,16,17,18,19,null,20,21]
[null,22,23,24,25,null,26,27]
[null,28,29,30,31,null,32,33]
[null,35,36,37,38,null,39,40]
[null,41,42,43,44,null,45,46]
[null,47,48,49,50,null,51,52]
[null,53,54,55,56,null,57,58]
[null,59,60,61,62,null,63,64]
[null,65,66,67,68,null,69,70]
[null,71,72,73,74,null,75,76]
[null,77,78,79,80,null,81,82]
[null,83,84,85,86,null,87,88]
[null,"Ground floors \nShort length (m)","long length\n(m)","Edges exposed",null,null,"Type and Insulation  thickness"]
[null,89,90,91,92,null,92,93]
[null,95,96,97,null,null,98,99]
[null,100,101,102,null,null,103,104]
[]
[]
[null,"Windows and doors"]
[null,"Wall or roof with window or door","Window or door height (m)","Window or door width (m)","Area (m²)","Wall/roof U-value (W/m²K)","Frame and glazing type ","Entered U-\u001evalue (W/m²K), if required"]
[null,105,106,107,null,null,108,109]
[null,111,112,113,null,null,114,115]
[null,116,117,118,null,null,119,120]
[null,121,122,123,null,null,124,125]
[null,126,127,128,null,null,129,130]
[null,131,132,133,null,null,134,135]

{"sheet":"15","index":20,"n_rows":84,"n_cols":29,"rows_kept":84,"cut":false,"hidden":true,"merged":[[40,1,40,7],[41,8,41,9],[7,7,7,8],[4,8,4,9],[6,1,6,2],[6,4,6,5],[6,7,6,8],[47,8,47,9],[49,2,49,3],[49,8,49,9],[51,1,51,2],[51,4,51,5],[51,7,51,8],[52,1,52,2],[52,4,52,5],[52,7,52,8],[72,3,72,4],[73,3,73,4],[71,3,71,4]]}
[null,{"$f":"'Room Inputs'!S3","v":"Room15"}]
[]
[null,"Room name",{"$f":"HLOOKUP($B$1,'Room Inputs'!$D$3:$X$137,C48,0)","v":0},null,"Emitter type",{"$f":"HLOOKUP($B$1,'Room Inputs'!$D$3:$X$137,F48,0)","v":0},"For convectors consult the manufacturer's data and enter the temperature factor (FTEMP) for the appropriate fan speed",{"$f":"HLOOKUP($B$1,'Room Inputs'!$D$3:$X$137,H48,0)","v":0.85},"For radiators enter the n-coefficient (exponent) from manufacturer's data.  If unknown 1.3 may be used",null,{"$f":"HLOOKUP($B$1,'Room Inputs'!$D$3:$X$137,K48,0)","v":1.3}]
[]
[null,"Enter floor type and construction",{"$f":"HLOOKUP($B$1,'Room Inputs'!$D$3:$X$137,C50,0)","v":0},null,"Enter floor type and construction",{"$f":"HLOOKUP($B$1,'Room Inputs'!$D$3:$X$137,F50,0)","v":0},"For UFH enter Tog value (See Table 14)",{"$f":"HLOOKUP($B$1,'Room Inputs'!$D$3:$X$137,H50,0)","v":0.25},"For UFH enter  active or exposed area of the heated floor ",null,{"$f":"HLOOKUP($B$1,'Room Inputs'!$D$3:$X$137,K50,0)","v":0}]
[]
[null,"Enter Room type below",null,null," Enter Open fire/chimney details below ",null,null,"Design room ventilation rate (air changes per hour)",null,null,"Design room temperature °C"]
[null,{"$f":"HLOOKUP($B$1,'Room Inputs'!$D$3:$X$137,B53,0)","v":0},null,null,{"$f":"HLOOKUP($B$1,'Room Inputs'!$D$3:$X$137,E53,0)","v":0},null,null,{"$f":"IF(E8=VTables!B20,VLOOKUP(B8,DRVT,3,FALSE),MAX(VLOOKUP(B8,DRVT,3,FALSE),VLOOKUP(E8,ARVR,2,FALSE)))","v":{"$error":"#N/A"}},null,null,{"$f":"VLOOKUP(B8,DRVT,2,FALSE)","v":{"$error":"#N/A"}}]
[null,"Room Dimensions"]
[null,"Length (m)",null,"Width (m)",null,"Height (m)","Room volume (m³) ",null,null,"Design temperature difference","Heat loss (W)"]
[null,{"$f":"HLOOKUP($B$1,'Room Inputs'!$D$3:$X$137,B56,0)","v":0},null,{"$f":"HLOOKUP($B$1,'Room Inputs'!$D$3:$X$137,D56,0)","v":0},null,{"$f":"HLOOKUP($B$1,'Room Inputs'!$D$3:$X$137,F56,0)","v":0},{"$f":"B11*D11*F11","v":0},null,null,{"$f":"K8-'Site Inputs'!C8","v":{"$error":"#N/A"}},{"$f":"IF(G11>0,(ROUND(0.33*G11*H8*J11,2)),\"\")","v":""}]
[null,"Walls, floors not ground floors and ceiling"]
[null,"Name of wall, floor, ceiling","Space on other side","Height or length (m)","Width (m)","Area (m²)","Construction","Entered U-\u001evalue (W/m²K), if required","U-value (W/m²K)","Design temperature difference","Heat loss (W)",null,"`"]
[null,{"$f":"HLOOKUP($B$1,'Room Inputs'!$D$3:$X$137,B59,0)","v":0},{"$f":"HLOOKUP($B$1,'Room Inputs'!$D$3:$X$137,C59,0)","v":0},{"$f":"HLOOKUP($B$1,'Room Inputs'!$D$3:$X$137,D59,0)","v":0},{"$f":"HLOOKUP($B$1,'Room Inputs'!$D$3:$X$137,E59,0)","v":0},{"$f":"D14*E14","v":0},{"$f":"HLOOKUP($B$1,'Room Inputs'!$D$3:$X$137,G59,0)","v":0},{"$f":"HLOOKUP($B$1,'Room Inputs'!$D$3:$X$137,H59,0)","v":0},{"$f":"IF(OR(G14=UvaluesWRF!A$2,ISERROR(VLOOKUP(G14,UvaluesWRF!A$3:B$110,2,FALSE))),\"\",VLOOKUP(G14,UvaluesWRF!A$3:B$110,2,FALSE))","v":""},{"$f":"IF(C14=\"\",\"\",$K$8-VLOOKUP(C14,DRVT,2,FALSE))","v":{"$error":"#N/A"}},{"$f":"IF(G14=UvaluesWRF!A$2,IF(ISERROR(F14*J14*H14),\"\",F14*J14*H14),IF(ISERROR(F14*J14*I14),\"\",F14*J14*I14))","v":""}]
[null,{"$f":"HLOOKUP($B$1,'Room Inputs'!$D$3:$X$137,B60,0)","v":0},{"$f":"HLOOKUP($B$1,'Room Inputs'!$D$3:$X$137,C60,0)","v":0},{"$f":"HLOOKUP($B$1,'Room Inputs'!$D$3:$X$137,D60,0)","v":0},{"$f":"HLOOKUP($B$1,'Room Inputs'!$D$3:$X$137,E60,0)","v":0},{"$f":"D15*E15","v":0},{"$f":"HLOOKUP($B$1,'Room Inputs'!$D$3:$X$137,G60,0)","v":0},{"$f":"HLOOKUP($B$1,'Room Inputs'!$D$3:$X$137,H60,0)","v":0},{"$f":"IF(OR(G15=UvaluesWRF!A$2,ISERROR(VLOOKUP(G15,UvaluesWRF!A$3:B$110,2,FALSE))),\"\",VLOOKUP(G15,UvaluesWRF!A$3:B$110,2,FALSE))","v":""},{"$error":"#N/A"},{"$f":"IF(G15=UvaluesWRF!A$2,IF(ISERROR(F15*J15*H15),\"\",F15*J15*H15),IF(ISERROR(F15*J15*I15),\"\",F15*J15*I15))","v":""}]
[null,{"$f":"HLOOKUP($B$1,'Room Inputs'!$D$3:$X$137,B61,0)","v":0},{"$f":"HLOOKUP($B$1,'Room Inputs'!$D$3:$X$137,C61,0)","v":0},{"$f":"HLOOKUP($B$1,'Room Inputs'!$D$3:$X$137,D61,0)","v":0},{"$f":"HLOOKUP($B$1,'Room Inputs'!$D$3:$X$137,E61,0)","v":0},0,{"$f":"HLOOKUP($B$1,'Room Inputs'!$D$3:$X$137,G61,0)","v":0},{"$f":"HLOOKUP($B$1,'Room Inputs'!$D$3:$X$137,H61,0)","v":0},{"$f":"IF(OR(G16=UvaluesWRF!A$2,ISERROR(VLOOKUP(G16,UvaluesWRF!A$3:B$110,2,FALSE))),\"\",VLOOKUP(G16,UvaluesWRF!A$3:B$110,2,FALSE))","v":""},{"$error":"#N/A"},{"$f":"IF(G16=UvaluesWRF!A$2,IF(ISERROR(F16*J16*H16),\"\",F16*J16*H16),IF(ISERROR(F16*J16*I16),\"\",F16*J16*I16))","v":""}]
[null,{"$f":"HLOOKUP($B$1,'Room Inputs'!$D$3:$X$137,B62,0)","v":0},{"$f":"HLOOKUP($B$1,'Room Inputs'!$D$3:$X$137,C62,0)","v":0},{"$f":"HLOOKUP($B$1,'Room Inputs'!$D$3:$X$137,D62,0)","v":0},{"$f":"HLOOKUP($B$1,'Room Inputs'!$D$3:$X$137,E62,0)","v":0},0,{"$f":"HLOOKUP($B$1,'Room Inputs'!$D$3:$X$137,G62,0)","v":0},{"$f":"HLOOKUP($B$1,'Room Inputs'!$D$3:$X$137,H62,0)","v":0},{"$f":"IF(OR(G17=UvaluesWRF!A$2,ISERROR(VLOOKUP(G17,UvaluesWRF!A$3:B$110,2,FALSE))),\"\",VLOOKUP(G17,UvaluesWRF!A$3:B$110,2,FALSE))","v":""},{"$error":"#N/A"},{"$f":"IF(G17=UvaluesWRF!A$2,IF(ISERROR(F17*J17*H17),\"\",F17*J17*H17),IF(ISERROR(F17*J17*I17),\"\",F17*J17*I17))","v":""}]
[null,{"$f":"HLOOKUP($B$1,'Room Inputs'!$D$3:$X$137,B63,0)","v":0},{"$f":"HLOOKUP($B$1,'Room Inputs'!$D$3:$X$137,C63,0)","v":0},{"$f":"HLOOKUP($B$1,'Room Inputs'!$D$3:$X$137,D63,0)","v":0},{"$f":"HLOOKUP($B$1,'Room Inputs'!$D$3:$X$137,E63,0)","v":0},0,{"$f":"HLOOKUP($B$1,'Room Inputs'!$D$3:$X$137,G63,0)","v":0},{"$f":"HLOOKUP($B$1,'Room Inputs'!$D$3:$X$137,H63,0)","v":0},{"$f":"IF(OR(G18=UvaluesWRF!A$2,ISERROR(VLOOKUP(G18,UvaluesWRF!A$3:B$110,2,FALSE))),\"\",VLOOKUP(G18,UvaluesWRF!A$3:B$110,2,FALSE))","v":""},{"$error":"#N/A"},{"$f":"IF(G18=UvaluesWRF!A$2,IF(ISERROR(F18*J18*H18),\"\",F18*J18*H18),IF(ISERROR(F18*J18*I18),\"\",F18*J18*I18))","v":""}]
[null,{"$f":"HLOOKUP($B$1,'Room Inputs'!$D$3:$X$137,B64,0)","v":0},{"$f":"HLOOKUP($B$1,'Room Inputs'!$D$3:$X$137,C64,0)","v":0},{"$f":"HLOOKUP($B$1,'Room Inputs'!$D$3:$X$137,D64,0)","v":0},{"$f":"HLOOKUP($B$1,'Room Inputs'!$D$3:$X$137,E64,0)","v":0},0,{"$f":"HLOOKUP($B$1,'Room Inputs'!$D$3:$X$137,G64,0)","v":0},{"$f":"HLOOKUP($B$1,'Room Inputs'!$D$3:$X$137,H64,0)","v":0},{"$f":"IF(OR(G19=UvaluesWRF!A$2,ISERROR(VLOOKUP(G19,UvaluesWRF!A$3:B$110,2,FALSE))),\"\",VLOOKUP(G19,UvaluesWRF!A$3:B$110,2,FALSE))","v":""},{"$error":"#N/A"},{"$f":"IF(G19=UvaluesWRF!A$2,IF(ISERROR(F19*J19*H19),\"\",F19*J19*H19),IF(ISERROR(F19*J19*I19),\"\",F19*J19*I19))","v":""}]
[null,{"$f":"HLOOKUP($B$1,'Room Inputs'!$D$3:$X$137,B65,0)","v":0},{"$f":"HLOOKUP($B$1,'Room Inputs'!$D$3:$X$137,C65,0)","v":0},{"$f":"HLOOKUP($B$1,'Room Inputs'!$D$3:$X$137,D65,0)","v":0},{"$f":"HLOOKUP($B$1,'Room Inputs'!$D$3:$X$137,E65,0)","v":0},0,{"$f":"HLOOKUP($B$1,'Room Inputs'!$D$3:$X$137,G65,0)","v":0},{"$f":"HLOOKUP($B$1,'Room Inputs'!$D$3:$X$137,H65,0)","v":0},{"$f":"IF(OR(G20=UvaluesWRF!A$2,ISERROR(VLOOKUP(G20,UvaluesWRF!A$3:B$110,2,FALSE))),\"\",VLOOKUP(G20,UvaluesWRF!A$3:B$110,2,FALSE))","v":""},{"$error":"#N/A"},{"$f":"IF(G20=UvaluesWRF!A$2,IF(ISERROR(F20*J20*H20),\"\",F20*J20*H20),IF(ISERROR(F20*J20*I20),\"\",F20*J20*I20))","v":""}]
[null,{"$f":"HLOOKUP($B$1,'Room Inputs'!$D$3:$X$137,B66,0)","v":0},{"$f":"HLOOKUP($B$1,'Room Inputs'!$D$3:$X$137,C66,0)","v":0},{"$f":"HLOOKUP($B$1,'Room Inputs'!$D$3:$X$137,D66,0)","v":0},{"$f":"HLOOKUP($B$1,'Room Inputs'!$D$3:$X$137,E66,0)","v":0},0,{"$f":"HLOOKUP($B$1,'Room Inputs'!$D$3:$X$137,G66,0)","v":0},{"$f":"HLOOKUP($B$1,'Room Inputs'!$D$3:$X$137,H66,0)","v":0},{"$f":"IF(OR(G21=UvaluesWRF!A$2,ISERROR(VLOOKUP(G21,UvaluesWRF!A$3:B$110,2,FALSE))),\"\",VLOOKUP(G21,UvaluesWRF!A$3:B$110,2,FALSE))","v":""},{"$error":"#N/A"},{"$f":"IF(G21=UvaluesWRF!A$2,IF(ISERROR(F21*J21*H21),\"\",F21*J21*H21),IF(ISERROR(F21*J21*I21),\"\",F21*J21*I21))","v":""}]
[null,{"$f":"HLOOKUP($B$1,'Room Inputs'!$D$3:$X$137,B67,0)","v":0},{"$f":"HLOOKUP($B$1,'Room Inputs'!$D$3:$X$137,C67,0)","v":0},{"$f":"HLOOKUP($B$1,'Room Inputs'!$D$3:$X$137,D67,0)","v":0},{"$f":"HLOOKUP($B$1,'Room Inputs'!$D$3:$X$137,E67,0)","v":0},0,{"$f":"HLOOKUP($B$1,'Room Inputs'!$D$3:$X$137,G67,0)","v":0},{"$f":"HLOOKUP($B$1,'Room Inputs'!$D$3:$X$137,H67,0)","v":0},{"$f":"IF(OR(G22=UvaluesWRF!A$2,ISERROR(VLOOKUP(G22,UvaluesWRF!A$3:B$110,2,FALSE))),\"\",VLOOKUP(G22,UvaluesWRF!A$3:B$110,2,FALSE))","v":""},{"$error":"#N/A"},{"$f":"IF(G22=UvaluesWRF!A$2,IF(ISERROR(F22*J22*H22),\"\",F22*J22*H22),IF(ISERROR(F22*J22*I22),\"\",F22*J22*I22))","v":""}]
[null,{"$f":"HLOOKUP($B$1,'Room Inputs'!$D$3:$X$137,B68,0)","v":0},{"$f":"HLOOKUP($B$1,'Room Inputs'!$D$3:$X$137,C68,0)","v":0},{"$f":"HLOOKUP($B$1,'Room Inputs'!$D$3:$X$137,D68,0)","v":0},{"$f":"HLOOKUP($B$1,'Room Inputs'!$D$3:$X$137,E68,0)","v":0},0,{"$f":"HLOOKUP($B$1,'Room Inputs'!$D$3:$X$137,G68,0)","v":0},{"$f":"HLOOKUP($B$1,'Room Inputs'!$D$3:$X$137,H68,0)","v":0},{"$f":"IF(OR(G23=UvaluesWRF!A$2,ISERROR(VLOOKUP(G23,UvaluesWRF!A$3:B$110,2,FALSE))),\"\",VLOOKUP(G23,UvaluesWRF!A$3:B$110,2,FALSE))","v":""},{"$error":"#N/A"},{"$f":"IF(G23=UvaluesWRF!A$2,IF(ISERROR(F23*J23*H23),\"\",F23*J23*H23),IF(ISERROR(F23*J23*I23),\"\",F23*J23*I23))","v":""}]
[null,{"$f":"HLOOKUP($B$1,'Room Inputs'!$D$3:$X$137,B69,0)","v":0},{"$f":"HLOOKUP($B$1,'Room Inputs'!$D$3:$X$137,C69,0)","v":0},{"$f":"HLOOKUP($B$1,'Room Inputs'!$D$3:$X$137,D69,0)","v":0},{"$f":"HLOOKUP($B$1,'Room Inputs'!$D$3:$X$137,E69,0)","v":0},0,{"$f":"HLOOKUP($B$1,'Room Inputs'!$D$3:$X$137,G69,0)","v":0},{"$f":"HLOOKUP($B$1,'Room Inputs'!$D$3:$X$137,H69,0)","v":0},{"$f":"IF(OR(G24=UvaluesWRF!A$2,ISERROR(VLOOKUP(G24,UvaluesWRF!A$3:B$110,2,FALSE))),\"\",VLOOKUP(G24,UvaluesWRF!A$3:B$110,2,FALSE))","v":""},{"$error":"#N/A"},{"$f":"IF(G24=UvaluesWRF!A$2,IF(ISERROR(F24*J24*H24),\"\",F24*J24*H24),IF(ISERROR(F24*J24*I24),\"\",F24*J24*I24))","v":""}]
[null,{"$f":"HLOOKUP($B$1,'Room Inputs'!$D$3:$X$137,B70,0)","v":0},{"$f":"HLOOKUP($B$1,'Room Inputs'!$D$3:$X$137,C70,0)","v":0},{"$f":"HLOOKUP($B$1,'Room Inputs'!$D$3:$X$137,D70,0)","v":0},{"$f":"HLOOKUP($B$1,'Room Inputs'!$D$3:$X$137,E70,0)","v":0},0,{"$f":"HLOOKUP($B$1,'Room Inputs'!$D$3:$X$137,G70,0)","v":0},{"$f":"HLOOKUP($B$1,'Room Inputs'!$D$3:$X$137,H70,0)","v":0},{"$f":"IF(OR(G25=UvaluesWRF!A$2,ISERROR(VLOOKUP(G25,UvaluesWRF!A$3:B$110,2,FALSE))),\"\",VLOOKUP(G25,UvaluesWRF!A$3:B$110,2,FALSE))","v":""},{"$error":"#N/A"},{"$f":"IF(G25=UvaluesWRF!A$2,IF(ISERROR(F25*J25*H25),\"\",F25*J25*H25),IF(ISERROR(F25*J25*I25),\"\",F25*J25*I25))","v":""}]
[null,"Ground floors \nShort length (m)","long length\n(m)","Edges exposed",null,null,"Type and Insulation  thickness",null,null,null,null,null,"U-value","Edge","Insulation","Column",null,1,2,3,4,5.3,5.4,5.5,5.6,6.3,6.4,6.5,6.6]
[null,{"$f":"HLOOKUP($B$1,'Room Inputs'!$D$3:$X$137,B72,0)","v":0},{"$f":"HLOOKUP($B$1,'Room Inputs'!$D$3:$X$137,C72,0)","v":0},{"$f":"HLOOKUP($B$1,'Room Inputs'!$D$3:$X$137,D72,0)","v":0},{"$f":"HLOOKUP($B$1,'Room Inputs'!$D$3:$X$137,E72,0)","v":0},{"$f":"B27*C27","v":0},{"$f":"HLOOKUP($B$1,'Room Inputs'!$D$3:$X$137,G72,0)","v":0},{"$f":"HLOOKUP($B$1,'Room Inputs'!$D$3:$X$137,H72,0)","v":0},{"$f":"IF(OR(G27=UvaluesFlr!$U$3,G27=UvaluesFlr!$U$4,ISERROR(M27)),\"\",M27)","v":""},{"$f":"$K$8-IF(LEFT(G27,2)=\"So\",10,'Site Inputs'!$C$8)","v":{"$error":"#N/A"}},{"$f":"IF(OR(G27=UvaluesFlr!$U$3,G27=UvaluesFlr!$U$4),IF(ISERROR(F27*J27*H27),\"\",F27*J27*H27),IF(ISERROR(F27*J27*I27),\"\",F27*J27*I27))","v":""},null,{"$f":"HLOOKUP(N27+MIN(0.6,IF(N27>4,O27/10,0)),$R$26:$AC$29,2,TRUE)","v":{"$error":"#N/A"}},{"$f":"VLOOKUP(D27,UvaluesFlr!$U$17:$V$22,2,FALSE)","v":{"$error":"#N/A"}},{"$f":"VLOOKUP(G27,UvaluesFlr!$U$3:$W$14,2,FALSE)","v":{"$error":"#N/A"}},{"$f":"VLOOKUP(G27,UvaluesFlr!$U$3:$W$14,3,FALSE)","v":{"$error":"#N/A"}},null,{"$f":"VLOOKUP(C27,UvaluesFlr!$C$53:$P$59,$P27,TRUE)","v":{"$error":"#N/A"}},{"$f":"VLOOKUP(B27,UvaluesFlr!$C$53:$P$59,$P27,TRUE)","v":{"$error":"#N/A"}},{"$f":"VLOOKUP(B27+C27,UvaluesFlr!$C$4:$P$12,$P27,TRUE)","v":{"$error":"#N/A"}},{"$f":"VLOOKUP(B27,UvaluesFlr!$C$16:$P$21,$P27,TRUE)","v":{"$error":"#N/A"}},{"$f":"VLOOKUP($C27,UvaluesFlr!$D$26:$P$29,$P27-1,TRUE)","v":{"$error":"#N/A"}},{"$f":"VLOOKUP($C27,UvaluesFlr!$D$30:$P$31,$P27-1,TRUE)","v":{"$error":"#N/A"}},{"$f":"VLOOKUP($C27,UvaluesFlr!$D$32:$P$33,$P27-1,TRUE)","v":{"$error":"#N/A"}},{"$f":"VLOOKUP($C27,UvaluesFlr!$D$34:$P$35,$P27-1,TRUE)","v":{"$error":"#N/A"}},{"$f":"VLOOKUP($C27,UvaluesFlr!$D$39:$P$42,$P27-1,TRUE)","v":{"$error":"#N/A"}},{"$f":"VLOOKUP($C27,UvaluesFlr!$D$43:$P$45,$P27-1,TRUE)","v":{"$error":"#N/A"}},{"$f":"VLOOKUP($C27,UvaluesFlr!$D$46:$P$48,$P27-1,TRUE)","v":{"$error":"#N/A"}},{"$f":"VLOOKUP($C27,UvaluesFlr!$D$49:$P$50,$P27-1,TRUE)","v":{"$error":"#N/A"}}]
[null,{"$f":"HLOOKUP($B$1,'Room Inputs'!$D$3:$X$137,B73,0)","v":0},{"$f":"HLOOKUP($B$1,'Room Inputs'!$D$3:$X$137,C73,0)","v":0},{"$f":"HLOOKUP($B$1,'Room Inputs'!$D$3:$X$137,D73,0)","v":0},{"$f":"HLOOKUP($B$1,'Room Inputs'!$D$3:$X$137,E73,0)","v":{"$error":"#VALUE!"}},{"$f":"B28*C28","v":0},{"$f":"HLOOKUP($B$1,'Room Inputs'!$D$3:$X$137,G73,0)","v":0},{"$f":"HLOOKUP($B$1,'Room Inputs'!$D$3:$X$137,H73,0)","v":0},{"$f":"IF(OR(G28=UvaluesFlr!$U$3,G28=UvaluesFlr!$U$4,ISERROR(M28)),\"\",M28)","v":""},{"$f":"$K$8-IF(LEFT(G28,2)=\"So\",10,'Site Inputs'!$C$8)","v":{"$error":"#N/A"}},{"$f":"IF(OR(G28=UvaluesFlr!$U$3,G28=UvaluesFlr!$U$4),IF(ISERROR(F28*J28*H28),\"\",F28*J28*H28),IF(ISERROR(F28*J28*I28),\"\",F28*J28*I28))","v":""},null,{"$f":"HLOOKUP(N28+MIN(0.6,IF(N28>4,O28/10,0)),$R$26:$AC$29,3,TRUE)","v":{"$error":"#N/A"}},{"$f":"VLOOKUP(D28,UvaluesFlr!$U$17:$V$22,2,FALSE)","v":{"$error":"#N/A"}},{"$f":"VLOOKUP(G28,UvaluesFlr!$U$3:$W$14,2,FALSE)","v":{"$error":"#N/A"}},{"$f":"VLOOKUP(G28,UvaluesFlr!$U$3:$W$14,3,FALSE)","v":{"$error":"#N/A"}},null,{"$f":"VLOOKUP(C28,UvaluesFlr!$C$53:$P$59,$P28,TRUE)","v":{"$error":"#N/A"}},{"$f":"VLOOKUP(B28,UvaluesFlr!$C$53:$P$59,$P28,TRUE)","v":{"$error":"#N/A"}},{"$f":"VLOOKUP(B28+C28,UvaluesFlr!$C$4:$P$12,$P28,TRUE)","v":{"$error":"#N/A"}},{"$f":"VLOOKUP(B28,UvaluesFlr!$C$16:$P$21,$P28,TRUE)","v":{"$error":"#N/A"}},{"$f":"VLOOKUP($C28,UvaluesFlr!$D$26:$P$29,$P28-1,TRUE)","v":{"$error":"#N/A"}},{"$f":"VLOOKUP($C28,UvaluesFlr!$D$30:$P$31,$P28-1,TRUE)","v":{"$error":"#N/A"}},{"$f":"VLOOKUP($C28,UvaluesFlr!$D$32:$P$33,$P28-1,TRUE)","v":{"$error":"#N/A"}},{"$f":"VLOOKUP($C28,UvaluesFlr!$D$34:$P$35,$P28-1,TRUE)","v":{"$error":"#N/A"}},{"$f":"VLOOKUP($C28,UvaluesFlr!$D$39:$P$42,$P28-1,TRUE)","v":{"$error":"#N/A"}},{"$f":"VLOOKUP($C28,UvaluesFlr!$D$43:$P$45,$P28-1,TRUE)","v":{"$error":"#N/A"}},{"$f":"VLOOKUP($C28,UvaluesFlr!$D$46:$P$48,$P28-1,TRUE)","v":{"$error":"#N/A"}},{"$f":"VLOOKUP($C28,UvaluesFlr!$D$49:$P$50,$P28-1,TRUE)","v":{"$error":"#N/A"}}]
[null,{"$f":"HLOOKUP($B$1,'Room Inputs'!$D$3:$X$137,B74,0)","v":0},{"$f":"HLOOKUP($B$1,'Room Inputs'!$D$3:$X$137,C74,0)","v":0},{"$f":"HLOOKUP($B$1,'Room Inputs'!$D$3:$X$137,D74,0)","v":0},{"$f":"HLOOKUP($B$1,'Room Inputs'!$D$3:$X$137,E74,0)","v":{"$error":"#VALUE!"}},{"$f":"B29*C29","v":0},{"$f":"HLOOKUP($B$1,'Room Inputs'!$D$3:$X$137,G74,0)","v":0},{"$f":"HLOOKUP($B$1,'Room Inputs'!$D$3:$X$137,H74,0)","v":0},{"$f":"IF(OR(G29=UvaluesFlr!$U$3,G29=UvaluesFlr!$U$4,ISERROR(M29)),\"\",M29)","v":""},{"$f":"$K$8-IF(LEFT(G29,2)=\"So\",10,'Site Inputs'!$C$8)","v":{"$error":"#N/A"}},{"$f":"IF(OR(G29=UvaluesFlr!$U$3,G29=UvaluesFlr!$U$4),IF(ISERROR(F29*J29*H29),\"\",F29*J29*H29),IF(ISERROR(F29*J29*I29),\"\",F29*J29*I29))","v":""},null,{"$f":"HLOOKUP(N29+MIN(0.6,IF(N29>4,O29/10,0)),$R$26:$AC$29,4,TRUE)","v":{"$error":"#N/A"}},{"$f":"VLOOKUP(D29,UvaluesFlr!$U$17:$V$22,2,FALSE)","v":{"$error":"#N/A"}},{"$f":"VLOOKUP(G29,UvaluesFlr!$U$3:$W$14,2,FALSE)","v":{"$error":"#N/A"}},{"$f":"VLOOKUP(G29,UvaluesFlr!$U$3:$W$14,3,FALSE)","v":{"$error":"#N/A"}},null,{"$f":"VLOOKUP(C29,UvaluesFlr!$C$53:$P$59,$P29,TRUE)","v":{"$error":"#N/A"}},{"$f":"VLOOKUP(B29,UvaluesFlr!$C$53:$P$59,$P29,TRUE)","v":{"$error":"#N/A"}},{"$f":"VLOOKUP(B29+C29,UvaluesFlr!$C$4:$P$12,$P29,TRUE)","v":{"$error":"#N/A"}},{"$f":"VLOOKUP(B29,UvaluesFlr!$C$16:$P$21,$P29,TRUE)","v":{"$error":"#N/A"}},{"$f":"VLOOKUP($C29,UvaluesFlr!$D$26:$P$29,$P29-1,TRUE)","v":{"$error":"#N/A"}},{"$f":"VLOOKUP($C29,UvaluesFlr!$D$30:$P$31,$P29-1,TRUE)","v":{"$error":"#N/A"}},{"$f":"VLOOKUP($C29,UvaluesFlr!$D$32:$P$33,$P29-1,TRUE)","v":{"$error":"#N/A"}},{"$f":"VLOOKUP($C29,UvaluesFlr!$D$34:$P$35,$P29-1,TRUE)","v":{"$error":"#N/A"}},{"$f":"VLOOKUP($C29,UvaluesFlr!$D$39:$P$42,$P29-1,TRUE)","v":{"$error":"#N/A"}},{"$f":"VLOOKUP($C29,UvaluesFlr!$D$43:$P$45,$P29-1,TRUE)","v":{"$error":"#N/A"}},{"$f":"VLOOKUP($C29,UvaluesFlr!$D$46:$P$48,$P29-1,TRUE)","v":{"$error":"#N/A"}},{"$f":"VLOOKUP($C29,UvaluesFlr!$D$49:$P$50,$P29-1,TRUE)","v":{"$error":"#N/A"}}]
[]
[]
[null,"Windows and doors"]
[null,"Wall or roof with window or door","Window or door height (m)","Window or door width (m)","Area (m²)","Wall/roof U-value (W/m²K)","Frame and glazing type ","Entered U-\u001evalue (W/m²K), if required","U-value","Design temperature difference","Heat loss (W)*"]
[null,{"$f":"HLOOKUP($B$1,'Room Inputs'!$D$3:$X$137,B79,0)","v":0},{"$f":"HLOOKUP($B$1,'Room Inputs'!$D$3:$X$137,C79,0)","v":0},{"$f":"HLOOKUP($B$1,'Room Inputs'!$D$3:$X$137,D79,0)","v":0},{"$f":"C34*D34","v":0},{"$f":"IF(B34<>\"\",IF(VLOOKUP(B34,B$14:I$25,6,FALSE)=UvalueWD!$C$6,VLOOKUP(B34,B$14:I$25,7,FALSE),VLOOKUP(B34,B$14:I$25,8,FALSE)),\"\")","v":""},{"$f":"HLOOKUP($B$1,'Room Inputs'!$D$3:$X$137,G79,0)","v":0},{"$f":"HLOOKUP($B$1,'Room Inputs'!$D$3:$X$137,H79,0)","v":0},{"$f":"IF(OR(G34=UvalueWD!C$6,G34=\"\"),\"\",VLOOKUP(G34,Windows,2,FALSE))","v":{"$error":"#N/A"}},{"$f":"IF(ISERROR(VLOOKUP(B34,B$13:K$29,9,FALSE)),\"\",VLOOKUP(B34,B$13:K$29,9,FALSE))","v":""},{"$f":"IF(G34=UvaluesWRF!A$2,IF(ISERROR(F34*J34*(H34-F34)),\"\",F34*J34*(H34-F34)),IF(ISERROR(F34*J34*(F34-I34)),\"\",(I34-F34)*J34*I34))","v":""}]
[null,{"$f":"HLOOKUP($B$1,'Room Inputs'!$D$3:$X$137,B80,0)","v":0},{"$f":"HLOOKUP($B$1,'Room Inputs'!$D$3:$X$137,C80,0)","v":0},{"$f":"HLOOKUP($B$1,'Room Inputs'!$D$3:$X$137,D80,0)","v":0},0,{"$f":"IF(B35<>\"\",IF(VLOOKUP(B35,B$14:I$25,6,FALSE)=UvalueWD!$C$6,VLOOKUP(B35,B$14:I$25,7,FALSE),VLOOKUP(B35,B$14:I$25,8,FALSE)),\"\")","v":""},{"$f":"HLOOKUP($B$1,'Room Inputs'!$D$3:$X$137,G80,0)","v":0},{"$f":"HLOOKUP($B$1,'Room Inputs'!$D$3:$X$137,H80,0)","v":0},{"$f":"IF(OR(G35=UvalueWD!C$6,G35=\"\"),\"\",VLOOKUP(G35,Windows,2,FALSE))","v":{"$error":"#N/A"}},"",{"$f":"IF(G35=UvaluesWRF!A$2,IF(ISERROR(F35*J35*(H35-F35)),\"\",F35*J35*(H35-F35)),IF(ISERROR(F35*J35*(F35-I35)),\"\",(I35-F35)*J35*I35))","v":""}]
[null,{"$f":"HLOOKUP($B$1,'Room Inputs'!$D$3:$X$137,B81,0)","v":0},{"$f":"HLOOKUP($B$1,'Room Inputs'!$D$3:$X$137,C81,0)","v":0},{"$f":"HLOOKUP($B$1,'Room Inputs'!$D$3:$X$137,D81,0)","v":0},0,{"$f":"IF(B36<>\"\",IF(VLOOKUP(B36,B$14:I$25,6,FALSE)=UvalueWD!$C$6,VLOOKUP(B36,B$14:I$25,7,FALSE),VLOOKUP(B36,B$14:I$25,8,FALSE)),\"\")","v":""},{"$f":"HLOOKUP($B$1,'Room Inputs'!$D$3:$X$137,G81,0)","v":0},{"$f":"HLOOKUP($B$1,'Room Inputs'!$D$3:$X$137,H81,0)","v":0},{"$f":"IF(OR(G36=UvalueWD!C$6,G36=\"\"),\"\",VLOOKUP(G36,Windows,2,FALSE))","v":{"$error":"#N/A"}},"",{"$f":"IF(G36=UvaluesWRF!A$2,IF(ISERROR(F36*J36*(H36-F36)),\"\",F36*J36*(H36-F36)),IF(ISERROR(F36*J36*(F36-I36)),\"\",(I36-F36)*J36*I36))","v":""}]
[null,{"$f":"HLOOKUP($B$1,'Room Inputs'!$D$3:$X$137,B82,0)","v":0},{"$f":"HLOOKUP($B$1,'Room Inputs'!$D$3:$X$137,C82,0)","v":0},{"$f":"HLOOKUP($B$1,'Room Inputs'!$D$3:$X$137,D82,0)","v":0},0,{"$f":"IF(B37<>\"\",IF(VLOOKUP(B37,B$14:I$25,6,FALSE)=UvalueWD!$C$6,VLOOKUP(B37,B$14:I$25,7,FALSE),VLOOKUP(B37,B$14:I$25,8,FALSE)),\"\")","v":""},{"$f":"HLOOKUP($B$1,'Room Inputs'!$D$3:$X$137,G82,0)","v":0},{"$f":"HLOOKUP($B$1,'Room Inputs'!$D$3:$X$137,H82,0)","v":0},{"$f":"IF(OR(G37=UvalueWD!C$6,G37=\"\"),\"\",VLOOKUP(G37,Windows,2,FALSE))","v":{"$error":"#N/A"}},"",{"$f":"IF(G37=UvaluesWRF!A$2,IF(ISERROR(F37*J37*(H37-F37)),\"\",F37*J37*(H37-F37)),IF(ISERROR(F37*J37*(F37-I37)),\"\",(I37-F37)*J37*I37))","v":""}]
[null,{"$f":"HLOOKUP($B$1,'Room Inputs'!$D$3:$X$137,B83,0)","v":0},{"$f":"HLOOKUP($B$1,'Room Inputs'!$D$3:$X$137,C83,0)","v":0},{"$f":"HLOOKUP($B$1,'Room Inputs'!$D$3:$X$137,D83,0)","v":0},0,{"$f":"IF(B38<>\"\",IF(VLOOKUP(B38,B$14:I$25,6,FALSE)=UvalueWD!$C$6,VLOOKUP(B38,B$14:I$25,7,FALSE),VLOOKUP(B38,B$14:I$25,8,FALSE)),\"\")","v":""},{"$f":"HLOOKUP($B$1,'Room Inputs'!$D$3:$X$137,G83,0)","v":0},{"$f":"HLOOKUP($B$1,'Room Inputs'!$D$3:$X$137,H83,0)","v":0},{"$f":"IF(OR(G38=UvalueWD!C$6,G38=\"\"),\"\",VLOOKUP(G38,Windows,2,FALSE))","v":{"$error":"#N/A"}},"",{"$f":"IF(G38=UvaluesWRF!A$2,IF(ISERROR(F38*J38*(H38-F38)),\"\",F38*J38*(H38-F38)),IF(ISERROR(F38*J38*(F38-I38)),\"\",(I38-F38)*J38*I38))","v":""}]
[null,{"$f":"HLOOKUP($B$1,'Room Inputs'!$D$3:$X$137,B84,0)","v":0},{"$f":"HLOOKUP($B$1,'Room Inputs'!$D$3:$X$137,C84,0)","v":0},{"$f":"HLOOKUP($B$1,'Room Inputs'!$D$3:$X$137,D84,0)","v":0},0,{"$f":"IF(B39<>\"\",IF(VLOOKUP(B39,B$14:I$25,6,FALSE)=UvalueWD!$C$6,VLOOKUP(B39,B$14:I$25,7,FALSE),VLOOKUP(B39,B$14:I$25,8,FALSE)),\"\")","v":""},{"$f":"HLOOKUP($B$1,'Room Inputs'!$D$3:$X$137,G84,0)","v":0},{"$f":"HLOOKUP($B$1,'Room Inputs'!$D$3:$X$137,H84,0)","v":0},{"$f":"IF(OR(G39=UvalueWD!C$6,G39=\"\"),\"\",VLOOKUP(G39,Windows,2,FALSE))","v":{"$error":"#N/A"}},"",{"$f":"IF(G39=UvaluesWRF!A$2,IF(ISERROR(F39*J39*(H39-F39)),\"\",F39*J39*(H39-F39)),IF(ISERROR(F39*J39*(F39-I39)),\"\",(I39-F39)*J39*I39))","v":""}]
[]
[null,"* this is net heat loss (i.e. the heat loss of the window minus that of a wall of the same area) and so can be negative.  This is done so that the area of the window or door does not have to be subtracted from the wall area.  "]
[null,null,null,null,null,null,null,null,"Room heat loss (W)",null,{"$f":"SUM(K10:K39)","v":0}]
[]
[]
[]
[null,"Row number lookup map"]
[]
[null,"Room name",2,null,"Emitter type",3,"For convectors consult the manufacturer's data and enter the temperature factor (FTEMP) for the appropriate fan speed",4,"For radiators enter the n-coefficient (exponent) from manufacturer's data.  If unknown 1.3 may be used",null,5]
[]
[null,"Enter floor type and construction",6,null,"Enter floor type and construction",7,"For UFH enter Tog value (See Table 14)",8,"For UFH enter  active or exposed area of the heated floor ",null,9]
[]
[null,"Enter Room type below",null,null," Enter Open fire/chimney details below "]
[null,10,null,null,11]
[null,"Room Dimensions"]
[null,"Length (m)",null,"Width (m)",null,"Height (m)"]
[null,13,null,14,null,15]
[null,"Walls, floors not ground floors and ceiling"]
[null,"Name of wall, floor, ceiling","Space on other side","Height or length (m)","Width (m)",null,"Construction","Entered U-\u001evalue (W/m²K), if required"]
[null,16,17,18,19,null,20,21]
[null,22,23,24,25,null,26,27]
[null,28,29,30,31,null,32,33]
[null,35,36,37,38,null,39,40]
[null,41,42,43,44,null,45,46]
[null,47,48,49,50,null,51,52]
[null,53,54,55,56,null,57,58]
[null,59,60,61,62,null,63,64]
[null,65,66,67,68,null,69,70]
[null,71,72,73,74,null,75,76]
[null,77,78,79,80,null,81,82]
[null,83,84,85,86,null,87,88]
[null,"Ground floors \nShort length (m)","long length\n(m)","Edges exposed",null,null,"Type and Insulation  thickness"]
[null,89,90,91,92,null,92,93]
[null,95,96,97,null,null,98,99]
[null,100,101,102,null,null,103,104]
[]
[]
[null,"Windows and doors"]
[null,"Wall or roof with window or door","Window or door height (m)","Window or door width (m)","Area (m²)","Wall/roof U-value (W/m²K)","Frame and glazing type ","Entered U-\u001evalue (W/m²K), if required"]
[null,105,106,107,null,null,108,109]
[null,111,112,113,null,null,114,115]
[null,116,117,118,null,null,119,120]
[null,121,122,123,null,null,124,125]
[null,126,127,128,null,null,129,130]
[null,131,132,133,null,null,134,135]

{"sheet":"16","index":21,"n_rows":84,"n_cols":29,"rows_kept":84,"cut":false,"hidden":true,"merged":[[40,1,40,7],[41,8,41,9],[7,7,7,8],[4,8,4,9],[6,1,6,2],[6,4,6,5],[6,7,6,8],[47,8,47,9],[49,2,49,3],[49,8,49,9],[51,1,51,2],[51,4,51,5],[51,7,51,8],[52,1,52,2],[52,4,52,5],[52,7,52,8],[72,3,72,4],[73,3,73,4],[71,3,71,4]]}
[null,{"$f":"'Room Inputs'!T3","v":"Room16"}]
[]
[null,"Room name",{"$f":"HLOOKUP($B$1,'Room Inputs'!$D$3:$X$137,C48,0)","v":0},null,"Emitter type",{"$f":"HLOOKUP($B$1,'Room Inputs'!$D$3:$X$137,F48,0)","v":0},"For convectors consult the manufacturer's data and enter the temperature factor (FTEMP) for the appropriate fan speed",{"$f":"HLOOKUP($B$1,'Room Inputs'!$D$3:$X$137,H48,0)","v":0.85},"For radiators enter the n-coefficient (exponent) from manufacturer's data.  If unknown 1.3 may be used",null,{"$f":"HLOOKUP($B$1,'Room Inputs'!$D$3:$X$137,K48,0)","v":1.3}]
[]
[null,"Enter floor type and construction",{"$f":"HLOOKUP($B$1,'Room Inputs'!$D$3:$X$137,C50,0)","v":0},null,"Enter floor type and construction",{"$f":"HLOOKUP($B$1,'Room Inputs'!$D$3:$X$137,F50,0)","v":0},"For UFH enter Tog value (See Table 14)",{"$f":"HLOOKUP($B$1,'Room Inputs'!$D$3:$X$137,H50,0)","v":0.25},"For UFH enter  active or exposed area of the heated floor ",null,{"$f":"HLOOKUP($B$1,'Room Inputs'!$D$3:$X$137,K50,0)","v":0}]
[]
[null,"Enter Room type below",null,null," Enter Open fire/chimney details below ",null,null,"Design room ventilation rate (air changes per hour)",null,null,"Design room temperature °C"]
[null,{"$f":"HLOOKUP($B$1,'Room Inputs'!$D$3:$X$137,B53,0)","v":0},null,null,{"$f":"HLOOKUP($B$1,'Room Inputs'!$D$3:$X$137,E53,0)","v":0},null,null,{"$f":"IF(E8=VTables!B20,VLOOKUP(B8,DRVT,3,FALSE),MAX(VLOOKUP(B8,DRVT,3,FALSE),VLOOKUP(E8,ARVR,2,FALSE)))","v":{"$error":"#N/A"}},null,null,{"$f":"VLOOKUP(B8,DRVT,2,FALSE)","v":{"$error":"#N/A"}}]
[null,"Room Dimensions"]
[null,"Length (m)",null,"Width (m)",null,"Height (m)","Room volume (m³) ",null,null,"Design temperature difference","Heat loss (W)"]
[null,{"$f":"HLOOKUP($B$1,'Room Inputs'!$D$3:$X$137,B56,0)","v":0},null,{"$f":"HLOOKUP($B$1,'Room Inputs'!$D$3:$X$137,D56,0)","v":0},null,{"$f":"HLOOKUP($B$1,'Room Inputs'!$D$3:$X$137,F56,0)","v":0},{"$f":"B11*D11*F11","v":0},null,null,{"$f":"K8-'Site Inputs'!C8","v":{"$error":"#N/A"}},{"$f":"IF(G11>0,(ROUND(0.33*G11*H8*J11,2)),\"\")","v":""}]
[null,"Walls, floors not ground floors and ceiling"]
[null,"Name of wall, floor, ceiling","Space on other side","Height or length (m)","Width (m)","Area (m²)","Construction","Entered U-\u001evalue (W/m²K), if required","U-value (W/m²K)","Design temperature difference","Heat loss (W)",null,"`"]
[null,{"$f":"HLOOKUP($B$1,'Room Inputs'!$D$3:$X$137,B59,0)","v":0},{"$f":"HLOOKUP($B$1,'Room Inputs'!$D$3:$X$137,C59,0)","v":0},{"$f":"HLOOKUP($B$1,'Room Inputs'!$D$3:$X$137,D59,0)","v":0},{"$f":"HLOOKUP($B$1,'Room Inputs'!$D$3:$X$137,E59,0)","v":0},{"$f":"D14*E14","v":0},{"$f":"HLOOKUP($B$1,'Room Inputs'!$D$3:$X$137,G59,0)","v":0},{"$f":"HLOOKUP($B$1,'Room Inputs'!$D$3:$X$137,H59,0)","v":0},{"$f":"IF(OR(G14=UvaluesWRF!A$2,ISERROR(VLOOKUP(G14,UvaluesWRF!A$3:B$110,2,FALSE))),\"\",VLOOKUP(G14,UvaluesWRF!A$3:B$110,2,FALSE))","v":""},{"$f":"IF(C14=\"\",\"\",$K$8-VLOOKUP(C14,DRVT,2,FALSE))","v":{"$error":"#N/A"}},{"$f":"IF(G14=UvaluesWRF!A$2,IF(ISERROR(F14*J14*H14),\"\",F14*J14*H14),IF(ISERROR(F14*J14*I14),\"\",F14*J14*I14))","v":""}]
[null,{"$f":"HLOOKUP($B$1,'Room Inputs'!$D$3:$X$137,B60,0)","v":0},{"$f":"HLOOKUP($B$1,'Room Inputs'!$D$3:$X$137,C60,0)","v":0},{"$f":"HLOOKUP($B$1,'Room Inputs'!$D$3:$X$137,D60,0)","v":0},{"$f":"HLOOKUP($B$1,'Room Inputs'!$D$3:$X$137,E60,0)","v":0},{"$f":"D15*E15","v":0},{"$f":"HLOOKUP($B$1,'Room Inputs'!$D$3:$X$137,G60,0)","v":0},{"$f":"HLOOKUP($B$1,'Room Inputs'!$D$3:$X$137,H60,0)","v":0},{"$f":"IF(OR(G15=UvaluesWRF!A$2,ISERROR(VLOOKUP(G15,UvaluesWRF!A$3:B$110,2,FALSE))),\"\",VLOOKUP(G15,UvaluesWRF!A$3:B$110,2,FALSE))","v":""},{"$error":"#N/A"},{"$f":"IF(G15=UvaluesWRF!A$2,IF(ISERROR(F15*J15*H15),\"\",F15*J15*H15),IF(ISERROR(F15*J15*I15),\"\",F15*J15*I15))","v":""}]
[null,{"$f":"HLOOKUP($B$1,'Room Inputs'!$D$3:$X$137,B61,0)","v":0},{"$f":"HLOOKUP($B$1,'Room Inputs'!$D$3:$X$137,C61,0)","v":0},{"$f":"HLOOKUP($B$1,'Room Inputs'!$D$3:$X$137,D61,0)","v":0},{"$f":"HLOOKUP($B$1,'Room Inputs'!$D$3:$X$137,E61,0)","v":0},0,{"$f":"HLOOKUP($B$1,'Room Inputs'!$D$3:$X$137,G61,0)","v":0},{"$f":"HLOOKUP($B$1,'Room Inputs'!$D$3:$X$137,H61,0)","v":0},{"$f":"IF(OR(G16=UvaluesWRF!A$2,ISERROR(VLOOKUP(G16,UvaluesWRF!A$3:B$110,2,FALSE))),\"\",VLOOKUP(G16,UvaluesWRF!A$3:B$110,2,FALSE))","v":""},{"$error":"#N/A"},{"$f":"IF(G16=UvaluesWRF!A$2,IF(ISERROR(F16*J16*H16),\"\",F16*J16*H16),IF(ISERROR(F16*J16*I16),\"\",F16*J16*I16))","v":""}]
[null,{"$f":"HLOOKUP($B$1,'Room Inputs'!$D$3:$X$137,B62,0)","v":0},{"$f":"HLOOKUP($B$1,'Room Inputs'!$D$3:$X$137,C62,0)","v":0},{"$f":"HLOOKUP($B$1,'Room Inputs'!$D$3:$X$137,D62,0)","v":0},{"$f":"HLOOKUP($B$1,'Room Inputs'!$D$3:$X$137,E62,0)","v":0},0,{"$f":"HLOOKUP($B$1,'Room Inputs'!$D$3:$X$137,G62,0)","v":0},{"$f":"HLOOKUP($B$1,'Room Inputs'!$D$3:$X$137,H62,0)","v":0},{"$f":"IF(OR(G17=UvaluesWRF!A$2,ISERROR(VLOOKUP(G17,UvaluesWRF!A$3:B$110,2,FALSE))),\"\",VLOOKUP(G17,UvaluesWRF!A$3:B$110,2,FALSE))","v":""},{"$error":"#N/A"},{"$f":"IF(G17=UvaluesWRF!A$2,IF(ISERROR(F17*J17*H17),\"\",F17*J17*H17),IF(ISERROR(F17*J17*I17),\"\",F17*J17*I17))","v":""}]
[null,{"$f":"HLOOKUP($B$1,'Room Inputs'!$D$3:$X$137,B63,0)","v":0},{"$f":"HLOOKUP($B$1,'Room Inputs'!$D$3:$X$137,C63,0)","v":0},{"$f":"HLOOKUP($B$1,'Room Inputs'!$D$3:$X$137,D63,0)","v":0},{"$f":"HLOOKUP($B$1,'Room Inputs'!$D$3:$X$137,E63,0)","v":0},0,{"$f":"HLOOKUP($B$1,'Room Inputs'!$D$3:$X$137,G63,0)","v":0},{"$f":"HLOOKUP($B$1,'Room Inputs'!$D$3:$X$137,H63,0)","v":0},{"$f":"IF(OR(G18=UvaluesWRF!A$2,ISERROR(VLOOKUP(G18,UvaluesWRF!A$3:B$110,2,FALSE))),\"\",VLOOKUP(G18,UvaluesWRF!A$3:B$110,2,FALSE))","v":""},{"$error":"#N/A"},{"$f":"IF(G18=UvaluesWRF!A$2,IF(ISERROR(F18*J18*H18),\"\",F18*J18*H18),IF(ISERROR(F18*J18*I18),\"\",F18*J18*I18))","v":""}]
[null,{"$f":"HLOOKUP($B$1,'Room Inputs'!$D$3:$X$137,B64,0)","v":0},{"$f":"HLOOKUP($B$1,'Room Inputs'!$D$3:$X$137,C64,0)","v":0},{"$f":"HLOOKUP($B$1,'Room Inputs'!$D$3:$X$137,D64,0)","v":0},{"$f":"HLOOKUP($B$1,'Room Inputs'!$D$3:$X$137,E64,0)","v":0},0,{"$f":"HLOOKUP($B$1,'Room Inputs'!$D$3:$X$137,G64,0)","v":0},{"$f":"HLOOKUP($B$1,'Room Inputs'!$D$3:$X$137,H64,0)","v":0},{"$f":"IF(OR(G19=UvaluesWRF!A$2,ISERROR(VLOOKUP(G19,UvaluesWRF!A$3:B$110,2,FALSE))),\"\",VLOOKUP(G19,UvaluesWRF!A$3:B$110,2,FALSE))","v":""},{"$error":"#N/A"},{"$f":"IF(G19=UvaluesWRF!A$2,IF(ISERROR(F19*J19*H19),\"\",F19*J19*H19),IF(ISERROR(F19*J19*I19),\"\",F19*J19*I19))","v":""}]
[null,{"$f":"HLOOKUP($B$1,'Room Inputs'!$D$3:$X$137,B65,0)","v":0},{"$f":"HLOOKUP($B$1,'Room Inputs'!$D$3:$X$137,C65,0)","v":0},{"$f":"HLOOKUP($B$1,'Room Inputs'!$D$3:$X$137,D65,0)","v":0},{"$f":"HLOOKUP($B$1,'Room Inputs'!$D$3:$X$137,E65,0)","v":0},0,{"$f":"HLOOKUP($B$1,'Room Inputs'!$D$3:$X$137,G65,0)","v":0},{"$f":"HLOOKUP($B$1,'Room Inputs'!$D$3:$X$137,H65,0)","v":0},{"$f":"IF(OR(G20=UvaluesWRF!A$2,ISERROR(VLOOKUP(G20,UvaluesWRF!A$3:B$110,2,FALSE))),\"\",VLOOKUP(G20,UvaluesWRF!A$3:B$110,2,FALSE))","v":""},{"$error":"#N/A"},{"$f":"IF(G20=UvaluesWRF!A$2,IF(ISERROR(F20*J20*H20),\"\",F20*J20*H20),IF(ISERROR(F20*J20*I20),\"\",F20*J20*I20))","v":""}]
[null,{"$f":"HLOOKUP($B$1,'Room Inputs'!$D$3:$X$137,B66,0)","v":0},{"$f":"HLOOKUP($B$1,'Room Inputs'!$D$3:$X$137,C66,0)","v":0},{"$f":"HLOOKUP($B$1,'Room Inputs'!$D$3:$X$137,D66,0)","v":0},{"$f":"HLOOKUP($B$1,'Room Inputs'!$D$3:$X$137,E66,0)","v":0},0,{"$f":"HLOOKUP($B$1,'Room Inputs'!$D$3:$X$137,G66,0)","v":0},{"$f":"HLOOKUP($B$1,'Room Inputs'!$D$3:$X$137,H66,0)","v":0},{"$f":"IF(OR(G21=UvaluesWRF!A$2,ISERROR(VLOOKUP(G21,UvaluesWRF!A$3:B$110,2,FALSE))),\"\",VLOOKUP(G21,UvaluesWRF!A$3:B$110,2,FALSE))","v":""},{"$error":"#N/A"},{"$f":"IF(G21=UvaluesWRF!A$2,IF(ISERROR(F21*J21*H21),\"\",F21*J21*H21),IF(ISERROR(F21*J21*I21),\"\",F21*J21*I21))","v":""}]
[null,{"$f":"HLOOKUP($B$1,'Room Inputs'!$D$3:$X$137,B67,0)","v":0},{"$f":"HLOOKUP($B$1,'Room Inputs'!$D$3:$X$137,C67,0)","v":0},{"$f":"HLOOKUP($B$1,'Room Inputs'!$D$3:$X$137,D67,0)","v":0},{"$f":"HLOOKUP($B$1,'Room Inputs'!$D$3:$X$137,E67,0)","v":0},0,{"$f":"HLOOKUP($B$1,'Room Inputs'!$D$3:$X$137,G67,0)","v":0},{"$f":"HLOOKUP($B$1,'Room Inputs'!$D$3:$X$137,H67,0)","v":0},{"$f":"IF(OR(G22=UvaluesWRF!A$2,ISERROR(VLOOKUP(G22,UvaluesWRF!A$3:B$110,2,FALSE))),\"\",VLOOKUP(G22,UvaluesWRF!A$3:B$110,2,FALSE))","v":""},{"$error":"#N/A"},{"$f":"IF(G22=UvaluesWRF!A$2,IF(ISERROR(F22*J22*H22),\"\",F22*J22*H22),IF(ISERROR(F22*J22*I22),\"\",F22*J22*I22))","v":""}]
[null,{"$f":"HLOOKUP($B$1,'Room Inputs'!$D$3:$X$137,B68,0)","v":0},{"$f":"HLOOKUP($B$1,'Room Inputs'!$D$3:$X$137,C68,0)","v":0},{"$f":"HLOOKUP($B$1,'Room Inputs'!$D$3:$X$137,D68,0)","v":0},{"$f":"HLOOKUP($B$1,'Room Inputs'!$D$3:$X$137,E68,0)","v":0},0,{"$f":"HLOOKUP($B$1,'Room Inputs'!$D$3:$X$137,G68,0)","v":0},{"$f":"HLOOKUP($B$1,'Room Inputs'!$D$3:$X$137,H68,0)","v":0},{"$f":"IF(OR(G23=UvaluesWRF!A$2,ISERROR(VLOOKUP(G23,UvaluesWRF!A$3:B$110,2,FALSE))),\"\",VLOOKUP(G23,UvaluesWRF!A$3:B$110,2,FALSE))","v":""},{"$error":"#N/A"},{"$f":"IF(G23=UvaluesWRF!A$2,IF(ISERROR(F23*J23*H23),\"\",F23*J23*H23),IF(ISERROR(F23*J23*I23),\"\",F23*J23*I23))","v":""}]
[null,{"$f":"HLOOKUP($B$1,'Room Inputs'!$D$3:$X$137,B69,0)","v":0},{"$f":"HLOOKUP($B$1,'Room Inputs'!$D$3:$X$137,C69,0)","v":0},{"$f":"HLOOKUP($B$1,'Room Inputs'!$D$3:$X$137,D69,0)","v":0},{"$f":"HLOOKUP($B$1,'Room Inputs'!$D$3:$X$137,E69,0)","v":0},0,{"$f":"HLOOKUP($B$1,'Room Inputs'!$D$3:$X$137,G69,0)","v":0},{"$f":"HLOOKUP($B$1,'Room Inputs'!$D$3:$X$137,H69,0)","v":0},{"$f":"IF(OR(G24=UvaluesWRF!A$2,ISERROR(VLOOKUP(G24,UvaluesWRF!A$3:B$110,2,FALSE))),\"\",VLOOKUP(G24,UvaluesWRF!A$3:B$110,2,FALSE))","v":""},{"$error":"#N/A"},{"$f":"IF(G24=UvaluesWRF!A$2,IF(ISERROR(F24*J24*H24),\"\",F24*J24*H24),IF(ISERROR(F24*J24*I24),\"\",F24*J24*I24))","v":""}]
[null,{"$f":"HLOOKUP($B$1,'Room Inputs'!$D$3:$X$137,B70,0)","v":0},{"$f":"HLOOKUP($B$1,'Room Inputs'!$D$3:$X$137,C70,0)","v":0},{"$f":"HLOOKUP($B$1,'Room Inputs'!$D$3:$X$137,D70,0)","v":0},{"$f":"HLOOKUP($B$1,'Room Inputs'!$D$3:$X$137,E70,0)","v":0},0,{"$f":"HLOOKUP($B$1,'Room Inputs'!$D$3:$X$137,G70,0)","v":0},{"$f":"HLOOKUP($B$1,'Room Inputs'!$D$3:$X$137,H70,0)","v":0},{"$f":"IF(OR(G25=UvaluesWRF!A$2,ISERROR(VLOOKUP(G25,UvaluesWRF!A$3:B$110,2,FALSE))),\"\",VLOOKUP(G25,UvaluesWRF!A$3:B$110,2,FALSE))","v":""},{"$error":"#N/A"},{"$f":"IF(G25=UvaluesWRF!A$2,IF(ISERROR(F25*J25*H25),\"\",F25*J25*H25),IF(ISERROR(F25*J25*I25),\"\",F25*J25*I25))","v":""}]
[null,"Ground floors \nShort length (m)","long length\n(m)","Edges exposed",null,null,"Type and Insulation  thickness",null,null,null,null,null,"U-value","Edge","Insulation","Column",null,1,2,3,4,5.3,5.4,5.5,5.6,6.3,6.4,6.5,6.6]
[null,{"$f":"HLOOKUP($B$1,'Room Inputs'!$D$3:$X$137,B72,0)","v":0},{"$f":"HLOOKUP($B$1,'Room Inputs'!$D$3:$X$137,C72,0)","v":0},{"$f":"HLOOKUP($B$1,'Room Inputs'!$D$3:$X$137,D72,0)","v":0},{"$f":"HLOOKUP($B$1,'Room Inputs'!$D$3:$X$137,E72,0)","v":0},{"$f":"B27*C27","v":0},{"$f":"HLOOKUP($B$1,'Room Inputs'!$D$3:$X$137,G72,0)","v":0},{"$f":"HLOOKUP($B$1,'Room Inputs'!$D$3:$X$137,H72,0)","v":0},{"$f":"IF(OR(G27=UvaluesFlr!$U$3,G27=UvaluesFlr!$U$4,ISERROR(M27)),\"\",M27)","v":""},{"$f":"$K$8-IF(LEFT(G27,2)=\"So\",10,'Site Inputs'!$C$8)","v":{"$error":"#N/A"}},{"$f":"IF(OR(G27=UvaluesFlr!$U$3,G27=UvaluesFlr!$U$4),IF(ISERROR(F27*J27*H27),\"\",F27*J27*H27),IF(ISERROR(F27*J27*I27),\"\",F27*J27*I27))","v":""},null,{"$f":"HLOOKUP(N27+MIN(0.6,IF(N27>4,O27/10,0)),$R$26:$AC$29,2,TRUE)","v":{"$error":"#N/A"}},{"$f":"VLOOKUP(D27,UvaluesFlr!$U$17:$V$22,2,FALSE)","v":{"$error":"#N/A"}},{"$f":"VLOOKUP(G27,UvaluesFlr!$U$3:$W$14,2,FALSE)","v":{"$error":"#N/A"}},{"$f":"VLOOKUP(G27,UvaluesFlr!$U$3:$W$14,3,FALSE)","v":{"$error":"#N/A"}},null,{"$f":"VLOOKUP(C27,UvaluesFlr!$C$53:$P$59,$P27,TRUE)","v":{"$error":"#N/A"}},{"$f":"VLOOKUP(B27,UvaluesFlr!$C$53:$P$59,$P27,TRUE)","v":{"$error":"#N/A"}},{"$f":"VLOOKUP(B27+C27,UvaluesFlr!$C$4:$P$12,$P27,TRUE)","v":{"$error":"#N/A"}},{"$f":"VLOOKUP(B27,UvaluesFlr!$C$16:$P$21,$P27,TRUE)","v":{"$error":"#N/A"}},{"$f":"VLOOKUP($C27,UvaluesFlr!$D$26:$P$29,$P27-1,TRUE)","v":{"$error":"#N/A"}},{"$f":"VLOOKUP($C27,UvaluesFlr!$D$30:$P$31,$P27-1,TRUE)","v":{"$error":"#N/A"}},{"$f":"VLOOKUP($C27,UvaluesFlr!$D$32:$P$33,$P27-1,TRUE)","v":{"$error":"#N/A"}},{"$f":"VLOOKUP($C27,UvaluesFlr!$D$34:$P$35,$P27-1,TRUE)","v":{"$error":"#N/A"}},{"$f":"VLOOKUP($C27,UvaluesFlr!$D$39:$P$42,$P27-1,TRUE)","v":{"$error":"#N/A"}},{"$f":"VLOOKUP($C27,UvaluesFlr!$D$43:$P$45,$P27-1,TRUE)","v":{"$error":"#N/A"}},{"$f":"VLOOKUP($C27,UvaluesFlr!$D$46:$P$48,$P27-1,TRUE)","v":{"$error":"#N/A"}},{"$f":"VLOOKUP($C27,UvaluesFlr!$D$49:$P$50,$P27-1,TRUE)","v":{"$error":"#N/A"}}]
[null,{"$f":"HLOOKUP($B$1,'Room Inputs'!$D$3:$X$137,B73,0)","v":0},{"$f":"HLOOKUP($B$1,'Room Inputs'!$D$3:$X$137,C73,0)","v":0},{"$f":"HLOOKUP($B$1,'Room Inputs'!$D$3:$X$137,D73,0)","v":0},{"$f":"HLOOKUP($B$1,'Room Inputs'!$D$3:$X$137,E73,0)","v":{"$error":"#VALUE!"}},{"$f":"B28*C28","v":0},{"$f":"HLOOKUP($B$1,'Room Inputs'!$D$3:$X$137,G73,0)","v":0},{"$f":"HLOOKUP($B$1,'Room Inputs'!$D$3:$X$137,H73,0)","v":0},{"$f":"IF(OR(G28=UvaluesFlr!$U$3,G28=UvaluesFlr!$U$4,ISERROR(M28)),\"\",M28)","v":""},{"$f":"$K$8-IF(LEFT(G28,2)=\"So\",10,'Site Inputs'!$C$8)","v":{"$error":"#N/A"}},{"$f":"IF(OR(G28=UvaluesFlr!$U$3,G28=UvaluesFlr!$U$4),IF(ISERROR(F28*J28*H28),\"\",F28*J28*H28),IF(ISERROR(F28*J28*I28),\"\",F28*J28*I28))","v":""},null,{"$f":"HLOOKUP(N28+MIN(0.6,IF(N28>4,O28/10,0)),$R$26:$AC$29,3,TRUE)","v":{"$error":"#N/A"}},{"$f":"VLOOKUP(D28,UvaluesFlr!$U$17:$V$22,2,FALSE)","v":{"$error":"#N/A"}},{"$f":"VLOOKUP(G28,UvaluesFlr!$U$3:$W$14,2,FALSE)","v":{"$error":"#N/A"}},{"$f":"VLOOKUP(G28,UvaluesFlr!$U$3:$W$14,3,FALSE)","v":{"$error":"#N/A"}},null,{"$f":"VLOOKUP(C28,UvaluesFlr!$C$53:$P$59,$P28,TRUE)","v":{"$error":"#N/A"}},{"$f":"VLOOKUP(B28,UvaluesFlr!$C$53:$P$59,$P28,TRUE)","v":{"$error":"#N/A"}},{"$f":"VLOOKUP(B28+C28,UvaluesFlr!$C$4:$P$12,$P28,TRUE)","v":{"$error":"#N/A"}},{"$f":"VLOOKUP(B28,UvaluesFlr!$C$16:$P$21,$P28,TRUE)","v":{"$error":"#N/A"}},{"$f":"VLOOKUP($C28,UvaluesFlr!$D$26:$P$29,$P28-1,TRUE)","v":{"$error":"#N/A"}},{"$f":"VLOOKUP($C28,UvaluesFlr!$D$30:$P$31,$P28-1,TRUE)","v":{"$error":"#N/A"}},{"$f":"VLOOKUP($C28,UvaluesFlr!$D$32:$P$33,$P28-1,TRUE)","v":{"$error":"#N/A"}},{"$f":"VLOOKUP($C28,UvaluesFlr!$D$34:$P$35,$P28-1,TRUE)","v":{"$error":"#N/A"}},{"$f":"VLOOKUP($C28,UvaluesFlr!$D$39:$P$42,$P28-1,TRUE)","v":{"$error":"#N/A"}},{"$f":"VLOOKUP($C28,UvaluesFlr!$D$43:$P$45,$P28-1,TRUE)","v":{"$error":"#N/A"}},{"$f":"VLOOKUP($C28,UvaluesFlr!$D$46:$P$48,$P28-1,TRUE)","v":{"$error":"#N/A"}},{"$f":"VLOOKUP($C28,UvaluesFlr!$D$49:$P$50,$P28-1,TRUE)","v":{"$error":"#N/A"}}]
[null,{"$f":"HLOOKUP($B$1,'Room Inputs'!$D$3:$X$137,B74,0)","v":0},{"$f":"HLOOKUP($B$1,'Room Inputs'!$D$3:$X$137,C74,0)","v":0},{"$f":"HLOOKUP($B$1,'Room Inputs'!$D$3:$X$137,D74,0)","v":0},{"$f":"HLOOKUP($B$1,'Room Inputs'!$D$3:$X$137,E74,0)","v":{"$error":"#VALUE!"}},{"$f":"B29*C29","v":0},{"$f":"HLOOKUP($B$1,'Room Inputs'!$D$3:$X$137,G74,0)","v":0},{"$f":"HLOOKUP($B$1,'Room Inputs'!$D$3:$X$137,H74,0)","v":0},{"$f":"IF(OR(G29=UvaluesFlr!$U$3,G29=UvaluesFlr!$U$4,ISERROR(M29)),\"\",M29)","v":""},{"$f":"$K$8-IF(LEFT(G29,2)=\"So\",10,'Site Inputs'!$C$8)","v":{"$error":"#N/A"}},{"$f":"IF(OR(G29=UvaluesFlr!$U$3,G29=UvaluesFlr!$U$4),IF(ISERROR(F29*J29*H29),\"\",F29*J29*H29),IF(ISERROR(F29*J29*I29),\"\",F29*J29*I29))","v":""},null,{"$f":"HLOOKUP(N29+MIN(0.6,IF(N29>4,O29/10,0)),$R$26:$AC$29,4,TRUE)","v":{"$error":"#N/A"}},{"$f":"VLOOKUP(D29,UvaluesFlr!$U$17:$V$22,2,FALSE)","v":{"$error":"#N/A"}},{"$f":"VLOOKUP(G29,UvaluesFlr!$U$3:$W$14,2,FALSE)","v":{"$error":"#N/A"}},{"$f":"VLOOKUP(G29,UvaluesFlr!$U$3:$W$14,3,FALSE)","v":{"$error":"#N/A"}},null,{"$f":"VLOOKUP(C29,UvaluesFlr!$C$53:$P$59,$P29,TRUE)","v":{"$error":"#N/A"}},{"$f":"VLOOKUP(B29,UvaluesFlr!$C$53:$P$59,$P29,TRUE)","v":{"$error":"#N/A"}},{"$f":"VLOOKUP(B29+C29,UvaluesFlr!$C$4:$P$12,$P29,TRUE)","v":{"$error":"#N/A"}},{"$f":"VLOOKUP(B29,UvaluesFlr!$C$16:$P$21,$P29,TRUE)","v":{"$error":"#N/A"}},{"$f":"VLOOKUP($C29,UvaluesFlr!$D$26:$P$29,$P29-1,TRUE)","v":{"$error":"#N/A"}},{"$f":"VLOOKUP($C29,UvaluesFlr!$D$30:$P$31,$P29-1,TRUE)","v":{"$error":"#N/A"}},{"$f":"VLOOKUP($C29,UvaluesFlr!$D$32:$P$33,$P29-1,TRUE)","v":{"$error":"#N/A"}},{"$f":"VLOOKUP($C29,UvaluesFlr!$D$34:$P$35,$P29-1,TRUE)","v":{"$error":"#N/A"}},{"$f":"VLOOKUP($C29,UvaluesFlr!$D$39:$P$42,$P29-1,TRUE)","v":{"$error":"#N/A"}},{"$f":"VLOOKUP($C29,UvaluesFlr!$D$43:$P$45,$P29-1,TRUE)","v":{"$error":"#N/A"}},{"$f":"VLOOKUP($C29,UvaluesFlr!$D$46:$P$48,$P29-1,TRUE)","v":{"$error":"#N/A"}},{"$f":"VLOOKUP($C29,UvaluesFlr!$D$49:$P$50,$P29-1,TRUE)","v":{"$error":"#N/A"}}]
[]
[]
[null,"Windows and doors"]
[null,"Wall or roof with window or door","Window or door height (m)","Window or door width (m)","Area (m²)","Wall/roof U-value (W/m²K)","Frame and glazing type ","Entered U-\u001evalue (W/m²K), if required","U-value","Design temperature difference","Heat loss (W)*"]
[null,{"$f":"HLOOKUP($B$1,'Room Inputs'!$D$3:$X$137,B79,0)","v":0},{"$f":"HLOOKUP($B$1,'Room Inputs'!$D$3:$X$137,C79,0)","v":0},{"$f":"HLOOKUP($B$1,'Room Inputs'!$D$3:$X$137,D79,0)","v":0},{"$f":"C34*D34","v":0},{"$f":"IF(B34<>\"\",IF(VLOOKUP(B34,B$14:I$25,6,FALSE)=UvalueWD!$C$6,VLOOKUP(B34,B$14:I$25,7,FALSE),VLOOKUP(B34,B$14:I$25,8,FALSE)),\"\")","v":""},{"$f":"HLOOKUP($B$1,'Room Inputs'!$D$3:$X$137,G79,0)","v":0},{"$f":"HLOOKUP($B$1,'Room Inputs'!$D$3:$X$137,H79,0)","v":0},{"$f":"IF(OR(G34=UvalueWD!C$6,G34=\"\"),\"\",VLOOKUP(G34,Windows,2,FALSE))","v":{"$error":"#N/A"}},{"$f":"IF(ISERROR(VLOOKUP(B34,B$13:K$29,9,FALSE)),\"\",VLOOKUP(B34,B$13:K$29,9,FALSE))","v":""},{"$f":"IF(G34=UvaluesWRF!A$2,IF(ISERROR(F34*J34*(H34-F34)),\"\",F34*J34*(H34-F34)),IF(ISERROR(F34*J34*(F34-I34)),\"\",(I34-F34)*J34*I34))","v":""}]
[null,{"$f":"HLOOKUP($B$1,'Room Inputs'!$D$3:$X$137,B80,0)","v":0},{"$f":"HLOOKUP($B$1,'Room Inputs'!$D$3:$X$137,C80,0)","v":0},{"$f":"HLOOKUP($B$1,'Room Inputs'!$D$3:$X$137,D80,0)","v":0},0,{"$f":"IF(B35<>\"\",IF(VLOOKUP(B35,B$14:I$25,6,FALSE)=UvalueWD!$C$6,VLOOKUP(B35,B$14:I$25,7,FALSE),VLOOKUP(B35,B$14:I$25,8,FALSE)),\"\")","v":""},{"$f":"HLOOKUP($B$1,'Room Inputs'!$D$3:$X$137,G80,0)","v":0},{"$f":"HLOOKUP($B$1,'Room Inputs'!$D$3:$X$137,H80,0)","v":0},{"$f":"IF(OR(G35=UvalueWD!C$6,G35=\"\"),\"\",VLOOKUP(G35,Windows,2,FALSE))","v":{"$error":"#N/A"}},"",{"$f":"IF(G35=UvaluesWRF!A$2,IF(ISERROR(F35*J35*(H35-F35)),\"\",F35*J35*(H35-F35)),IF(ISERROR(F35*J35*(F35-I35)),\"\",(I35-F35)*J35*I35))","v":""}]
[null,{"$f":"HLOOKUP($B$1,'Room Inputs'!$D$3:$X$137,B81,0)","v":0},{"$f":"HLOOKUP($B$1,'Room Inputs'!$D$3:$X$137,C81,0)","v":0},{"$f":"HLOOKUP($B$1,'Room Inputs'!$D$3:$X$137,D81,0)","v":0},0,{"$f":"IF(B36<>\"\",IF(VLOOKUP(B36,B$14:I$25,6,FALSE)=UvalueWD!$C$6,VLOOKUP(B36,B$14:I$25,7,FALSE),VLOOKUP(B36,B$14:I$25,8,FALSE)),\"\")","v":""},{"$f":"HLOOKUP($B$1,'Room Inputs'!$D$3:$X$137,G81,0)","v":0},{"$f":"HLOOKUP($B$1,'Room Inputs'!$D$3:$X$137,H81,0)","v":0},{"$f":"IF(OR(G36=UvalueWD!C$6,G36=\"\"),\"\",VLOOKUP(G36,Windows,2,FALSE))","v":{"$error":"#N/A"}},"",{"$f":"IF(G36=UvaluesWRF!A$2,IF(ISERROR(F36*J36*(H36-F36)),\"\",F36*J36*(H36-F36)),IF(ISERROR(F36*J36*(F36-I36)),\"\",(I36-F36)*J36*I36))","v":""}]
[null,{"$f":"HLOOKUP($B$1,'Room Inputs'!$D$3:$X$137,B82,0)","v":0},{"$f":"HLOOKUP($B$1,'Room Inputs'!$D$3:$X$137,C82,0)","v":0},{"$f":"HLOOKUP($B$1,'Room Inputs'!$D$3:$X$137,D82,0)","v":0},0,{"$f":"IF(B37<>\"\",IF(VLOOKUP(B37,B$14:I$25,6,FALSE)=UvalueWD!$C$6,VLOOKUP(B37,B$14:I$25,7,FALSE),VLOOKUP(B37,B$14:I$25,8,FALSE)),\"\")","v":""},{"$f":"HLOOKUP($B$1,'Room Inputs'!$D$3:$X$137,G82,0)","v":0},{"$f":"HLOOKUP($B$1,'Room Inputs'!$D$3:$X$137,H82,0)","v":0},{"$f":"IF(OR(G37=UvalueWD!C$6,G37=\"\"),\"\",VLOOKUP(G37,Windows,2,FALSE))","v":{"$error":"#N/A"}},"",{"$f":"IF(G37=UvaluesWRF!A$2,IF(ISERROR(F37*J37*(H37-F37)),\"\",F37*J37*(H37-F37)),IF(ISERROR(F37*J37*(F37-I37)),\"\",(I37-F37)*J37*I37))","v":""}]
[null,{"$f":"HLOOKUP($B$1,'Room Inputs'!$D$3:$X$137,B83,0)","v":0},{"$f":"HLOOKUP($B$1,'Room Inputs'!$D$3:$X$137,C83,0)","v":0},{"$f":"HLOOKUP($B$1,'Room Inputs'!$D$3:$X$137,D83,0)","v":0},0,{"$f":"IF(B38<>\"\",IF(VLOOKUP(B38,B$14:I$25,6,FALSE)=UvalueWD!$C$6,VLOOKUP(B38,B$14:I$25,7,FALSE),VLOOKUP(B38,B$14:I$25,8,FALSE)),\"\")","v":""},{"$f":"HLOOKUP($B$1,'Room Inputs'!$D$3:$X$137,G83,0)","v":0},{"$f":"HLOOKUP($B$1,'Room Inputs'!$D$3:$X$137,H83,0)","v":0},{"$f":"IF(OR(G38=UvalueWD!C$6,G38=\"\"),\"\",VLOOKUP(G38,Windows,2,FALSE))","v":{"$error":"#N/A"}},"",{"$f":"IF(G38=UvaluesWRF!A$2,IF(ISERROR(F38*J38*(H38-F38)),\"\",F38*J38*(H38-F38)),IF(ISERROR(F38*J38*(F38-I38)),\"\",(I38-F38)*J38*I38))","v":""}]
[null,{"$f":"HLOOKUP($B$1,'Room Inputs'!$D$3:$X$137,B84,0)","v":0},{"$f":"HLOOKUP($B$1,'Room Inputs'!$D$3:$X$137,C84,0)","v":0},{"$f":"HLOOKUP($B$1,'Room Inputs'!$D$3:$X$137,D84,0)","v":0},0,{"$f":"IF(B39<>\"\",IF(VLOOKUP(B39,B$14:I$25,6,FALSE)=UvalueWD!$C$6,VLOOKUP(B39,B$14:I$25,7,FALSE),VLOOKUP(B39,B$14:I$25,8,FALSE)),\"\")","v":""},{"$f":"HLOOKUP($B$1,'Room Inputs'!$D$3:$X$137,G84,0)","v":0},{"$f":"HLOOKUP($B$1,'Room Inputs'!$D$3:$X$137,H84,0)","v":0},{"$f":"IF(OR(G39=UvalueWD!C$6,G39=\"\"),\"\",VLOOKUP(G39,Windows,2,FALSE))","v":{"$error":"#N/A"}},"",{"$f":"IF(G39=UvaluesWRF!A$2,IF(ISERROR(F39*J39*(H39-F39)),\"\",F39*J39*(H39-F39)),IF(ISERROR(F39*J39*(F39-I39)),\"\",(I39-F39)*J39*I39))","v":""}]
[]
[null,"* this is net heat loss (i.e. the heat loss of the window minus that of a wall of the same area) and so can be negative.  This is done so that the area of the window or door does not have to be subtracted from the wall area.  "]
[null,null,null,null,null,null,null,null,"Room heat loss (W)",null,{"$f":"SUM(K10:K39)","v":0}]
[]
[]
[]
[null,"Row number lookup map"]
[]
[null,"Room name",2,null,"Emitter type",3,"For convectors consult the manufacturer's data and enter the temperature factor (FTEMP) for the appropriate fan speed",4,"For radiators enter the n-coefficient (exponent) from manufacturer's data.  If unknown 1.3 may be used",null,5]
[]
[null,"Enter floor type and construction",6,null,"Enter floor type and construction",7,"For UFH enter Tog value (See Table 14)",8,"For UFH enter  active or exposed area of the heated floor ",null,9]
[]
[null,"Enter Room type below",null,null," Enter Open fire/chimney details below "]
[null,10,null,null,11]
[null,"Room Dimensions"]
[null,"Length (m)",null,"Width (m)",null,"Height (m)"]
[null,13,null,14,null,15]
[null,"Walls, floors not ground floors and ceiling"]
[null,"Name of wall, floor, ceiling","Space on other side","Height or length (m)","Width (m)",null,"Construction","Entered U-\u001evalue (W/m²K), if required"]
[null,16,17,18,19,null,20,21]
[null,22,23,24,25,null,26,27]
[null,28,29,30,31,null,32,33]
[null,35,36,37,38,null,39,40]
[null,41,42,43,44,null,45,46]
[null,47,48,49,50,null,51,52]
[null,53,54,55,56,null,57,58]
[null,59,60,61,62,null,63,64]
[null,65,66,67,68,null,69,70]
[null,71,72,73,74,null,75,76]
[null,77,78,79,80,null,81,82]
[null,83,84,85,86,null,87,88]
[null,"Ground floors \nShort length (m)","long length\n(m)","Edges exposed",null,null,"Type and Insulation  thickness"]
[null,89,90,91,92,null,92,93]
[null,95,96,97,null,null,98,99]
[null,100,101,102,null,null,103,104]
[]
[]
[null,"Windows and doors"]
[null,"Wall or roof with window or door","Window or door height (m)","Window or door width (m)","Area (m²)","Wall/roof U-value (W/m²K)","Frame and glazing type ","Entered U-\u001evalue (W/m²K), if required"]
[null,105,106,107,null,null,108,109]
[null,111,112,113,null,null,114,115]
[null,116,117,118,null,null,119,120]
[null,121,122,123,null,null,124,125]
[null,126,127,128,null,null,129,130]
[null,131,132,133,null,null,134,135]

{"sheet":"17","index":22,"n_rows":84,"n_cols":29,"rows_kept":84,"cut":false,"hidden":true,"merged":[[40,1,40,7],[41,8,41,9],[7,7,7,8],[4,8,4,9],[6,1,6,2],[6,4,6,5],[6,7,6,8],[47,8,47,9],[49,2,49,3],[49,8,49,9],[51,1,51,2],[51,4,51,5],[51,7,51,8],[52,1,52,2],[52,4,52,5],[52,7,52,8],[72,3,72,4],[73,3,73,4],[71,3,71,4]]}
[null,{"$f":"'Room Inputs'!U3","v":"Room17"}]
[]
[null,"Room name",{"$f":"HLOOKUP($B$1,'Room Inputs'!$D$3:$X$137,C48,0)","v":0},null,"Emitter type",{"$f":"HLOOKUP($B$1,'Room Inputs'!$D$3:$X$137,F48,0)","v":0},"For convectors consult the manufacturer's data and enter the temperature factor (FTEMP) for the appropriate fan speed",{"$f":"HLOOKUP($B$1,'Room Inputs'!$D$3:$X$137,H48,0)","v":0.85},"For radiators enter the n-coefficient (exponent) from manufacturer's data.  If unknown 1.3 may be used",null,{"$f":"HLOOKUP($B$1,'Room Inputs'!$D$3:$X$137,K48,0)","v":1.3}]
[]
[null,"Enter floor type and construction",{"$f":"HLOOKUP($B$1,'Room Inputs'!$D$3:$X$137,C50,0)","v":0},null,"Enter floor type and construction",{"$f":"HLOOKUP($B$1,'Room Inputs'!$D$3:$X$137,F50,0)","v":0},"For UFH enter Tog value (See Table 14)",{"$f":"HLOOKUP($B$1,'Room Inputs'!$D$3:$X$137,H50,0)","v":0.25},"For UFH enter  active or exposed area of the heated floor ",null,{"$f":"HLOOKUP($B$1,'Room Inputs'!$D$3:$X$137,K50,0)","v":0}]
[]
[null,"Enter Room type below",null,null," Enter Open fire/chimney details below ",null,null,"Design room ventilation rate (air changes per hour)",null,null,"Design room temperature °C"]
[null,{"$f":"HLOOKUP($B$1,'Room Inputs'!$D$3:$X$137,B53,0)","v":0},null,null,{"$f":"HLOOKUP($B$1,'Room Inputs'!$D$3:$X$137,E53,0)","v":0},null,null,{"$f":"IF(E8=VTables!B20,VLOOKUP(B8,DRVT,3,FALSE),MAX(VLOOKUP(B8,DRVT,3,FALSE),VLOOKUP(E8,ARVR,2,FALSE)))","v":{"$error":"#N/A"}},null,null,{"$f":"VLOOKUP(B8,DRVT,2,FALSE)","v":{"$error":"#N/A"}}]
[null,"Room Dimensions"]
[null,"Length (m)",null,"Width (m)",null,"Height (m)","Room volume (m³) ",null,null,"Design temperature difference","Heat loss (W)"]
[null,{"$f":"HLOOKUP($B$1,'Room Inputs'!$D$3:$X$137,B56,0)","v":0},null,{"$f":"HLOOKUP($B$1,'Room Inputs'!$D$3:$X$137,D56,0)","v":0},null,{"$f":"HLOOKUP($B$1,'Room Inputs'!$D$3:$X$137,F56,0)","v":0},{"$f":"B11*D11*F11","v":0},null,null,{"$f":"K8-'Site Inputs'!C8","v":{"$error":"#N/A"}},{"$f":"IF(G11>0,(ROUND(0.33*G11*H8*J11,2)),\"\")","v":""}]
[null,"Walls, floors not ground floors and ceiling"]
[null,"Name of wall, floor, ceiling","Space on other side","Height or length (m)","Width (m)","Area (m²)","Construction","Entered U-\u001evalue (W/m²K), if required","U-value (W/m²K)","Design temperature difference","Heat loss (W)",null,"`"]
[null,{"$f":"HLOOKUP($B$1,'Room Inputs'!$D$3:$X$137,B59,0)","v":0},{"$f":"HLOOKUP($B$1,'Room Inputs'!$D$3:$X$137,C59,0)","v":0},{"$f":"HLOOKUP($B$1,'Room Inputs'!$D$3:$X$137,D59,0)","v":0},{"$f":"HLOOKUP($B$1,'Room Inputs'!$D$3:$X$137,E59,0)","v":0},{"$f":"D14*E14","v":0},{"$f":"HLOOKUP($B$1,'Room Inputs'!$D$3:$X$137,G59,0)","v":0},{"$f":"HLOOKUP($B$1,'Room Inputs'!$D$3:$X$137,H59,0)","v":0},{"$f":"IF(OR(G14=UvaluesWRF!A$2,ISERROR(VLOOKUP(G14,UvaluesWRF!A$3:B$110,2,FALSE))),\"\",VLOOKUP(G14,UvaluesWRF!A$3:B$110,2,FALSE))","v":""},{"$f":"IF(C14=\"\",\"\",$K$8-VLOOKUP(C14,DRVT,2,FALSE))","v":{"$error":"#N/A"}},{"$f":"IF(G14=UvaluesWRF!A$2,IF(ISERROR(F14*J14*H14),\"\",F14*J14*H14),IF(ISERROR(F14*J14*I14),\"\",F14*J14*I14))","v":""}]
[null,{"$f":"HLOOKUP($B$1,'Room Inputs'!$D$3:$X$137,B60,0)","v":0},{"$f":"HLOOKUP($B$1,'Room Inputs'!$D$3:$X$137,C60,0)","v":0},{"$f":"HLOOKUP($B$1,'Room Inputs'!$D$3:$X$137,D60,0)","v":0},{"$f":"HLOOKUP($B$1,'Room Inputs'!$D$3:$X$137,E60,0)","v":0},{"$f":"D15*E15","v":0},{"$f":"HLOOKUP($B$1,'Room Inputs'!$D$3:$X$137,G60,0)","v":0},{"$f":"HLOOKUP($B$1,'Room Inputs'!$D$3:$X$137,H60,0)","v":0},{"$f":"IF(OR(G15=UvaluesWRF!A$2,ISERROR(VLOOKUP(G15,UvaluesWRF!A$3:B$110,2,FALSE))),\"\",VLOOKUP(G15,UvaluesWRF!A$3:B$110,2,FALSE))","v":""},{"$error":"#N/A"},{"$f":"IF(G15=UvaluesWRF!A$2,IF(ISERROR(F15*J15*H15),\"\",F15*J15*H15),IF(ISERROR(F15*J15*I15),\"\",F15*J15*I15))","v":""}]
[null,{"$f":"HLOOKUP($B$1,'Room Inputs'!$D$3:$X$137,B61,0)","v":0},{"$f":"HLOOKUP($B$1,'Room Inputs'!$D$3:$X$137,C61,0)","v":0},{"$f":"HLOOKUP($B$1,'Room Inputs'!$D$3:$X$137,D61,0)","v":0},{"$f":"HLOOKUP($B$1,'Room Inputs'!$D$3:$X$137,E61,0)","v":0},0,{"$f":"HLOOKUP($B$1,'Room Inputs'!$D$3:$X$137,G61,0)","v":0},{"$f":"HLOOKUP($B$1,'Room Inputs'!$D$3:$X$137,H61,0)","v":0},{"$f":"IF(OR(G16=UvaluesWRF!A$2,ISERROR(VLOOKUP(G16,UvaluesWRF!A$3:B$110,2,FALSE))),\"\",VLOOKUP(G16,UvaluesWRF!A$3:B$110,2,FALSE))","v":""},{"$error":"#N/A"},{"$f":"IF(G16=UvaluesWRF!A$2,IF(ISERROR(F16*J16*H16),\"\",F16*J16*H16),IF(ISERROR(F16*J16*I16),\"\",F16*J16*I16))","v":""}]
[null,{"$f":"HLOOKUP($B$1,'Room Inputs'!$D$3:$X$137,B62,0)","v":0},{"$f":"HLOOKUP($B$1,'Room Inputs'!$D$3:$X$137,C62,0)","v":0},{"$f":"HLOOKUP($B$1,'Room Inputs'!$D$3:$X$137,D62,0)","v":0},{"$f":"HLOOKUP($B$1,'Room Inputs'!$D$3:$X$137,E62,0)","v":0},0,{"$f":"HLOOKUP($B$1,'Room Inputs'!$D$3:$X$137,G62,0)","v":0},{"$f":"HLOOKUP($B$1,'Room Inputs'!$D$3:$X$137,H62,0)","v":0},{"$f":"IF(OR(G17=UvaluesWRF!A$2,ISERROR(VLOOKUP(G17,UvaluesWRF!A$3:B$110,2,FALSE))),\"\",VLOOKUP(G17,UvaluesWRF!A$3:B$110,2,FALSE))","v":""},{"$error":"#N/A"},{"$f":"IF(G17=UvaluesWRF!A$2,IF(ISERROR(F17*J17*H17),\"\",F17*J17*H17),IF(ISERROR(F17*J17*I17),\"\",F17*J17*I17))","v":""}]
[null,{"$f":"HLOOKUP($B$1,'Room Inputs'!$D$3:$X$137,B63,0)","v":0},{"$f":"HLOOKUP($B$1,'Room Inputs'!$D$3:$X$137,C63,0)","v":0},{"$f":"HLOOKUP($B$1,'Room Inputs'!$D$3:$X$137,D63,0)","v":0},{"$f":"HLOOKUP($B$1,'Room Inputs'!$D$3:$X$137,E63,0)","v":0},0,{"$f":"HLOOKUP($B$1,'Room Inputs'!$D$3:$X$137,G63,0)","v":0},{"$f":"HLOOKUP($B$1,'Room Inputs'!$D$3:$X$137,H63,0)","v":0},{"$f":"IF(OR(G18=UvaluesWRF!A$2,ISERROR(VLOOKUP(G18,UvaluesWRF!A$3:B$110,2,FALSE))),\"\",VLOOKUP(G18,UvaluesWRF!A$3:B$110,2,FALSE))","v":""},{"$error":"#N/A"},{"$f":"IF(G18=UvaluesWRF!A$2,IF(ISERROR(F18*J18*H18),\"\",F18*J18*H18),IF(ISERROR(F18*J18*I18),\"\",F18*J18*I18))","v":""}]
[null,{"$f":"HLOOKUP($B$1,'Room Inputs'!$D$3:$X$137,B64,0)","v":0},{"$f":"HLOOKUP($B$1,'Room Inputs'!$D$3:$X$137,C64,0)","v":0},{"$f":"HLOOKUP($B$1,'Room Inputs'!$D$3:$X$137,D64,0)","v":0},{"$f":"HLOOKUP($B$1,'Room Inputs'!$D$3:$X$137,E64,0)","v":0},0,{"$f":"HLOOKUP($B$1,'Room Inputs'!$D$3:$X$137,G64,0)","v":0},{"$f":"HLOOKUP($B$1,'Room Inputs'!$D$3:$X$137,H64,0)","v":0},{"$f":"IF(OR(G19=UvaluesWRF!A$2,ISERROR(VLOOKUP(G19,UvaluesWRF!A$3:B$110,2,FALSE))),\"\",VLOOKUP(G19,UvaluesWRF!A$3:B$110,2,FALSE))","v":""},{"$error":"#N/A"},{"$f":"IF(G19=UvaluesWRF!A$2,IF(ISERROR(F19*J19*H19),\"\",F19*J19*H19),IF(ISERROR(F19*J19*I19),\"\",F19*J19*I19))","v":""}]
[null,{"$f":"HLOOKUP($B$1,'Room Inputs'!$D$3:$X$137,B65,0)","v":0},{"$f":"HLOOKUP($B$1,'Room Inputs'!$D$3:$X$137,C65,0)","v":0},{"$f":"HLOOKUP($B$1,'Room Inputs'!$D$3:$X$137,D65,0)","v":0},{"$f":"HLOOKUP($B$1,'Room Inputs'!$D$3:$X$137,E65,0)","v":0},0,{"$f":"HLOOKUP($B$1,'Room Inputs'!$D$3:$X$137,G65,0)","v":0},{"$f":"HLOOKUP($B$1,'Room Inputs'!$D$3:$X$137,H65,0)","v":0},{"$f":"IF(OR(G20=UvaluesWRF!A$2,ISERROR(VLOOKUP(G20,UvaluesWRF!A$3:B$110,2,FALSE))),\"\",VLOOKUP(G20,UvaluesWRF!A$3:B$110,2,FALSE))","v":""},{"$error":"#N/A"},{"$f":"IF(G20=UvaluesWRF!A$2,IF(ISERROR(F20*J20*H20),\"\",F20*J20*H20),IF(ISERROR(F20*J20*I20),\"\",F20*J20*I20))","v":""}]
[null,{"$f":"HLOOKUP($B$1,'Room Inputs'!$D$3:$X$137,B66,0)","v":0},{"$f":"HLOOKUP($B$1,'Room Inputs'!$D$3:$X$137,C66,0)","v":0},{"$f":"HLOOKUP($B$1,'Room Inputs'!$D$3:$X$137,D66,0)","v":0},{"$f":"HLOOKUP($B$1,'Room Inputs'!$D$3:$X$137,E66,0)","v":0},0,{"$f":"HLOOKUP($B$1,'Room Inputs'!$D$3:$X$137,G66,0)","v":0},{"$f":"HLOOKUP($B$1,'Room Inputs'!$D$3:$X$137,H66,0)","v":0},{"$f":"IF(OR(G21=UvaluesWRF!A$2,ISERROR(VLOOKUP(G21,UvaluesWRF!A$3:B$110,2,FALSE))),\"\",VLOOKUP(G21,UvaluesWRF!A$3:B$110,2,FALSE))","v":""},{"$error":"#N/A"},{"$f":"IF(G21=UvaluesWRF!A$2,IF(ISERROR(F21*J21*H21),\"\",F21*J21*H21),IF(ISERROR(F21*J21*I21),\"\",F21*J21*I21))","v":""}]
[null,{"$f":"HLOOKUP($B$1,'Room Inputs'!$D$3:$X$137,B67,0)","v":0},{"$f":"HLOOKUP($B$1,'Room Inputs'!$D$3:$X$137,C67,0)","v":0},{"$f":"HLOOKUP($B$1,'Room Inputs'!$D$3:$X$137,D67,0)","v":0},{"$f":"HLOOKUP($B$1,'Room Inputs'!$D$3:$X$137,E67,0)","v":0},0,{"$f":"HLOOKUP($B$1,'Room Inputs'!$D$3:$X$137,G67,0)","v":0},{"$f":"HLOOKUP($B$1,'Room Inputs'!$D$3:$X$137,H67,0)","v":0},{"$f":"IF(OR(G22=UvaluesWRF!A$2,ISERROR(VLOOKUP(G22,UvaluesWRF!A$3:B$110,2,FALSE))),\"\",VLOOKUP(G22,UvaluesWRF!A$3:B$110,2,FALSE))","v":""},{"$error":"#N/A"},{"$f":"IF(G22=UvaluesWRF!A$2,IF(ISERROR(F22*J22*H22),\"\",F22*J22*H22),IF(ISERROR(F22*J22*I22),\"\",F22*J22*I22))","v":""}]
[null,{"$f":"HLOOKUP($B$1,'Room Inputs'!$D$3:$X$137,B68,0)","v":0},{"$f":"HLOOKUP($B$1,'Room Inputs'!$D$3:$X$137,C68,0)","v":0},{"$f":"HLOOKUP($B$1,'Room Inputs'!$D$3:$X$137,D68,0)","v":0},{"$f":"HLOOKUP($B$1,'Room Inputs'!$D$3:$X$137,E68,0)","v":0},0,{"$f":"HLOOKUP($B$1,'Room Inputs'!$D$3:$X$137,G68,0)","v":0},{"$f":"HLOOKUP($B$1,'Room Inputs'!$D$3:$X$137,H68,0)","v":0},{"$f":"IF(OR(G23=UvaluesWRF!A$2,ISERROR(VLOOKUP(G23,UvaluesWRF!A$3:B$110,2,FALSE))),\"\",VLOOKUP(G23,UvaluesWRF!A$3:B$110,2,FALSE))","v":""},{"$error":"#N/A"},{"$f":"IF(G23=UvaluesWRF!A$2,IF(ISERROR(F23*J23*H23),\"\",F23*J23*H23),IF(ISERROR(F23*J23*I23),\"\",F23*J23*I23))","v":""}]
[null,{"$f":"HLOOKUP($B$1,'Room Inputs'!$D$3:$X$137,B69,0)","v":0},{"$f":"HLOOKUP($B$1,'Room Inputs'!$D$3:$X$137,C69,0)","v":0},{"$f":"HLOOKUP($B$1,'Room Inputs'!$D$3:$X$137,D69,0)","v":0},{"$f":"HLOOKUP($B$1,'Room Inputs'!$D$3:$X$137,E69,0)","v":0},0,{"$f":"HLOOKUP($B$1,'Room Inputs'!$D$3:$X$137,G69,0)","v":0},{"$f":"HLOOKUP($B$1,'Room Inputs'!$D$3:$X$137,H69,0)","v":0},{"$f":"IF(OR(G24=UvaluesWRF!A$2,ISERROR(VLOOKUP(G24,UvaluesWRF!A$3:B$110,2,FALSE))),\"\",VLOOKUP(G24,UvaluesWRF!A$3:B$110,2,FALSE))","v":""},{"$error":"#N/A"},{"$f":"IF(G24=UvaluesWRF!A$2,IF(ISERROR(F24*J24*H24),\"\",F24*J24*H24),IF(ISERROR(F24*J24*I24),\"\",F24*J24*I24))","v":""}]
[null,{"$f":"HLOOKUP($B$1,'Room Inputs'!$D$3:$X$137,B70,0)","v":0},{"$f":"HLOOKUP($B$1,'Room Inputs'!$D$3:$X$137,C70,0)","v":0},{"$f":"HLOOKUP($B$1,'Room Inputs'!$D$3:$X$137,D70,0)","v":0},{"$f":"HLOOKUP($B$1,'Room Inputs'!$D$3:$X$137,E70,0)","v":0},0,{"$f":"HLOOKUP($B$1,'Room Inputs'!$D$3:$X$137,G70,0)","v":0},{"$f":"HLOOKUP($B$1,'Room Inputs'!$D$3:$X$137,H70,0)","v":0},{"$f":"IF(OR(G25=UvaluesWRF!A$2,ISERROR(VLOOKUP(G25,UvaluesWRF!A$3:B$110,2,FALSE))),\"\",VLOOKUP(G25,UvaluesWRF!A$3:B$110,2,FALSE))","v":""},{"$error":"#N/A"},{"$f":"IF(G25=UvaluesWRF!A$2,IF(ISERROR(F25*J25*H25),\"\",F25*J25*H25),IF(ISERROR(F25*J25*I25),\"\",F25*J25*I25))","v":""}]
[null,"Ground floors \nShort length (m)","long length\n(m)","Edges exposed",null,null,"Type and Insulation  thickness",null,null,null,null,null,"U-value","Edge","Insulation","Column",null,1,2,3,4,5.3,5.4,5.5,5.6,6.3,6.4,6.5,6.6]
[null,{"$f":"HLOOKUP($B$1,'Room Inputs'!$D$3:$X$137,B72,0)","v":0},{"$f":"HLOOKUP($B$1,'Room Inputs'!$D$3:$X$137,C72,0)","v":0},{"$f":"HLOOKUP($B$1,'Room Inputs'!$D$3:$X$137,D72,0)","v":0},{"$f":"HLOOKUP($B$1,'Room Inputs'!$D$3:$X$137,E72,0)","v":0},{"$f":"B27*C27","v":0},{"$f":"HLOOKUP($B$1,'Room Inputs'!$D$3:$X$137,G72,0)","v":0},{"$f":"HLOOKUP($B$1,'Room Inputs'!$D$3:$X$137,H72,0)","v":0},{"$f":"IF(OR(G27=UvaluesFlr!$U$3,G27=UvaluesFlr!$U$4,ISERROR(M27)),\"\",M27)","v":""},{"$f":"$K$8-IF(LEFT(G27,2)=\"So\",10,'Site Inputs'!$C$8)","v":{"$error":"#N/A"}},{"$f":"IF(OR(G27=UvaluesFlr!$U$3,G27=UvaluesFlr!$U$4),IF(ISERROR(F27*J27*H27),\"\",F27*J27*H27),IF(ISERROR(F27*J27*I27),\"\",F27*J27*I27))","v":""},null,{"$f":"HLOOKUP(N27+MIN(0.6,IF(N27>4,O27/10,0)),$R$26:$AC$29,2,TRUE)","v":{"$error":"#N/A"}},{"$f":"VLOOKUP(D27,UvaluesFlr!$U$17:$V$22,2,FALSE)","v":{"$error":"#N/A"}},{"$f":"VLOOKUP(G27,UvaluesFlr!$U$3:$W$14,2,FALSE)","v":{"$error":"#N/A"}},{"$f":"VLOOKUP(G27,UvaluesFlr!$U$3:$W$14,3,FALSE)","v":{"$error":"#N/A"}},null,{"$f":"VLOOKUP(C27,UvaluesFlr!$C$53:$P$59,$P27,TRUE)","v":{"$error":"#N/A"}},{"$f":"VLOOKUP(B27,UvaluesFlr!$C$53:$P$59,$P27,TRUE)","v":{"$error":"#N/A"}},{"$f":"VLOOKUP(B27+C27,UvaluesFlr!$C$4:$P$12,$P27,TRUE)","v":{"$error":"#N/A"}},{"$f":"VLOOKUP(B27,UvaluesFlr!$C$16:$P$21,$P27,TRUE)","v":{"$error":"#N/A"}},{"$f":"VLOOKUP($C27,UvaluesFlr!$D$26:$P$29,$P27-1,TRUE)","v":{"$error":"#N/A"}},{"$f":"VLOOKUP($C27,UvaluesFlr!$D$30:$P$31,$P27-1,TRUE)","v":{"$error":"#N/A"}},{"$f":"VLOOKUP($C27,UvaluesFlr!$D$32:$P$33,$P27-1,TRUE)","v":{"$error":"#N/A"}},{"$f":"VLOOKUP($C27,UvaluesFlr!$D$34:$P$35,$P27-1,TRUE)","v":{"$error":"#N/A"}},{"$f":"VLOOKUP($C27,UvaluesFlr!$D$39:$P$42,$P27-1,TRUE)","v":{"$error":"#N/A"}},{"$f":"VLOOKUP($C27,UvaluesFlr!$D$43:$P$45,$P27-1,TRUE)","v":{"$error":"#N/A"}},{"$f":"VLOOKUP($C27,UvaluesFlr!$D$46:$P$48,$P27-1,TRUE)","v":{"$error":"#N/A"}},{"$f":"VLOOKUP($C27,UvaluesFlr!$D$49:$P$50,$P27-1,TRUE)","v":{"$error":"#N/A"}}]
[null,{"$f":"HLOOKUP($B$1,'Room Inputs'!$D$3:$X$137,B73,0)","v":0},{"$f":"HLOOKUP($B$1,'Room Inputs'!$D$3:$X$137,C73,0)","v":0},{"$f":"HLOOKUP($B$1,'Room Inputs'!$D$3:$X$137,D73,0)","v":0},{"$f":"HLOOKUP($B$1,'Room Inputs'!$D$3:$X$137,E73,0)","v":{"$error":"#VALUE!"}},{"$f":"B28*C28","v":0},{"$f":"HLOOKUP($B$1,'Room Inputs'!$D$3:$X$137,G73,0)","v":0},{"$f":"HLOOKUP($B$1,'Room Inputs'!$D$3:$X$137,H73,0)","v":0},{"$f":"IF(OR(G28=UvaluesFlr!$U$3,G28=UvaluesFlr!$U$4,ISERROR(M28)),\"\",M28)","v":""},{"$f":"$K$8-IF(LEFT(G28,2)=\"So\",10,'Site Inputs'!$C$8)","v":{"$error":"#N/A"}},{"$f":"IF(OR(G28=UvaluesFlr!$U$3,G28=UvaluesFlr!$U$4),IF(ISERROR(F28*J28*H28),\"\",F28*J28*H28),IF(ISERROR(F28*J28*I28),\"\",F28*J28*I28))","v":""},null,{"$f":"HLOOKUP(N28+MIN(0.6,IF(N28>4,O28/10,0)),$R$26:$AC$29,3,TRUE)","v":{"$error":"#N/A"}},{"$f":"VLOOKUP(D28,UvaluesFlr!$U$17:$V$22,2,FALSE)","v":{"$error":"#N/A"}},{"$f":"VLOOKUP(G28,UvaluesFlr!$U$3:$W$14,2,FALSE)","v":{"$error":"#N/A"}},{"$f":"VLOOKUP(G28,UvaluesFlr!$U$3:$W$14,3,FALSE)","v":{"$error":"#N/A"}},null,{"$f":"VLOOKUP(C28,UvaluesFlr!$C$53:$P$59,$P28,TRUE)","v":{"$error":"#N/A"}},{"$f":"VLOOKUP(B28,UvaluesFlr!$C$53:$P$59,$P28,TRUE)","v":{"$error":"#N/A"}},{"$f":"VLOOKUP(B28+C28,UvaluesFlr!$C$4:$P$12,$P28,TRUE)","v":{"$error":"#N/A"}},{"$f":"VLOOKUP(B28,UvaluesFlr!$C$16:$P$21,$P28,TRUE)","v":{"$error":"#N/A"}},{"$f":"VLOOKUP($C28,UvaluesFlr!$D$26:$P$29,$P28-1,TRUE)","v":{"$error":"#N/A"}},{"$f":"VLOOKUP($C28,UvaluesFlr!$D$30:$P$31,$P28-1,TRUE)","v":{"$error":"#N/A"}},{"$f":"VLOOKUP($C28,UvaluesFlr!$D$32:$P$33,$P28-1,TRUE)","v":{"$error":"#N/A"}},{"$f":"VLOOKUP($C28,UvaluesFlr!$D$34:$P$35,$P28-1,TRUE)","v":{"$error":"#N/A"}},{"$f":"VLOOKUP($C28,UvaluesFlr!$D$39:$P$42,$P28-1,TRUE)","v":{"$error":"#N/A"}},{"$f":"VLOOKUP($C28,UvaluesFlr!$D$43:$P$45,$P28-1,TRUE)","v":{"$error":"#N/A"}},{"$f":"VLOOKUP($C28,UvaluesFlr!$D$46:$P$48,$P28-1,TRUE)","v":{"$error":"#N/A"}},{"$f":"VLOOKUP($C28,UvaluesFlr!$D$49:$P$50,$P28-1,TRUE)","v":{"$error":"#N/A"}}]
[null,{"$f":"HLOOKUP($B$1,'Room Inputs'!$D$3:$X$137,B74,0)","v":0},{"$f":"HLOOKUP($B$1,'Room Inputs'!$D$3:$X$137,C74,0)","v":0},{"$f":"HLOOKUP($B$1,'Room Inputs'!$D$3:$X$137,D74,0)","v":0},{"$f":"HLOOKUP($B$1,'Room Inputs'!$D$3:$X$137,E74,0)","v":{"$error":"#VALUE!"}},{"$f":"B29*C29","v":0},{"$f":"HLOOKUP($B$1,'Room Inputs'!$D$3:$X$137,G74,0)","v":0},{"$f":"HLOOKUP($B$1,'Room Inputs'!$D$3:$X$137,H74,0)","v":0},{"$f":"IF(OR(G29=UvaluesFlr!$U$3,G29=UvaluesFlr!$U$4,ISERROR(M29)),\"\",M29)","v":""},{"$f":"$K$8-IF(LEFT(G29,2)=\"So\",10,'Site Inputs'!$C$8)","v":{"$error":"#N/A"}},{"$f":"IF(OR(G29=UvaluesFlr!$U$3,G29=UvaluesFlr!$U$4),IF(ISERROR(F29*J29*H29),\"\",F29*J29*H29),IF(ISERROR(F29*J29*I29),\"\",F29*J29*I29))","v":""},null,{"$f":"HLOOKUP(N29+MIN(0.6,IF(N29>4,O29/10,0)),$R$26:$AC$29,4,TRUE)","v":{"$error":"#N/A"}},{"$f":"VLOOKUP(D29,UvaluesFlr!$U$17:$V$22,2,FALSE)","v":{"$error":"#N/A"}},{"$f":"VLOOKUP(G29,UvaluesFlr!$U$3:$W$14,2,FALSE)","v":{"$error":"#N/A"}},{"$f":"VLOOKUP(G29,UvaluesFlr!$U$3:$W$14,3,FALSE)","v":{"$error":"#N/A"}},null,{"$f":"VLOOKUP(C29,UvaluesFlr!$C$53:$P$59,$P29,TRUE)","v":{"$error":"#N/A"}},{"$f":"VLOOKUP(B29,UvaluesFlr!$C$53:$P$59,$P29,TRUE)","v":{"$error":"#N/A"}},{"$f":"VLOOKUP(B29+C29,UvaluesFlr!$C$4:$P$12,$P29,TRUE)","v":{"$error":"#N/A"}},{"$f":"VLOOKUP(B29,UvaluesFlr!$C$16:$P$21,$P29,TRUE)","v":{"$error":"#N/A"}},{"$f":"VLOOKUP($C29,UvaluesFlr!$D$26:$P$29,$P29-1,TRUE)","v":{"$error":"#N/A"}},{"$f":"VLOOKUP($C29,UvaluesFlr!$D$30:$P$31,$P29-1,TRUE)","v":{"$error":"#N/A"}},{"$f":"VLOOKUP($C29,UvaluesFlr!$D$32:$P$33,$P29-1,TRUE)","v":{"$error":"#N/A"}},{"$f":"VLOOKUP($C29,UvaluesFlr!$D$34:$P$35,$P29-1,TRUE)","v":{"$error":"#N/A"}},{"$f":"VLOOKUP($C29,UvaluesFlr!$D$39:$P$42,$P29-1,TRUE)","v":{"$error":"#N/A"}},{"$f":"VLOOKUP($C29,UvaluesFlr!$D$43:$P$45,$P29-1,TRUE)","v":{"$error":"#N/A"}},{"$f":"VLOOKUP($C29,UvaluesFlr!$D$46:$P$48,$P29-1,TRUE)","v":{"$error":"#N/A"}},{"$f":"VLOOKUP($C29,UvaluesFlr!$D$49:$P$50,$P29-1,TRUE)","v":{"$error":"#N/A"}}]
[]
[]
[null,"Windows and doors"]
[null,"Wall or roof with window or door","Window or door height (m)","Window or door width (m)","Area (m²)","Wall/roof U-value (W/m²K)","Frame and glazing type ","Entered U-\u001evalue (W/m²K), if required","U-value","Design temperature difference","Heat loss (W)*"]
[null,{"$f":"HLOOKUP($B$1,'Room Inputs'!$D$3:$X$137,B79,0)","v":0},{"$f":"HLOOKUP($B$1,'Room Inputs'!$D$3:$X$137,C79,0)","v":0},{"$f":"HLOOKUP($B$1,'Room Inputs'!$D$3:$X$137,D79,0)","v":0},{"$f":"C34*D34","v":0},{"$f":"IF(B34<>\"\",IF(VLOOKUP(B34,B$14:I$25,6,FALSE)=UvalueWD!$C$6,VLOOKUP(B34,B$14:I$25,7,FALSE),VLOOKUP(B34,B$14:I$25,8,FALSE)),\"\")","v":""},{"$f":"HLOOKUP($B$1,'Room Inputs'!$D$3:$X$137,G79,0)","v":0},{"$f":"HLOOKUP($B$1,'Room Inputs'!$D$3:$X$137,H79,0)","v":0},{"$f":"IF(OR(G34=UvalueWD!C$6,G34=\"\"),\"\",VLOOKUP(G34,Windows,2,FALSE))","v":{"$error":"#N/A"}},{"$f":"IF(ISERROR(VLOOKUP(B34,B$13:K$29,9,FALSE)),\"\",VLOOKUP(B34,B$13:K$29,9,FALSE))","v":""},{"$f":"IF(G34=UvaluesWRF!A$2,IF(ISERROR(F34*J34*(H34-F34)),\"\",F34*J34*(H34-F34)),IF(ISERROR(F34*J34*(F34-I34)),\"\",(I34-F34)*J34*I34))","v":""}]
[null,{"$f":"HLOOKUP($B$1,'Room Inputs'!$D$3:$X$137,B80,0)","v":0},{"$f":"HLOOKUP($B$1,'Room Inputs'!$D$3:$X$137,C80,0)","v":0},{"$f":"HLOOKUP($B$1,'Room Inputs'!$D$3:$X$137,D80,0)","v":0},0,{"$f":"IF(B35<>\"\",IF(VLOOKUP(B35,B$14:I$25,6,FALSE)=UvalueWD!$C$6,VLOOKUP(B35,B$14:I$25,7,FALSE),VLOOKUP(B35,B$14:I$25,8,FALSE)),\"\")","v":""},{"$f":"HLOOKUP($B$1,'Room Inputs'!$D$3:$X$137,G80,0)","v":0},{"$f":"HLOOKUP($B$1,'Room Inputs'!$D$3:$X$137,H80,0)","v":0},{"$f":"IF(OR(G35=UvalueWD!C$6,G35=\"\"),\"\",VLOOKUP(G35,Windows,2,FALSE))","v":{"$error":"#N/A"}},"",{"$f":"IF(G35=UvaluesWRF!A$2,IF(ISERROR(F35*J35*(H35-F35)),\"\",F35*J35*(H35-F35)),IF(ISERROR(F35*J35*(F35-I35)),\"\",(I35-F35)*J35*I35))","v":""}]
[null,{"$f":"HLOOKUP($B$1,'Room Inputs'!$D$3:$X$137,B81,0)","v":0},{"$f":"HLOOKUP($B$1,'Room Inputs'!$D$3:$X$137,C81,0)","v":0},{"$f":"HLOOKUP($B$1,'Room Inputs'!$D$3:$X$137,D81,0)","v":0},0,{"$f":"IF(B36<>\"\",IF(VLOOKUP(B36,B$14:I$25,6,FALSE)=UvalueWD!$C$6,VLOOKUP(B36,B$14:I$25,7,FALSE),VLOOKUP(B36,B$14:I$25,8,FALSE)),\"\")","v":""},{"$f":"HLOOKUP($B$1,'Room Inputs'!$D$3:$X$137,G81,0)","v":0},{"$f":"HLOOKUP($B$1,'Room Inputs'!$D$3:$X$137,H81,0)","v":0},{"$f":"IF(OR(G36=UvalueWD!C$6,G36=\"\"),\"\",VLOOKUP(G36,Windows,2,FALSE))","v":{"$error":"#N/A"}},"",{"$f":"IF(G36=UvaluesWRF!A$2,IF(ISERROR(F36*J36*(H36-F36)),\"\",F36*J36*(H36-F36)),IF(ISERROR(F36*J36*(F36-I36)),\"\",(I36-F36)*J36*I36))","v":""}]
[null,{"$f":"HLOOKUP($B$1,'Room Inputs'!$D$3:$X$137,B82,0)","v":0},{"$f":"HLOOKUP($B$1,'Room Inputs'!$D$3:$X$137,C82,0)","v":0},{"$f":"HLOOKUP($B$1,'Room Inputs'!$D$3:$X$137,D82,0)","v":0},0,{"$f":"IF(B37<>\"\",IF(VLOOKUP(B37,B$14:I$25,6,FALSE)=UvalueWD!$C$6,VLOOKUP(B37,B$14:I$25,7,FALSE),VLOOKUP(B37,B$14:I$25,8,FALSE)),\"\")","v":""},{"$f":"HLOOKUP($B$1,'Room Inputs'!$D$3:$X$137,G82,0)","v":0},{"$f":"HLOOKUP($B$1,'Room Inputs'!$D$3:$X$137,H82,0)","v":0},{"$f":"IF(OR(G37=UvalueWD!C$6,G37=\"\"),\"\",VLOOKUP(G37,Windows,2,FALSE))","v":{"$error":"#N/A"}},"",{"$f":"IF(G37=UvaluesWRF!A$2,IF(ISERROR(F37*J37*(H37-F37)),\"\",F37*J37*(H37-F37)),IF(ISERROR(F37*J37*(F37-I37)),\"\",(I37-F37)*J37*I37))","v":""}]
[null,{"$f":"HLOOKUP($B$1,'Room Inputs'!$D$3:$X$137,B83,0)","v":0},{"$f":"HLOOKUP($B$1,'Room Inputs'!$D$3:$X$137,C83,0)","v":0},{"$f":"HLOOKUP($B$1,'Room Inputs'!$D$3:$X$137,D83,0)","v":0},0,{"$f":"IF(B38<>\"\",IF(VLOOKUP(B38,B$14:I$25,6,FALSE)=UvalueWD!$C$6,VLOOKUP(B38,B$14:I$25,7,FALSE),VLOOKUP(B38,B$14:I$25,8,FALSE)),\"\")","v":""},{"$f":"HLOOKUP($B$1,'Room Inputs'!$D$3:$X$137,G83,0)","v":0},{"$f":"HLOOKUP($B$1,'Room Inputs'!$D$3:$X$137,H83,0)","v":0},{"$f":"IF(OR(G38=UvalueWD!C$6,G38=\"\"),\"\",VLOOKUP(G38,Windows,2,FALSE))","v":{"$error":"#N/A"}},"",{"$f":"IF(G38=UvaluesWRF!A$2,IF(ISERROR(F38*J38*(H38-F38)),\"\",F38*J38*(H38-F38)),IF(ISERROR(F38*J38*(F38-I38)),\"\",(I38-F38)*J38*I38))","v":""}]
[null,{"$f":"HLOOKUP($B$1,'Room Inputs'!$D$3:$X$137,B84,0)","v":0},{"$f":"HLOOKUP($B$1,'Room Inputs'!$D$3:$X$137,C84,0)","v":0},{"$f":"HLOOKUP($B$1,'Room Inputs'!$D$3:$X$137,D84,0)","v":0},0,{"$f":"IF(B39<>\"\",IF(VLOOKUP(B39,B$14:I$25,6,FALSE)=UvalueWD!$C$6,VLOOKUP(B39,B$14:I$25,7,FALSE),VLOOKUP(B39,B$14:I$25,8,FALSE)),\"\")","v":""},{"$f":"HLOOKUP($B$1,'Room Inputs'!$D$3:$X$137,G84,0)","v":0},{"$f":"HLOOKUP($B$1,'Room Inputs'!$D$3:$X$137,H84,0)","v":0},{"$f":"IF(OR(G39=UvalueWD!C$6,G39=\"\"),\"\",VLOOKUP(G39,Windows,2,FALSE))","v":{"$error":"#N/A"}},"",{"$f":"IF(G39=UvaluesWRF!A$2,IF(ISERROR(F39*J39*(H39-F39)),\"\",F39*J39*(H39-F39)),IF(ISERROR(F39*J39*(F39-I39)),\"\",(I39-F39)*J39*I39))","v":""}]
[]
[null,"* this is net heat loss (i.e. the heat loss of the window minus that of a wall of the same area) and so can be negative.  This is done so that the area of the window or door does not have to be subtracted from the wall area.  "]
[null,null,null,null,null,null,null,null,"Room heat loss (W)",null,{"$f":"SUM(K10:K39)","v":0}]
[]
[]
[]
[null,"Row number lookup map"]
[]
[null,"Room name",2,null,"Emitter type",3,"For convectors consult the manufacturer's data and enter the temperature factor (FTEMP) for the appropriate fan speed",4,"For radiators enter the n-coefficient (exponent) from manufacturer's data.  If unknown 1.3 may be used",null,5]
[]
[null,"Enter floor type and construction",6,null,"Enter floor type and construction",7,"For UFH enter Tog value (See Table 14)",8,"For UFH enter  active or exposed area of the heated floor ",null,9]
[]
[null,"Enter Room type below",null,null," Enter Open fire/chimney details below "]
[null,10,null,null,11]
[null,"Room Dimensions"]
[null,"Length (m)",null,"Width (m)",null,"Height (m)"]
[null,13,null,14,null,15]
[null,"Walls, floors not ground floors and ceiling"]
[null,"Name of wall, floor, ceiling","Space on other side","Height or length (m)","Width (m)",null,"Construction","Entered U-\u001evalue (W/m²K), if required"]
[null,16,17,18,19,null,20,21]
[null,22,23,24,25,null,26,27]
[null,28,29,30,31,null,32,33]
[null,35,36,37,38,null,39,40]
[null,41,42,43,44,null,45,46]
[null,47,48,49,50,null,51,52]
[null,53,54,55,56,null,57,58]
[null,59,60,61,62,null,63,64]
[null,65,66,67,68,null,69,70]
[null,71,72,73,74,null,75,76]
[null,77,78,79,80,null,81,82]
[null,83,84,85,86,null,87,88]
[null,"Ground floors \nShort length (m)","long length\n(m)","Edges exposed",null,null,"Type and Insulation  thickness"]
[null,89,90,91,92,null,92,93]
[null,95,96,97,null,null,98,99]
[null,100,101,102,null,null,103,104]
[]
[]
[null,"Windows and doors"]
[null,"Wall or roof with window or door","Window or door height (m)","Window or door width (m)","Area (m²)","Wall/roof U-value (W/m²K)","Frame and glazing type ","Entered U-\u001evalue (W/m²K), if required"]
[null,105,106,107,null,null,108,109]
[null,111,112,113,null,null,114,115]
[null,116,117,118,null,null,119,120]
[null,121,122,123,null,null,124,125]
[null,126,127,128,null,null,129,130]
[null,131,132,133,null,null,134,135]

{"sheet":"18","index":23,"n_rows":84,"n_cols":29,"rows_kept":84,"cut":false,"hidden":true,"merged":[[40,1,40,7],[41,8,41,9],[7,7,7,8],[4,8,4,9],[6,1,6,2],[6,4,6,5],[6,7,6,8],[47,8,47,9],[49,2,49,3],[49,8,49,9],[51,1,51,2],[51,4,51,5],[51,7,51,8],[52,1,52,2],[52,4,52,5],[52,7,52,8],[72,3,72,4],[73,3,73,4],[71,3,71,4]]}
[null,{"$f":"'Room Inputs'!V3","v":"Room18"}]
[]
[null,"Room name",{"$f":"HLOOKUP($B$1,'Room Inputs'!$D$3:$X$137,C48,0)","v":0},null,"Emitter type",{"$f":"HLOOKUP($B$1,'Room Inputs'!$D$3:$X$137,F48,0)","v":0},"For convectors consult the manufacturer's data and enter the temperature factor (FTEMP) for the appropriate fan speed",{"$f":"HLOOKUP($B$1,'Room Inputs'!$D$3:$X$137,H48,0)","v":0.85},"For radiators enter the n-coefficient (exponent) from manufacturer's data.  If unknown 1.3 may be used",null,{"$f":"HLOOKUP($B$1,'Room Inputs'!$D$3:$X$137,K48,0)","v":1.3}]
[]
[null,"Enter floor type and construction",{"$f":"HLOOKUP($B$1,'Room Inputs'!$D$3:$X$137,C50,0)","v":0},null,"Enter floor type and construction",{"$f":"HLOOKUP($B$1,'Room Inputs'!$D$3:$X$137,F50,0)","v":0},"For UFH enter Tog value (See Table 14)",{"$f":"HLOOKUP($B$1,'Room Inputs'!$D$3:$X$137,H50,0)","v":0.25},"For UFH enter  active or exposed area of the heated floor ",null,{"$f":"HLOOKUP($B$1,'Room Inputs'!$D$3:$X$137,K50,0)","v":0}]
[]
[null,"Enter Room type below",null,null," Enter Open fire/chimney details below ",null,null,"Design room ventilation rate (air changes per hour)",null,null,"Design room temperature °C"]
[null,{"$f":"HLOOKUP($B$1,'Room Inputs'!$D$3:$X$137,B53,0)","v":0},null,null,{"$f":"HLOOKUP($B$1,'Room Inputs'!$D$3:$X$137,E53,0)","v":0},null,null,{"$f":"IF(E8=VTables!B20,VLOOKUP(B8,DRVT,3,FALSE),MAX(VLOOKUP(B8,DRVT,3,FALSE),VLOOKUP(E8,ARVR,2,FALSE)))","v":{"$error":"#N/A"}},null,null,{"$f":"VLOOKUP(B8,DRVT,2,FALSE)","v":{"$error":"#N/A"}}]
[null,"Room Dimensions"]
[null,"Length (m)",null,"Width (m)",null,"Height (m)","Room volume (m³) ",null,null,"Design temperature difference","Heat loss (W)"]
[null,{"$f":"HLOOKUP($B$1,'Room Inputs'!$D$3:$X$137,B56,0)","v":0},null,{"$f":"HLOOKUP($B$1,'Room Inputs'!$D$3:$X$137,D56,0)","v":0},null,{"$f":"HLOOKUP($B$1,'Room Inputs'!$D$3:$X$137,F56,0)","v":0},{"$f":"B11*D11*F11","v":0},null,null,{"$f":"K8-'Site Inputs'!C8","v":{"$error":"#N/A"}},{"$f":"IF(G11>0,(ROUND(0.33*G11*H8*J11,2)),\"\")","v":""}]
[null,"Walls, floors not ground floors and ceiling"]
[null,"Name of wall, floor, ceiling","Space on other side","Height or length (m)","Width (m)","Area (m²)","Construction","Entered U-\u001evalue (W/m²K), if required","U-value (W/m²K)","Design temperature difference","Heat loss (W)",null,"`"]
[null,{"$f":"HLOOKUP($B$1,'Room Inputs'!$D$3:$X$137,B59,0)","v":0},{"$f":"HLOOKUP($B$1,'Room Inputs'!$D$3:$X$137,C59,0)","v":0},{"$f":"HLOOKUP($B$1,'Room Inputs'!$D$3:$X$137,D59,0)","v":0},{"$f":"HLOOKUP($B$1,'Room Inputs'!$D$3:$X$137,E59,0)","v":0},{"$f":"D14*E14","v":0},{"$f":"HLOOKUP($B$1,'Room Inputs'!$D$3:$X$137,G59,0)","v":0},{"$f":"HLOOKUP($B$1,'Room Inputs'!$D$3:$X$137,H59,0)","v":0},{"$f":"IF(OR(G14=UvaluesWRF!A$2,ISERROR(VLOOKUP(G14,UvaluesWRF!A$3:B$110,2,FALSE))),\"\",VLOOKUP(G14,UvaluesWRF!A$3:B$110,2,FALSE))","v":""},{"$f":"IF(C14=\"\",\"\",$K$8-VLOOKUP(C14,DRVT,2,FALSE))","v":{"$error":"#N/A"}},{"$f":"IF(G14=UvaluesWRF!A$2,IF(ISERROR(F14*J14*H14),\"\",F14*J14*H14),IF(ISERROR(F14*J14*I14),\"\",F14*J14*I14))","v":""}]
[null,{"$f":"HLOOKUP($B$1,'Room Inputs'!$D$3:$X$137,B60,0)","v":0},{"$f":"HLOOKUP($B$1,'Room Inputs'!$D$3:$X$137,C60,0)","v":0},{"$f":"HLOOKUP($B$1,'Room Inputs'!$D$3:$X$137,D60,0)","v":0},{"$f":"HLOOKUP($B$1,'Room Inputs'!$D$3:$X$137,E60,0)","v":0},{"$f":"D15*E15","v":0},{"$f":"HLOOKUP($B$1,'Room Inputs'!$D$3:$X$137,G60,0)","v":0},{"$f":"HLOOKUP($B$1,'Room Inputs'!$D$3:$X$137,H60,0)","v":0},{"$f":"IF(OR(G15=UvaluesWRF!A$2,ISERROR(VLOOKUP(G15,UvaluesWRF!A$3:B$110,2,FALSE))),\"\",VLOOKUP(G15,UvaluesWRF!A$3:B$110,2,FALSE))","v":""},{"$error":"#N/A"},{"$f":"IF(G15=UvaluesWRF!A$2,IF(ISERROR(F15*J15*H15),\"\",F15*J15*H15),IF(ISERROR(F15*J15*I15),\"\",F15*J15*I15))","v":""}]
[null,{"$f":"HLOOKUP($B$1,'Room Inputs'!$D$3:$X$137,B61,0)","v":0},{"$f":"HLOOKUP($B$1,'Room Inputs'!$D$3:$X$137,C61,0)","v":0},{"$f":"HLOOKUP($B$1,'Room Inputs'!$D$3:$X$137,D61,0)","v":0},{"$f":"HLOOKUP($B$1,'Room Inputs'!$D$3:$X$137,E61,0)","v":0},0,{"$f":"HLOOKUP($B$1,'Room Inputs'!$D$3:$X$137,G61,0)","v":0},{"$f":"HLOOKUP($B$1,'Room Inputs'!$D$3:$X$137,H61,0)","v":0},{"$f":"IF(OR(G16=UvaluesWRF!A$2,ISERROR(VLOOKUP(G16,UvaluesWRF!A$3:B$110,2,FALSE))),\"\",VLOOKUP(G16,UvaluesWRF!A$3:B$110,2,FALSE))","v":""},{"$error":"#N/A"},{"$f":"IF(G16=UvaluesWRF!A$2,IF(ISERROR(F16*J16*H16),\"\",F16*J16*H16),IF(ISERROR(F16*J16*I16),\"\",F16*J16*I16))","v":""}]
[null,{"$f":"HLOOKUP($B$1,'Room Inputs'!$D$3:$X$137,B62,0)","v":0},{"$f":"HLOOKUP($B$1,'Room Inputs'!$D$3:$X$137,C62,0)","v":0},{"$f":"HLOOKUP($B$1,'Room Inputs'!$D$3:$X$137,D62,0)","v":0},{"$f":"HLOOKUP($B$1,'Room Inputs'!$D$3:$X$137,E62,0)","v":0},0,{"$f":"HLOOKUP($B$1,'Room Inputs'!$D$3:$X$137,G62,0)","v":0},{"$f":"HLOOKUP($B$1,'Room Inputs'!$D$3:$X$137,H62,0)","v":0},{"$f":"IF(OR(G17=UvaluesWRF!A$2,ISERROR(VLOOKUP(G17,UvaluesWRF!A$3:B$110,2,FALSE))),\"\",VLOOKUP(G17,UvaluesWRF!A$3:B$110,2,FALSE))","v":""},{"$error":"#N/A"},{"$f":"IF(G17=UvaluesWRF!A$2,IF(ISERROR(F17*J17*H17),\"\",F17*J17*H17),IF(ISERROR(F17*J17*I17),\"\",F17*J17*I17))","v":""}]
[null,{"$f":"HLOOKUP($B$1,'Room Inputs'!$D$3:$X$137,B63,0)","v":0},{"$f":"HLOOKUP($B$1,'Room Inputs'!$D$3:$X$137,C63,0)","v":0},{"$f":"HLOOKUP($B$1,'Room Inputs'!$D$3:$X$137,D63,0)","v":0},{"$f":"HLOOKUP($B$1,'Room Inputs'!$D$3:$X$137,E63,0)","v":0},0,{"$f":"HLOOKUP($B$1,'Room Inputs'!$D$3:$X$137,G63,0)","v":0},{"$f":"HLOOKUP($B$1,'Room Inputs'!$D$3:$X$137,H63,0)","v":0},{"$f":"IF(OR(G18=UvaluesWRF!A$2,ISERROR(VLOOKUP(G18,UvaluesWRF!A$3:B$110,2,FALSE))),\"\",VLOOKUP(G18,UvaluesWRF!A$3:B$110,2,FALSE))","v":""},{"$error":"#N/A"},{"$f":"IF(G18=UvaluesWRF!A$2,IF(ISERROR(F18*J18*H18),\"\",F18*J18*H18),IF(ISERROR(F18*J18*I18),\"\",F18*J18*I18))","v":""}]
[null,{"$f":"HLOOKUP($B$1,'Room Inputs'!$D$3:$X$137,B64,0)","v":0},{"$f":"HLOOKUP($B$1,'Room Inputs'!$D$3:$X$137,C64,0)","v":0},{"$f":"HLOOKUP($B$1,'Room Inputs'!$D$3:$X$137,D64,0)","v":0},{"$f":"HLOOKUP($B$1,'Room Inputs'!$D$3:$X$137,E64,0)","v":0},0,{"$f":"HLOOKUP($B$1,'Room Inputs'!$D$3:$X$137,G64,0)","v":0},{"$f":"HLOOKUP($B$1,'Room Inputs'!$D$3:$X$137,H64,0)","v":0},{"$f":"IF(OR(G19=UvaluesWRF!A$2,ISERROR(VLOOKUP(G19,UvaluesWRF!A$3:B$110,2,FALSE))),\"\",VLOOKUP(G19,UvaluesWRF!A$3:B$110,2,FALSE))","v":""},{"$error":"#N/A"},{"$f":"IF(G19=UvaluesWRF!A$2,IF(ISERROR(F19*J19*H19),\"\",F19*J19*H19),IF(ISERROR(F19*J19*I19),\"\",F19*J19*I19))","v":""}]
[null,{"$f":"HLOOKUP($B$1,'Room Inputs'!$D$3:$X$137,B65,0)","v":0},{"$f":"HLOOKUP($B$1,'Room Inputs'!$D$3:$X$137,C65,0)","v":0},{"$f":"HLOOKUP($B$1,'Room Inputs'!$D$3:$X$137,D65,0)","v":0},{"$f":"HLOOKUP($B$1,'Room Inputs'!$D$3:$X$137,E65,0)","v":0},0,{"$f":"HLOOKUP($B$1,'Room Inputs'!$D$3:$X$137,G65,0)","v":0},{"$f":"HLOOKUP($B$1,'Room Inputs'!$D$3:$X$137,H65,0)","v":0},{"$f":"IF(OR(G20=UvaluesWRF!A$2,ISERROR(VLOOKUP(G20,UvaluesWRF!A$3:B$110,2,FALSE))),\"\",VLOOKUP(G20,UvaluesWRF!A$3:B$110,2,FALSE))","v":""},{"$error":"#N/A"},{"$f":"IF(G20=UvaluesWRF!A$2,IF(ISERROR(F20*J20*H20),\"\",F20*J20*H20),IF(ISERROR(F20*J20*I20),\"\",F20*J20*I20))","v":""}]
[null,{"$f":"HLOOKUP($B$1,'Room Inputs'!$D$3:$X$137,B66,0)","v":0},{"$f":"HLOOKUP($B$1,'Room Inputs'!$D$3:$X$137,C66,0)","v":0},{"$f":"HLOOKUP($B$1,'Room Inputs'!$D$3:$X$137,D66,0)","v":0},{"$f":"HLOOKUP($B$1,'Room Inputs'!$D$3:$X$137,E66,0)","v":0},0,{"$f":"HLOOKUP($B$1,'Room Inputs'!$D$3:$X$137,G66,0)","v":0},{"$f":"HLOOKUP($B$1,'Room Inputs'!$D$3:$X$137,H66,0)","v":0},{"$f":"IF(OR(G21=UvaluesWRF!A$2,ISERROR(VLOOKUP(G21,UvaluesWRF!A$3:B$110,2,FALSE))),\"\",VLOOKUP(G21,UvaluesWRF!A$3:B$110,2,FALSE))","v":""},{"$error":"#N/A"},{"$f":"IF(G21=UvaluesWRF!A$2,IF(ISERROR(F21*J21*H21),\"\",F21*J21*H21),IF(ISERROR(F21*J21*I21),\"\",F21*J21*I21))","v":""}]
[null,{"$f":"HLOOKUP($B$1,'Room Inputs'!$D$3:$X$137,B67,0)","v":0},{"$f":"HLOOKUP($B$1,'Room Inputs'!$D$3:$X$137,C67,0)","v":0},{"$f":"HLOOKUP($B$1,'Room Inputs'!$D$3:$X$137,D67,0)","v":0},{"$f":"HLOOKUP($B$1,'Room Inputs'!$D$3:$X$137,E67,0)","v":0},0,{"$f":"HLOOKUP($B$1,'Room Inputs'!$D$3:$X$137,G67,0)","v":0},{"$f":"HLOOKUP($B$1,'Room Inputs'!$D$3:$X$137,H67,0)","v":0},{"$f":"IF(OR(G22=UvaluesWRF!A$2,ISERROR(VLOOKUP(G22,UvaluesWRF!A$3:B$110,2,FALSE))),\"\",VLOOKUP(G22,UvaluesWRF!A$3:B$110,2,FALSE))","v":""},{"$error":"#N/A"},{"$f":"IF(G22=UvaluesWRF!A$2,IF(ISERROR(F22*J22*H22),\"\",F22*J22*H22),IF(ISERROR(F22*J22*I22),\"\",F22*J22*I22))","v":""}]
[null,{"$f":"HLOOKUP($B$1,'Room Inputs'!$D$3:$X$137,B68,0)","v":0},{"$f":"HLOOKUP($B$1,'Room Inputs'!$D$3:$X$137,C68,0)","v":0},{"$f":"HLOOKUP($B$1,'Room Inputs'!$D$3:$X$137,D68,0)","v":0},{"$f":"HLOOKUP($B$1,'Room Inputs'!$D$3:$X$137,E68,0)","v":0},0,{"$f":"HLOOKUP($B$1,'Room Inputs'!$D$3:$X$137,G68,0)","v":0},{"$f":"HLOOKUP($B$1,'Room Inputs'!$D$3:$X$137,H68,0)","v":0},{"$f":"IF(OR(G23=UvaluesWRF!A$2,ISERROR(VLOOKUP(G23,UvaluesWRF!A$3:B$110,2,FALSE))),\"\",VLOOKUP(G23,UvaluesWRF!A$3:B$110,2,FALSE))","v":""},{"$error":"#N/A"},{"$f":"IF(G23=UvaluesWRF!A$2,IF(ISERROR(F23*J23*H23),\"\",F23*J23*H23),IF(ISERROR(F23*J23*I23),\"\",F23*J23*I23))","v":""}]
[null,{"$f":"HLOOKUP($B$1,'Room Inputs'!$D$3:$X$137,B69,0)","v":0},{"$f":"HLOOKUP($B$1,'Room Inputs'!$D$3:$X$137,C69,0)","v":0},{"$f":"HLOOKUP($B$1,'Room Inputs'!$D$3:$X$137,D69,0)","v":0},{"$f":"HLOOKUP($B$1,'Room Inputs'!$D$3:$X$137,E69,0)","v":0},0,{"$f":"HLOOKUP($B$1,'Room Inputs'!$D$3:$X$137,G69,0)","v":0},{"$f":"HLOOKUP($B$1,'Room Inputs'!$D$3:$X$137,H69,0)","v":0},{"$f":"IF(OR(G24=UvaluesWRF!A$2,ISERROR(VLOOKUP(G24,UvaluesWRF!A$3:B$110,2,FALSE))),\"\",VLOOKUP(G24,UvaluesWRF!A$3:B$110,2,FALSE))","v":""},{"$error":"#N/A"},{"$f":"IF(G24=UvaluesWRF!A$2,IF(ISERROR(F24*J24*H24),\"\",F24*J24*H24),IF(ISERROR(F24*J24*I24),\"\",F24*J24*I24))","v":""}]
[null,{"$f":"HLOOKUP($B$1,'Room Inputs'!$D$3:$X$137,B70,0)","v":0},{"$f":"HLOOKUP($B$1,'Room Inputs'!$D$3:$X$137,C70,0)","v":0},{"$f":"HLOOKUP($B$1,'Room Inputs'!$D$3:$X$137,D70,0)","v":0},{"$f":"HLOOKUP($B$1,'Room Inputs'!$D$3:$X$137,E70,0)","v":0},0,{"$f":"HLOOKUP($B$1,'Room Inputs'!$D$3:$X$137,G70,0)","v":0},{"$f":"HLOOKUP($B$1,'Room Inputs'!$D$3:$X$137,H70,0)","v":0},{"$f":"IF(OR(G25=UvaluesWRF!A$2,ISERROR(VLOOKUP(G25,UvaluesWRF!A$3:B$110,2,FALSE))),\"\",VLOOKUP(G25,UvaluesWRF!A$3:B$110,2,FALSE))","v":""},{"$error":"#N/A"},{"$f":"IF(G25=UvaluesWRF!A$2,IF(ISERROR(F25*J25*H25),\"\",F25*J25*H25),IF(ISERROR(F25*J25*I25),\"\",F25*J25*I25))","v":""}]
[null,"Ground floors \nShort length (m)","long length\n(m)","Edges exposed",null,null,"Type and Insulation  thickness",null,null,null,null,null,"U-value","Edge","Insulation","Column",null,1,2,3,4,5.3,5.4,5.5,5.6,6.3,6.4,6.5,6.6]
[null,{"$f":"HLOOKUP($B$1,'Room Inputs'!$D$3:$X$137,B72,0)","v":0},{"$f":"HLOOKUP($B$1,'Room Inputs'!$D$3:$X$137,C72,0)","v":0},{"$f":"HLOOKUP($B$1,'Room Inputs'!$D$3:$X$137,D72,0)","v":0},{"$f":"HLOOKUP($B$1,'Room Inputs'!$D$3:$X$137,E72,0)","v":0},{"$f":"B27*C27","v":0},{"$f":"HLOOKUP($B$1,'Room Inputs'!$D$3:$X$137,G72,0)","v":0},{"$f":"HLOOKUP($B$1,'Room Inputs'!$D$3:$X$137,H72,0)","v":0},{"$f":"IF(OR(G27=UvaluesFlr!$U$3,G27=UvaluesFlr!$U$4,ISERROR(M27)),\"\",M27)","v":""},{"$f":"$K$8-IF(LEFT(G27,2)=\"So\",10,'Site Inputs'!$C$8)","v":{"$error":"#N/A"}},{"$f":"IF(OR(G27=UvaluesFlr!$U$3,G27=UvaluesFlr!$U$4),IF(ISERROR(F27*J27*H27),\"\",F27*J27*H27),IF(ISERROR(F27*J27*I27),\"\",F27*J27*I27))","v":""},null,{"$f":"HLOOKUP(N27+MIN(0.6,IF(N27>4,O27/10,0)),$R$26:$AC$29,2,TRUE)","v":{"$error":"#N/A"}},{"$f":"VLOOKUP(D27,UvaluesFlr!$U$17:$V$22,2,FALSE)","v":{"$error":"#N/A"}},{"$f":"VLOOKUP(G27,UvaluesFlr!$U$3:$W$14,2,FALSE)","v":{"$error":"#N/A"}},{"$f":"VLOOKUP(G27,UvaluesFlr!$U$3:$W$14,3,FALSE)","v":{"$error":"#N/A"}},null,{"$f":"VLOOKUP(C27,UvaluesFlr!$C$53:$P$59,$P27,TRUE)","v":{"$error":"#N/A"}},{"$f":"VLOOKUP(B27,UvaluesFlr!$C$53:$P$59,$P27,TRUE)","v":{"$error":"#N/A"}},{"$f":"VLOOKUP(B27+C27,UvaluesFlr!$C$4:$P$12,$P27,TRUE)","v":{"$error":"#N/A"}},{"$f":"VLOOKUP(B27,UvaluesFlr!$C$16:$P$21,$P27,TRUE)","v":{"$error":"#N/A"}},{"$f":"VLOOKUP($C27,UvaluesFlr!$D$26:$P$29,$P27-1,TRUE)","v":{"$error":"#N/A"}},{"$f":"VLOOKUP($C27,UvaluesFlr!$D$30:$P$31,$P27-1,TRUE)","v":{"$error":"#N/A"}},{"$f":"VLOOKUP($C27,UvaluesFlr!$D$32:$P$33,$P27-1,TRUE)","v":{"$error":"#N/A"}},{"$f":"VLOOKUP($C27,UvaluesFlr!$D$34:$P$35,$P27-1,TRUE)","v":{"$error":"#N/A"}},{"$f":"VLOOKUP($C27,UvaluesFlr!$D$39:$P$42,$P27-1,TRUE)","v":{"$error":"#N/A"}},{"$f":"VLOOKUP($C27,UvaluesFlr!$D$43:$P$45,$P27-1,TRUE)","v":{"$error":"#N/A"}},{"$f":"VLOOKUP($C27,UvaluesFlr!$D$46:$P$48,$P27-1,TRUE)","v":{"$error":"#N/A"}},{"$f":"VLOOKUP($C27,UvaluesFlr!$D$49:$P$50,$P27-1,TRUE)","v":{"$error":"#N/A"}}]
[null,{"$f":"HLOOKUP($B$1,'Room Inputs'!$D$3:$X$137,B73,0)","v":0},{"$f":"HLOOKUP($B$1,'Room Inputs'!$D$3:$X$137,C73,0)","v":0},{"$f":"HLOOKUP($B$1,'Room Inputs'!$D$3:$X$137,D73,0)","v":0},{"$f":"HLOOKUP($B$1,'Room Inputs'!$D$3:$X$137,E73,0)","v":{"$error":"#VALUE!"}},{"$f":"B28*C28","v":0},{"$f":"HLOOKUP($B$1,'Room Inputs'!$D$3:$X$137,G73,0)","v":0},{"$f":"HLOOKUP($B$1,'Room Inputs'!$D$3:$X$137,H73,0)","v":0},{"$f":"IF(OR(G28=UvaluesFlr!$U$3,G28=UvaluesFlr!$U$4,ISERROR(M28)),\"\",M28)","v":""},{"$f":"$K$8-IF(LEFT(G28,2)=\"So\",10,'Site Inputs'!$C$8)","v":{"$error":"#N/A"}},{"$f":"IF(OR(G28=UvaluesFlr!$U$3,G28=UvaluesFlr!$U$4),IF(ISERROR(F28*J28*H28),\"\",F28*J28*H28),IF(ISERROR(F28*J28*I28),\"\",F28*J28*I28))","v":""},null,{"$f":"HLOOKUP(N28+MIN(0.6,IF(N28>4,O28/10,0)),$R$26:$AC$29,3,TRUE)","v":{"$error":"#N/A"}},{"$f":"VLOOKUP(D28,UvaluesFlr!$U$17:$V$22,2,FALSE)","v":{"$error":"#N/A"}},{"$f":"VLOOKUP(G28,UvaluesFlr!$U$3:$W$14,2,FALSE)","v":{"$error":"#N/A"}},{"$f":"VLOOKUP(G28,UvaluesFlr!$U$3:$W$14,3,FALSE)","v":{"$error":"#N/A"}},null,{"$f":"VLOOKUP(C28,UvaluesFlr!$C$53:$P$59,$P28,TRUE)","v":{"$error":"#N/A"}},{"$f":"VLOOKUP(B28,UvaluesFlr!$C$53:$P$59,$P28,TRUE)","v":{"$error":"#N/A"}},{"$f":"VLOOKUP(B28+C28,UvaluesFlr!$C$4:$P$12,$P28,TRUE)","v":{"$error":"#N/A"}},{"$f":"VLOOKUP(B28,UvaluesFlr!$C$16:$P$21,$P28,TRUE)","v":{"$error":"#N/A"}},{"$f":"VLOOKUP($C28,UvaluesFlr!$D$26:$P$29,$P28-1,TRUE)","v":{"$error":"#N/A"}},{"$f":"VLOOKUP($C28,UvaluesFlr!$D$30:$P$31,$P28-1,TRUE)","v":{"$error":"#N/A"}},{"$f":"VLOOKUP($C28,UvaluesFlr!$D$32:$P$33,$P28-1,TRUE)","v":{"$error":"#N/A"}},{"$f":"VLOOKUP($C28,UvaluesFlr!$D$34:$P$35,$P28-1,TRUE)","v":{"$error":"#N/A"}},{"$f":"VLOOKUP($C28,UvaluesFlr!$D$39:$P$42,$P28-1,TRUE)","v":{"$error":"#N/A"}},{"$f":"VLOOKUP($C28,UvaluesFlr!$D$43:$P$45,$P28-1,TRUE)","v":{"$error":"#N/A"}},{"$f":"VLOOKUP($C28,UvaluesFlr!$D$46:$P$48,$P28-1,TRUE)","v":{"$error":"#N/A"}},{"$f":"VLOOKUP($C28,UvaluesFlr!$D$49:$P$50,$P28-1,TRUE)","v":{"$error":"#N/A"}}]
[null,{"$f":"HLOOKUP($B$1,'Room Inputs'!$D$3:$X$137,B74,0)","v":0},{"$f":"HLOOKUP($B$1,'Room Inputs'!$D$3:$X$137,C74,0)","v":0},{"$f":"HLOOKUP($B$1,'Room Inputs'!$D$3:$X$137,D74,0)","v":0},{"$f":"HLOOKUP($B$1,'Room Inputs'!$D$3:$X$137,E74,0)","v":{"$error":"#VALUE!"}},{"$f":"B29*C29","v":0},{"$f":"HLOOKUP($B$1,'Room Inputs'!$D$3:$X$137,G74,0)","v":0},{"$f":"HLOOKUP($B$1,'Room Inputs'!$D$3:$X$137,H74,0)","v":0},{"$f":"IF(OR(G29=UvaluesFlr!$U$3,G29=UvaluesFlr!$U$4,ISERROR(M29)),\"\",M29)","v":""},{"$f":"$K$8-IF(LEFT(G29,2)=\"So\",10,'Site Inputs'!$C$8)","v":{"$error":"#N/A"}},{"$f":"IF(OR(G29=UvaluesFlr!$U$3,G29=UvaluesFlr!$U$4),IF(ISERROR(F29*J29*H29),\"\",F29*J29*H29),IF(ISERROR(F29*J29*I29),\"\",F29*J29*I29))","v":""},null,{"$f":"HLOOKUP(N29+MIN(0.6,IF(N29>4,O29/10,0)),$R$26:$AC$29,4,TRUE)","v":{"$error":"#N/A"}},{"$f":"VLOOKUP(D29,UvaluesFlr!$U$17:$V$22,2,FALSE)","v":{"$error":"#N/A"}},{"$f":"VLOOKUP(G29,UvaluesFlr!$U$3:$W$14,2,FALSE)","v":{"$error":"#N/A"}},{"$f":"VLOOKUP(G29,UvaluesFlr!$U$3:$W$14,3,FALSE)","v":{"$error":"#N/A"}},null,{"$f":"VLOOKUP(C29,UvaluesFlr!$C$53:$P$59,$P29,TRUE)","v":{"$error":"#N/A"}},{"$f":"VLOOKUP(B29,UvaluesFlr!$C$53:$P$59,$P29,TRUE)","v":{"$error":"#N/A"}},{"$f":"VLOOKUP(B29+C29,UvaluesFlr!$C$4:$P$12,$P29,TRUE)","v":{"$error":"#N/A"}},{"$f":"VLOOKUP(B29,UvaluesFlr!$C$16:$P$21,$P29,TRUE)","v":{"$error":"#N/A"}},{"$f":"VLOOKUP($C29,UvaluesFlr!$D$26:$P$29,$P29-1,TRUE)","v":{"$error":"#N/A"}},{"$f":"VLOOKUP($C29,UvaluesFlr!$D$30:$P$31,$P29-1,TRUE)","v":{"$error":"#N/A"}},{"$f":"VLOOKUP($C29,UvaluesFlr!$D$32:$P$33,$P29-1,TRUE)","v":{"$error":"#N/A"}},{"$f":"VLOOKUP($C29,UvaluesFlr!$D$34:$P$35,$P29-1,TRUE)","v":{"$error":"#N/A"}},{"$f":"VLOOKUP($C29,UvaluesFlr!$D$39:$P$42,$P29-1,TRUE)","v":{"$error":"#N/A"}},{"$f":"VLOOKUP($C29,UvaluesFlr!$D$43:$P$45,$P29-1,TRUE)","v":{"$error":"#N/A"}},{"$f":"VLOOKUP($C29,UvaluesFlr!$D$46:$P$48,$P29-1,TRUE)","v":{"$error":"#N/A"}},{"$f":"VLOOKUP($C29,UvaluesFlr!$D$49:$P$50,$P29-1,TRUE)","v":{"$error":"#N/A"}}]
[]
[]
[null,"Windows and doors"]
[null,"Wall or roof with window or door","Window or door height (m)","Window or door width (m)","Area (m²)","Wall/roof U-value (W/m²K)","Frame and glazing type ","Entered U-\u001evalue (W/m²K), if required","U-value","Design temperature difference","Heat loss (W)*"]
[null,{"$f":"HLOOKUP($B$1,'Room Inputs'!$D$3:$X$137,B79,0)","v":0},{"$f":"HLOOKUP($B$1,'Room Inputs'!$D$3:$X$137,C79,0)","v":0},{"$f":"HLOOKUP($B$1,'Room Inputs'!$D$3:$X$137,D79,0)","v":0},{"$f":"C34*D34","v":0},{"$f":"IF(B34<>\"\",IF(VLOOKUP(B34,B$14:I$25,6,FALSE)=UvalueWD!$C$6,VLOOKUP(B34,B$14:I$25,7,FALSE),VLOOKUP(B34,B$14:I$25,8,FALSE)),\"\")","v":""},{"$f":"HLOOKUP($B$1,'Room Inputs'!$D$3:$X$137,G79,0)","v":0},{"$f":"HLOOKUP($B$1,'Room Inputs'!$D$3:$X$137,H79,0)","v":0},{"$f":"IF(OR(G34=UvalueWD!C$6,G34=\"\"),\"\",VLOOKUP(G34,Windows,2,FALSE))","v":{"$error":"#N/A"}},{"$f":"IF(ISERROR(VLOOKUP(B34,B$13:K$29,9,FALSE)),\"\",VLOOKUP(B34,B$13:K$29,9,FALSE))","v":""},{"$f":"IF(G34=UvaluesWRF!A$2,IF(ISERROR(F34*J34*(H34-F34)),\"\",F34*J34*(H34-F34)),IF(ISERROR(F34*J34*(F34-I34)),\"\",(I34-F34)*J34*I34))","v":""}]
[null,{"$f":"HLOOKUP($B$1,'Room Inputs'!$D$3:$X$137,B80,0)","v":0},{"$f":"HLOOKUP($B$1,'Room Inputs'!$D$3:$X$137,C80,0)","v":0},{"$f":"HLOOKUP($B$1,'Room Inputs'!$D$3:$X$137,D80,0)","v":0},0,{"$f":"IF(B35<>\"\",IF(VLOOKUP(B35,B$14:I$25,6,FALSE)=UvalueWD!$C$6,VLOOKUP(B35,B$14:I$25,7,FALSE),VLOOKUP(B35,B$14:I$25,8,FALSE)),\"\")","v":""},{"$f":"HLOOKUP($B$1,'Room Inputs'!$D$3:$X$137,G80,0)","v":0},{"$f":"HLOOKUP($B$1,'Room Inputs'!$D$3:$X$137,H80,0)","v":0},{"$f":"IF(OR(G35=UvalueWD!C$6,G35=\"\"),\"\",VLOOKUP(G35,Windows,2,FALSE))","v":{"$error":"#N/A"}},"",{"$f":"IF(G35=UvaluesWRF!A$2,IF(ISERROR(F35*J35*(H35-F35)),\"\",F35*J35*(H35-F35)),IF(ISERROR(F35*J35*(F35-I35)),\"\",(I35-F35)*J35*I35))","v":""}]
[null,{"$f":"HLOOKUP($B$1,'Room Inputs'!$D$3:$X$137,B81,0)","v":0},{"$f":"HLOOKUP($B$1,'Room Inputs'!$D$3:$X$137,C81,0)","v":0},{"$f":"HLOOKUP($B$1,'Room Inputs'!$D$3:$X$137,D81,0)","v":0},0,{"$f":"IF(B36<>\"\",IF(VLOOKUP(B36,B$14:I$25,6,FALSE)=UvalueWD!$C$6,VLOOKUP(B36,B$14:I$25,7,FALSE),VLOOKUP(B36,B$14:I$25,8,FALSE)),\"\")","v":""},{"$f":"HLOOKUP($B$1,'Room Inputs'!$D$3:$X$137,G81,0)","v":0},{"$f":"HLOOKUP($B$1,'Room Inputs'!$D$3:$X$137,H81,0)","v":0},{"$f":"IF(OR(G36=UvalueWD!C$6,G36=\"\"),\"\",VLOOKUP(G36,Windows,2,FALSE))","v":{"$error":"#N/A"}},"",{"$f":"IF(G36=UvaluesWRF!A$2,IF(ISERROR(F36*J36*(H36-F36)),\"\",F36*J36*(H36-F36)),IF(ISERROR(F36*J36*(F36-I36)),\"\",(I36-F36)*J36*I36))","v":""}]
[null,{"$f":"HLOOKUP($B$1,'Room Inputs'!$D$3:$X$137,B82,0)","v":0},{"$f":"HLOOKUP($B$1,'Room Inputs'!$D$3:$X$137,C82,0)","v":0},{"$f":"HLOOKUP($B$1,'Room Inputs'!$D$3:$X$137,D82,0)","v":0},0,{"$f":"IF(B37<>\"\",IF(VLOOKUP(B37,B$14:I$25,6,FALSE)=UvalueWD!$C$6,VLOOKUP(B37,B$14:I$25,7,FALSE),VLOOKUP(B37,B$14:I$25,8,FALSE)),\"\")","v":""},{"$f":"HLOOKUP($B$1,'Room Inputs'!$D$3:$X$137,G82,0)","v":0},{"$f":"HLOOKUP($B$1,'Room Inputs'!$D$3:$X$137,H82,0)","v":0},{"$f":"IF(OR(G37=UvalueWD!C$6,G37=\"\"),\"\",VLOOKUP(G37,Windows,2,FALSE))","v":{"$error":"#N/A"}},"",{"$f":"IF(G37=UvaluesWRF!A$2,IF(ISERROR(F37*J37*(H37-F37)),\"\",F37*J37*(H37-F37)),IF(ISERROR(F37*J37*(F37-I37)),\"\",(I37-F37)*J37*I37))","v":""}]
[null,{"$f":"HLOOKUP($B$1,'Room Inputs'!$D$3:$X$137,B83,0)","v":0},{"$f":"HLOOKUP($B$1,'Room Inputs'!$D$3:$X$137,C83,0)","v":0},{"$f":"HLOOKUP($B$1,'Room Inputs'!$D$3:$X$137,D83,0)","v":0},0,{"$f":"IF(B38<>\"\",IF(VLOOKUP(B38,B$14:I$25,6,FALSE)=UvalueWD!$C$6,VLOOKUP(B38,B$14:I$25,7,FALSE),VLOOKUP(B38,B$14:I$25,8,FALSE)),\"\")","v":""},{"$f":"HLOOKUP($B$1,'Room Inputs'!$D$3:$X$137,G83,0)","v":0},{"$f":"HLOOKUP($B$1,'Room Inputs'!$D$3:$X$137,H83,0)","v":0},{"$f":"IF(OR(G38=UvalueWD!C$6,G38=\"\"),\"\",VLOOKUP(G38,Windows,2,FALSE))","v":{"$error":"#N/A"}},"",{"$f":"IF(G38=UvaluesWRF!A$2,IF(ISERROR(F38*J38*(H38-F38)),\"\",F38*J38*(H38-F38)),IF(ISERROR(F38*J38*(F38-I38)),\"\",(I38-F38)*J38*I38))","v":""}]
[null,{"$f":"HLOOKUP($B$1,'Room Inputs'!$D$3:$X$137,B84,0)","v":0},{"$f":"HLOOKUP($B$1,'Room Inputs'!$D$3:$X$137,C84,0)","v":0},{"$f":"HLOOKUP($B$1,'Room Inputs'!$D$3:$X$137,D84,0)","v":0},0,{"$f":"IF(B39<>\"\",IF(VLOOKUP(B39,B$14:I$25,6,FALSE)=UvalueWD!$C$6,VLOOKUP(B39,B$14:I$25,7,FALSE),VLOOKUP(B39,B$14:I$25,8,FALSE)),\"\")","v":""},{"$f":"HLOOKUP($B$1,'Room Inputs'!$D$3:$X$137,G84,0)","v":0},{"$f":"HLOOKUP($B$1,'Room Inputs'!$D$3:$X$137,H84,0)","v":0},{"$f":"IF(OR(G39=UvalueWD!C$6,G39=\"\"),\"\",VLOOKUP(G39,Windows,2,FALSE))","v":{"$error":"#N/A"}},"",{"$f":"IF(G39=UvaluesWRF!A$2,IF(ISERROR(F39*J39*(H39-F39)),\"\",F39*J39*(H39-F39)),IF(ISERROR(F39*J39*(F39-I39)),\"\",(I39-F39)*J39*I39))","v":""}]
[]
[null,"* this is net heat loss (i.e. the heat loss of the window minus that of a wall of the same area) and so can be negative.  This is done so that the area of the window or door does not have to be subtracted from the wall area.  "]
[null,null,null,null,null,null,null,null,"Room heat loss (W)",null,{"$f":"SUM(K10:K39)","v":0}]
[]
[]
[]
[null,"Row number lookup map"]
[]
[null,"Room name",2,null,"Emitter type",3,"For convectors consult the manufacturer's data and enter the temperature factor (FTEMP) for the appropriate fan speed",4,"For radiators enter the n-coefficient (exponent) from manufacturer's data.  If unknown 1.3 may be used",null,5]
[]
[null,"Enter floor type and construction",6,null,"Enter floor type and construction",7,"For UFH enter Tog value (See Table 14)",8,"For UFH enter  active or exposed area of the heated floor ",null,9]
[]
[null,"Enter Room type below",null,null," Enter Open fire/chimney details below "]
[null,10,null,null,11]
[null,"Room Dimensions"]
[null,"Length (m)",null,"Width (m)",null,"Height (m)"]
[null,13,null,14,null,15]
[null,"Walls, floors not ground floors and ceiling"]
[null,"Name of wall, floor, ceiling","Space on other side","Height or length (m)","Width (m)",null,"Construction","Entered U-\u001evalue (W/m²K), if required"]
[null,16,17,18,19,null,20,21]
[null,22,23,24,25,null,26,27]
[null,28,29,30,31,null,32,33]
[null,35,36,37,38,null,39,40]
[null,41,42,43,44,null,45,46]
[null,47,48,49,50,null,51,52]
[null,53,54,55,56,null,57,58]
[null,59,60,61,62,null,63,64]
[null,65,66,67,68,null,69,70]
[null,71,72,73,74,null,75,76]
[null,77,78,79,80,null,81,82]
[null,83,84,85,86,null,87,88]
[null,"Ground floors \nShort length (m)","long length\n(m)","Edges exposed",null,null,"Type and Insulation  thickness"]
[null,89,90,91,92,null,92,93]
[null,95,96,97,null,null,98,99]
[null,100,101,102,null,null,103,104]
[]
[]
[null,"Windows and doors"]
[null,"Wall or roof with window or door","Window or door height (m)","Window or door width (m)","Area (m²)","Wall/roof U-value (W/m²K)","Frame and glazing type ","Entered U-\u001evalue (W/m²K), if required"]
[null,105,106,107,null,null,108,109]
[null,111,112,113,null,null,114,115]
[null,116,117,118,null,null,119,120]
[null,121,122,123,null,null,124,125]
[null,126,127,128,null,null,129,130]
[null,131,132,133,null,null,134,135]

{"sheet":"19","index":24,"n_rows":84,"n_cols":29,"rows_kept":84,"cut":false,"hidden":true,"merged":[[40,1,40,7],[41,8,41,9],[7,7,7,8],[4,8,4,9],[6,1,6,2],[6,4,6,5],[6,7,6,8],[47,8,47,9],[49,2,49,3],[49,8,49,9],[51,1,51,2],[51,4,51,5],[51,7,51,8],[52,1,52,2],[52,4,52,5],[52,7,52,8],[72,3,72,4],[73,3,73,4],[71,3,71,4]]}
[null,{"$f":"'Room Inputs'!W3","v":"Room19"}]
[]
[null,"Room name",{"$f":"HLOOKUP($B$1,'Room Inputs'!$D$3:$X$137,C48,0)","v":0},null,"Emitter type",{"$f":"HLOOKUP($B$1,'Room Inputs'!$D$3:$X$137,F48,0)","v":0},"For convectors consult the manufacturer's data and enter the temperature factor (FTEMP) for the appropriate fan speed",{"$f":"HLOOKUP($B$1,'Room Inputs'!$D$3:$X$137,H48,0)","v":0.85},"For radiators enter the n-coefficient (exponent) from manufacturer's data.  If unknown 1.3 may be used",null,{"$f":"HLOOKUP($B$1,'Room Inputs'!$D$3:$X$137,K48,0)","v":1.3}]
[]
[null,"Enter floor type and construction",{"$f":"HLOOKUP($B$1,'Room Inputs'!$D$3:$X$137,C50,0)","v":0},null,"Enter floor type and construction",{"$f":"HLOOKUP($B$1,'Room Inputs'!$D$3:$X$137,F50,0)","v":0},"For UFH enter Tog value (See Table 14)",{"$f":"HLOOKUP($B$1,'Room Inputs'!$D$3:$X$137,H50,0)","v":0.25},"For UFH enter  active or exposed area of the heated floor ",null,{"$f":"HLOOKUP($B$1,'Room Inputs'!$D$3:$X$137,K50,0)","v":0}]
[]
[null,"Enter Room type below",null,null," Enter Open fire/chimney details below ",null,null,"Design room ventilation rate (air changes per hour)",null,null,"Design room temperature °C"]
[null,{"$f":"HLOOKUP($B$1,'Room Inputs'!$D$3:$X$137,B53,0)","v":0},null,null,{"$f":"HLOOKUP($B$1,'Room Inputs'!$D$3:$X$137,E53,0)","v":0},null,null,{"$f":"IF(E8=VTables!B20,VLOOKUP(B8,DRVT,3,FALSE),MAX(VLOOKUP(B8,DRVT,3,FALSE),VLOOKUP(E8,ARVR,2,FALSE)))","v":{"$error":"#N/A"}},null,null,{"$f":"VLOOKUP(B8,DRVT,2,FALSE)","v":{"$error":"#N/A"}}]
[null,"Room Dimensions"]
[null,"Length (m)",null,"Width (m)",null,"Height (m)","Room volume (m³) ",null,null,"Design temperature difference","Heat loss (W)"]
[null,{"$f":"HLOOKUP($B$1,'Room Inputs'!$D$3:$X$137,B56,0)","v":0},null,{"$f":"HLOOKUP($B$1,'Room Inputs'!$D$3:$X$137,D56,0)","v":0},null,{"$f":"HLOOKUP($B$1,'Room Inputs'!$D$3:$X$137,F56,0)","v":0},{"$f":"B11*D11*F11","v":0},null,null,{"$f":"K8-'Site Inputs'!C8","v":{"$error":"#N/A"}},{"$f":"IF(G11>0,(ROUND(0.33*G11*H8*J11,2)),\"\")","v":""}]
[null,"Walls, floors not ground floors and ceiling"]
[null,"Name of wall, floor, ceiling","Space on other side","Height or length (m)","Width (m)","Area (m²)","Construction","Entered U-\u001evalue (W/m²K), if required","U-value (W/m²K)","Design temperature difference","Heat loss (W)",null,"`"]
[null,{"$f":"HLOOKUP($B$1,'Room Inputs'!$D$3:$X$137,B59,0)","v":0},{"$f":"HLOOKUP($B$1,'Room Inputs'!$D$3:$X$137,C59,0)","v":0},{"$f":"HLOOKUP($B$1,'Room Inputs'!$D$3:$X$137,D59,0)","v":0},{"$f":"HLOOKUP($B$1,'Room Inputs'!$D$3:$X$137,E59,0)","v":0},{"$f":"D14*E14","v":0},{"$f":"HLOOKUP($B$1,'Room Inputs'!$D$3:$X$137,G59,0)","v":0},{"$f":"HLOOKUP($B$1,'Room Inputs'!$D$3:$X$137,H59,0)","v":0},{"$f":"IF(OR(G14=UvaluesWRF!A$2,ISERROR(VLOOKUP(G14,UvaluesWRF!A$3:B$110,2,FALSE))),\"\",VLOOKUP(G14,UvaluesWRF!A$3:B$110,2,FALSE))","v":""},{"$f":"IF(C14=\"\",\"\",$K$8-VLOOKUP(C14,DRVT,2,FALSE))","v":{"$error":"#N/A"}},{"$f":"IF(G14=UvaluesWRF!A$2,IF(ISERROR(F14*J14*H14),\"\",F14*J14*H14),IF(ISERROR(F14*J14*I14),\"\",F14*J14*I14))","v":""}]
[null,{"$f":"HLOOKUP($B$1,'Room Inputs'!$D$3:$X$137,B60,0)","v":0},{"$f":"HLOOKUP($B$1,'Room Inputs'!$D$3:$X$137,C60,0)","v":0},{"$f":"HLOOKUP($B$1,'Room Inputs'!$D$3:$X$137,D60,0)","v":0},{"$f":"HLOOKUP($B$1,'Room Inputs'!$D$3:$X$137,E60,0)","v":0},{"$f":"D15*E15","v":0},{"$f":"HLOOKUP($B$1,'Room Inputs'!$D$3:$X$137,G60,0)","v":0},{"$f":"HLOOKUP($B$1,'Room Inputs'!$D$3:$X$137,H60,0)","v":0},{"$f":"IF(OR(G15=UvaluesWRF!A$2,ISERROR(VLOOKUP(G15,UvaluesWRF!A$3:B$110,2,FALSE))),\"\",VLOOKUP(G15,UvaluesWRF!A$3:B$110,2,FALSE))","v":""},{"$error":"#N/A"},{"$f":"IF(G15=UvaluesWRF!A$2,IF(ISERROR(F15*J15*H15),\"\",F15*J15*H15),IF(ISERROR(F15*J15*I15),\"\",F15*J15*I15))","v":""}]
[null,{"$f":"HLOOKUP($B$1,'Room Inputs'!$D$3:$X$137,B61,0)","v":0},{"$f":"HLOOKUP($B$1,'Room Inputs'!$D$3:$X$137,C61,0)","v":0},{"$f":"HLOOKUP($B$1,'Room Inputs'!$D$3:$X$137,D61,0)","v":0},{"$f":"HLOOKUP($B$1,'Room Inputs'!$D$3:$X$137,E61,0)","v":0},0,{"$f":"HLOOKUP($B$1,'Room Inputs'!$D$3:$X$137,G61,0)","v":0},{"$f":"HLOOKUP($B$1,'Room Inputs'!$D$3:$X$137,H61,0)","v":0},{"$f":"IF(OR(G16=UvaluesWRF!A$2,ISERROR(VLOOKUP(G16,UvaluesWRF!A$3:B$110,2,FALSE))),\"\",VLOOKUP(G16,UvaluesWRF!A$3:B$110,2,FALSE))","v":""},{"$error":"#N/A"},{"$f":"IF(G16=UvaluesWRF!A$2,IF(ISERROR(F16*J16*H16),\"\",F16*J16*H16),IF(ISERROR(F16*J16*I16),\"\",F16*J16*I16))","v":""}]
[null,{"$f":"HLOOKUP($B$1,'Room Inputs'!$D$3:$X$137,B62,0)","v":0},{"$f":"HLOOKUP($B$1,'Room Inputs'!$D$3:$X$137,C62,0)","v":0},{"$f":"HLOOKUP($B$1,'Room Inputs'!$D$3:$X$137,D62,0)","v":0},{"$f":"HLOOKUP($B$1,'Room Inputs'!$D$3:$X$137,E62,0)","v":0},0,{"$f":"HLOOKUP($B$1,'Room Inputs'!$D$3:$X$137,G62,0)","v":0},{"$f":"HLOOKUP($B$1,'Room Inputs'!$D$3:$X$137,H62,0)","v":0},{"$f":"IF(OR(G17=UvaluesWRF!A$2,ISERROR(VLOOKUP(G17,UvaluesWRF!A$3:B$110,2,FALSE))),\"\",VLOOKUP(G17,UvaluesWRF!A$3:B$110,2,FALSE))","v":""},{"$error":"#N/A"},{"$f":"IF(G17=UvaluesWRF!A$2,IF(ISERROR(F17*J17*H17),\"\",F17*J17*H17),IF(ISERROR(F17*J17*I17),\"\",F17*J17*I17))","v":""}]
[null,{"$f":"HLOOKUP($B$1,'Room Inputs'!$D$3:$X$137,B63,0)","v":0},{"$f":"HLOOKUP($B$1,'Room Inputs'!$D$3:$X$137,C63,0)","v":0},{"$f":"HLOOKUP($B$1,'Room Inputs'!$D$3:$X$137,D63,0)","v":0},{"$f":"HLOOKUP($B$1,'Room Inputs'!$D$3:$X$137,E63,0)","v":0},0,{"$f":"HLOOKUP($B$1,'Room Inputs'!$D$3:$X$137,G63,0)","v":0},{"$f":"HLOOKUP($B$1,'Room Inputs'!$D$3:$X$137,H63,0)","v":0},{"$f":"IF(OR(G18=UvaluesWRF!A$2,ISERROR(VLOOKUP(G18,UvaluesWRF!A$3:B$110,2,FALSE))),\"\",VLOOKUP(G18,UvaluesWRF!A$3:B$110,2,FALSE))","v":""},{"$error":"#N/A"},{"$f":"IF(G18=UvaluesWRF!A$2,IF(ISERROR(F18*J18*H18),\"\",F18*J18*H18),IF(ISERROR(F18*J18*I18),\"\",F18*J18*I18))","v":""}]
[null,{"$f":"HLOOKUP($B$1,'Room Inputs'!$D$3:$X$137,B64,0)","v":0},{"$f":"HLOOKUP($B$1,'Room Inputs'!$D$3:$X$137,C64,0)","v":0},{"$f":"HLOOKUP($B$1,'Room Inputs'!$D$3:$X$137,D64,0)","v":0},{"$f":"HLOOKUP($B$1,'Room Inputs'!$D$3:$X$137,E64,0)","v":0},0,{"$f":"HLOOKUP($B$1,'Room Inputs'!$D$3:$X$137,G64,0)","v":0},{"$f":"HLOOKUP($B$1,'Room Inputs'!$D$3:$X$137,H64,0)","v":0},{"$f":"IF(OR(G19=UvaluesWRF!A$2,ISERROR(VLOOKUP(G19,UvaluesWRF!A$3:B$110,2,FALSE))),\"\",VLOOKUP(G19,UvaluesWRF!A$3:B$110,2,FALSE))","v":""},{"$error":"#N/A"},{"$f":"IF(G19=UvaluesWRF!A$2,IF(ISERROR(F19*J19*H19),\"\",F19*J19*H19),IF(ISERROR(F19*J19*I19),\"\",F19*J19*I19))","v":""}]
[null,{"$f":"HLOOKUP($B$1,'Room Inputs'!$D$3:$X$137,B65,0)","v":0},{"$f":"HLOOKUP($B$1,'Room Inputs'!$D$3:$X$137,C65,0)","v":0},{"$f":"HLOOKUP($B$1,'Room Inputs'!$D$3:$X$137,D65,0)","v":0},{"$f":"HLOOKUP($B$1,'Room Inputs'!$D$3:$X$137,E65,0)","v":0},0,{"$f":"HLOOKUP($B$1,'Room Inputs'!$D$3:$X$137,G65,0)","v":0},{"$f":"HLOOKUP($B$1,'Room Inputs'!$D$3:$X$137,H65,0)","v":0},{"$f":"IF(OR(G20=UvaluesWRF!A$2,ISERROR(VLOOKUP(G20,UvaluesWRF!A$3:B$110,2,FALSE))),\"\",VLOOKUP(G20,UvaluesWRF!A$3:B$110,2,FALSE))","v":""},{"$error":"#N/A"},{"$f":"IF(G20=UvaluesWRF!A$2,IF(ISERROR(F20*J20*H20),\"\",F20*J20*H20),IF(ISERROR(F20*J20*I20),\"\",F20*J20*I20))","v":""}]
[null,{"$f":"HLOOKUP($B$1,'Room Inputs'!$D$3:$X$137,B66,0)","v":0},{"$f":"HLOOKUP($B$1,'Room Inputs'!$D$3:$X$137,C66,0)","v":0},{"$f":"HLOOKUP($B$1,'Room Inputs'!$D$3:$X$137,D66,0)","v":0},{"$f":"HLOOKUP($B$1,'Room Inputs'!$D$3:$X$137,E66,0)","v":0},0,{"$f":"HLOOKUP($B$1,'Room Inputs'!$D$3:$X$137,G66,0)","v":0},{"$f":"HLOOKUP($B$1,'Room Inputs'!$D$3:$X$137,H66,0)","v":0},{"$f":"IF(OR(G21=UvaluesWRF!A$2,ISERROR(VLOOKUP(G21,UvaluesWRF!A$3:B$110,2,FALSE))),\"\",VLOOKUP(G21,UvaluesWRF!A$3:B$110,2,FALSE))","v":""},{"$error":"#N/A"},{"$f":"IF(G21=UvaluesWRF!A$2,IF(ISERROR(F21*J21*H21),\"\",F21*J21*H21),IF(ISERROR(F21*J21*I21),\"\",F21*J21*I21))","v":""}]
[null,{"$f":"HLOOKUP($B$1,'Room Inputs'!$D$3:$X$137,B67,0)","v":0},{"$f":"HLOOKUP($B$1,'Room Inputs'!$D$3:$X$137,C67,0)","v":0},{"$f":"HLOOKUP($B$1,'Room Inputs'!$D$3:$X$137,D67,0)","v":0},{"$f":"HLOOKUP($B$1,'Room Inputs'!$D$3:$X$137,E67,0)","v":0},0,{"$f":"HLOOKUP($B$1,'Room Inputs'!$D$3:$X$137,G67,0)","v":0},{"$f":"HLOOKUP($B$1,'Room Inputs'!$D$3:$X$137,H67,0)","v":0},{"$f":"IF(OR(G22=UvaluesWRF!A$2,ISERROR(VLOOKUP(G22,UvaluesWRF!A$3:B$110,2,FALSE))),\"\",VLOOKUP(G22,UvaluesWRF!A$3:B$110,2,FALSE))","v":""},{"$error":"#N/A"},{"$f":"IF(G22=UvaluesWRF!A$2,IF(ISERROR(F22*J22*H22),\"\",F22*J22*H22),IF(ISERROR(F22*J22*I22),\"\",F22*J22*I22))","v":""}]
[null,{"$f":"HLOOKUP($B$1,'Room Inputs'!$D$3:$X$137,B68,0)","v":0},{"$f":"HLOOKUP($B$1,'Room Inputs'!$D$3:$X$137,C68,0)","v":0},{"$f":"HLOOKUP($B$1,'Room Inputs'!$D$3:$X$137,D68,0)","v":0},{"$f":"HLOOKUP($B$1,'Room Inputs'!$D$3:$X$137,E68,0)","v":0},0,{"$f":"HLOOKUP($B$1,'Room Inputs'!$D$3:$X$137,G68,0)","v":0},{"$f":"HLOOKUP($B$1,'Room Inputs'!$D$3:$X$137,H68,0)","v":0},{"$f":"IF(OR(G23=UvaluesWRF!A$2,ISERROR(VLOOKUP(G23,UvaluesWRF!A$3:B$110,2,FALSE))),\"\",VLOOKUP(G23,UvaluesWRF!A$3:B$110,2,FALSE))","v":""},{"$error":"#N/A"},{"$f":"IF(G23=UvaluesWRF!A$2,IF(ISERROR(F23*J23*H23),\"\",F23*J23*H23),IF(ISERROR(F23*J23*I23),\"\",F23*J23*I23))","v":""}]
[null,{"$f":"HLOOKUP($B$1,'Room Inputs'!$D$3:$X$137,B69,0)","v":0},{"$f":"HLOOKUP($B$1,'Room Inputs'!$D$3:$X$137,C69,0)","v":0},{"$f":"HLOOKUP($B$1,'Room Inputs'!$D$3:$X$137,D69,0)","v":0},{"$f":"HLOOKUP($B$1,'Room Inputs'!$D$3:$X$137,E69,0)","v":0},0,{"$f":"HLOOKUP($B$1,'Room Inputs'!$D$3:$X$137,G69,0)","v":0},{"$f":"HLOOKUP($B$1,'Room Inputs'!$D$3:$X$137,H69,0)","v":0},{"$f":"IF(OR(G24=UvaluesWRF!A$2,ISERROR(VLOOKUP(G24,UvaluesWRF!A$3:B$110,2,FALSE))),\"\",VLOOKUP(G24,UvaluesWRF!A$3:B$110,2,FALSE))","v":""},{"$error":"#N/A"},{"$f":"IF(G24=UvaluesWRF!A$2,IF(ISERROR(F24*J24*H24),\"\",F24*J24*H24),IF(ISERROR(F24*J24*I24),\"\",F24*J24*I24))","v":""}]
[null,{"$f":"HLOOKUP($B$1,'Room Inputs'!$D$3:$X$137,B70,0)","v":0},{"$f":"HLOOKUP($B$1,'Room Inputs'!$D$3:$X$137,C70,0)","v":0},{"$f":"HLOOKUP($B$1,'Room Inputs'!$D$3:$X$137,D70,0)","v":0},{"$f":"HLOOKUP($B$1,'Room Inputs'!$D$3:$X$137,E70,0)","v":0},0,{"$f":"HLOOKUP($B$1,'Room Inputs'!$D$3:$X$137,G70,0)","v":0},{"$f":"HLOOKUP($B$1,'Room Inputs'!$D$3:$X$137,H70,0)","v":0},{"$f":"IF(OR(G25=UvaluesWRF!A$2,ISERROR(VLOOKUP(G25,UvaluesWRF!A$3:B$110,2,FALSE))),\"\",VLOOKUP(G25,UvaluesWRF!A$3:B$110,2,FALSE))","v":""},{"$error":"#N/A"},{"$f":"IF(G25=UvaluesWRF!A$2,IF(ISERROR(F25*J25*H25),\"\",F25*J25*H25),IF(ISERROR(F25*J25*I25),\"\",F25*J25*I25))","v":""}]
[null,"Ground floors \nShort length (m)","long length\n(m)","Edges exposed",null,null,"Type and Insulation  thickness",null,null,null,null,null,"U-value","Edge","Insulation","Column",null,1,2,3,4,5.3,5.4,5.5,5.6,6.3,6.4,6.5,6.6]
[null,{"$f":"HLOOKUP($B$1,'Room Inputs'!$D$3:$X$137,B72,0)","v":0},{"$f":"HLOOKUP($B$1,'Room Inputs'!$D$3:$X$137,C72,0)","v":0},{"$f":"HLOOKUP($B$1,'Room Inputs'!$D$3:$X$137,D72,0)","v":0},{"$f":"HLOOKUP($B$1,'Room Inputs'!$D$3:$X$137,E72,0)","v":0},{"$f":"B27*C27","v":0},{"$f":"HLOOKUP($B$1,'Room Inputs'!$D$3:$X$137,G72,0)","v":0},{"$f":"HLOOKUP($B$1,'Room Inputs'!$D$3:$X$137,H72,0)","v":0},{"$f":"IF(OR(G27=UvaluesFlr!$U$3,G27=UvaluesFlr!$U$4,ISERROR(M27)),\"\",M27)","v":""},{"$f":"$K$8-IF(LEFT(G27,2)=\"So\",10,'Site Inputs'!$C$8)","v":{"$error":"#N/A"}},{"$f":"IF(OR(G27=UvaluesFlr!$U$3,G27=UvaluesFlr!$U$4),IF(ISERROR(F27*J27*H27),\"\",F27*J27*H27),IF(ISERROR(F27*J27*I27),\"\",F27*J27*I27))","v":""},null,{"$f":"HLOOKUP(N27+MIN(0.6,IF(N27>4,O27/10,0)),$R$26:$AC$29,2,TRUE)","v":{"$error":"#N/A"}},{"$f":"VLOOKUP(D27,UvaluesFlr!$U$17:$V$22,2,FALSE)","v":{"$error":"#N/A"}},{"$f":"VLOOKUP(G27,UvaluesFlr!$U$3:$W$14,2,FALSE)","v":{"$error":"#N/A"}},{"$f":"VLOOKUP(G27,UvaluesFlr!$U$3:$W$14,3,FALSE)","v":{"$error":"#N/A"}},null,{"$f":"VLOOKUP(C27,UvaluesFlr!$C$53:$P$59,$P27,TRUE)","v":{"$error":"#N/A"}},{"$f":"VLOOKUP(B27,UvaluesFlr!$C$53:$P$59,$P27,TRUE)","v":{"$error":"#N/A"}},{"$f":"VLOOKUP(B27+C27,UvaluesFlr!$C$4:$P$12,$P27,TRUE)","v":{"$error":"#N/A"}},{"$f":"VLOOKUP(B27,UvaluesFlr!$C$16:$P$21,$P27,TRUE)","v":{"$error":"#N/A"}},{"$f":"VLOOKUP($C27,UvaluesFlr!$D$26:$P$29,$P27-1,TRUE)","v":{"$error":"#N/A"}},{"$f":"VLOOKUP($C27,UvaluesFlr!$D$30:$P$31,$P27-1,TRUE)","v":{"$error":"#N/A"}},{"$f":"VLOOKUP($C27,UvaluesFlr!$D$32:$P$33,$P27-1,TRUE)","v":{"$error":"#N/A"}},{"$f":"VLOOKUP($C27,UvaluesFlr!$D$34:$P$35,$P27-1,TRUE)","v":{"$error":"#N/A"}},{"$f":"VLOOKUP($C27,UvaluesFlr!$D$39:$P$42,$P27-1,TRUE)","v":{"$error":"#N/A"}},{"$f":"VLOOKUP($C27,UvaluesFlr!$D$43:$P$45,$P27-1,TRUE)","v":{"$error":"#N/A"}},{"$f":"VLOOKUP($C27,UvaluesFlr!$D$46:$P$48,$P27-1,TRUE)","v":{"$error":"#N/A"}},{"$f":"VLOOKUP($C27,UvaluesFlr!$D$49:$P$50,$P27-1,TRUE)","v":{"$error":"#N/A"}}]
[null,{"$f":"HLOOKUP($B$1,'Room Inputs'!$D$3:$X$137,B73,0)","v":0},{"$f":"HLOOKUP($B$1,'Room Inputs'!$D$3:$X$137,C73,0)","v":0},{"$f":"HLOOKUP($B$1,'Room Inputs'!$D$3:$X$137,D73,0)","v":0},{"$f":"HLOOKUP($B$1,'Room Inputs'!$D$3:$X$137,E73,0)","v":{"$error":"#VALUE!"}},{"$f":"B28*C28","v":0},{"$f":"HLOOKUP($B$1,'Room Inputs'!$D$3:$X$137,G73,0)","v":0},{"$f":"HLOOKUP($B$1,'Room Inputs'!$D$3:$X$137,H73,0)","v":0},{"$f":"IF(OR(G28=UvaluesFlr!$U$3,G28=UvaluesFlr!$U$4,ISERROR(M28)),\"\",M28)","v":""},{"$f":"$K$8-IF(LEFT(G28,2)=\"So\",10,'Site Inputs'!$C$8)","v":{"$error":"#N/A"}},{"$f":"IF(OR(G28=UvaluesFlr!$U$3,G28=UvaluesFlr!$U$4),IF(ISERROR(F28*J28*H28),\"\",F28*J28*H28),IF(ISERROR(F28*J28*I28),\"\",F28*J28*I28))","v":""},null,{"$f":"HLOOKUP(N28+MIN(0.6,IF(N28>4,O28/10,0)),$R$26:$AC$29,3,TRUE)","v":{"$error":"#N/A"}},{"$f":"VLOOKUP(D28,UvaluesFlr!$U$17:$V$22,2,FALSE)","v":{"$error":"#N/A"}},{"$f":"VLOOKUP(G28,UvaluesFlr!$U$3:$W$14,2,FALSE)","v":{"$error":"#N/A"}},{"$f":"VLOOKUP(G28,UvaluesFlr!$U$3:$W$14,3,FALSE)","v":{"$error":"#N/A"}},null,{"$f":"VLOOKUP(C28,UvaluesFlr!$C$53:$P$59,$P28,TRUE)","v":{"$error":"#N/A"}},{"$f":"VLOOKUP(B28,UvaluesFlr!$C$53:$P$59,$P28,TRUE)","v":{"$error":"#N/A"}},{"$f":"VLOOKUP(B28+C28,UvaluesFlr!$C$4:$P$12,$P28,TRUE)","v":{"$error":"#N/A"}},{"$f":"VLOOKUP(B28,UvaluesFlr!$C$16:$P$21,$P28,TRUE)","v":{"$error":"#N/A"}},{"$f":"VLOOKUP($C28,UvaluesFlr!$D$26:$P$29,$P28-1,TRUE)","v":{"$error":"#N/A"}},{"$f":"VLOOKUP($C28,UvaluesFlr!$D$30:$P$31,$P28-1,TRUE)","v":{"$error":"#N/A"}},{"$f":"VLOOKUP($C28,UvaluesFlr!$D$32:$P$33,$P28-1,TRUE)","v":{"$error":"#N/A"}},{"$f":"VLOOKUP($C28,UvaluesFlr!$D$34:$P$35,$P28-1,TRUE)","v":{"$error":"#N/A"}},{"$f":"VLOOKUP($C28,UvaluesFlr!$D$39:$P$42,$P28-1,TRUE)","v":{"$error":"#N/A"}},{"$f":"VLOOKUP($C28,UvaluesFlr!$D$43:$P$45,$P28-1,TRUE)","v":{"$error":"#N/A"}},{"$f":"VLOOKUP($C28,UvaluesFlr!$D$46:$P$48,$P28-1,TRUE)","v":{"$error":"#N/A"}},{"$f":"VLOOKUP($C28,UvaluesFlr!$D$49:$P$50,$P28-1,TRUE)","v":{"$error":"#N/A"}}]
[null,{"$f":"HLOOKUP($B$1,'Room Inputs'!$D$3:$X$137,B74,0)","v":0},{"$f":"HLOOKUP($B$1,'Room Inputs'!$D$3:$X$137,C74,0)","v":0},{"$f":"HLOOKUP($B$1,'Room Inputs'!$D$3:$X$137,D74,0)","v":0},{"$f":"HLOOKUP($B$1,'Room Inputs'!$D$3:$X$137,E74,0)","v":{"$error":"#VALUE!"}},{"$f":"B29*C29","v":0},{"$f":"HLOOKUP($B$1,'Room Inputs'!$D$3:$X$137,G74,0)","v":0},{"$f":"HLOOKUP($B$1,'Room Inputs'!$D$3:$X$137,H74,0)","v":0},{"$f":"IF(OR(G29=UvaluesFlr!$U$3,G29=UvaluesFlr!$U$4,ISERROR(M29)),\"\",M29)","v":""},{"$f":"$K$8-IF(LEFT(G29,2)=\"So\",10,'Site Inputs'!$C$8)","v":{"$error":"#N/A"}},{"$f":"IF(OR(G29=UvaluesFlr!$U$3,G29=UvaluesFlr!$U$4),IF(ISERROR(F29*J29*H29),\"\",F29*J29*H29),IF(ISERROR(F29*J29*I29),\"\",F29*J29*I29))","v":""},null,{"$f":"HLOOKUP(N29+MIN(0.6,IF(N29>4,O29/10,0)),$R$26:$AC$29,4,TRUE)","v":{"$error":"#N/A"}},{"$f":"VLOOKUP(D29,UvaluesFlr!$U$17:$V$22,2,FALSE)","v":{"$error":"#N/A"}},{"$f":"VLOOKUP(G29,UvaluesFlr!$U$3:$W$14,2,FALSE)","v":{"$error":"#N/A"}},{"$f":"VLOOKUP(G29,UvaluesFlr!$U$3:$W$14,3,FALSE)","v":{"$error":"#N/A"}},null,{"$f":"VLOOKUP(C29,UvaluesFlr!$C$53:$P$59,$P29,TRUE)","v":{"$error":"#N/A"}},{"$f":"VLOOKUP(B29,UvaluesFlr!$C$53:$P$59,$P29,TRUE)","v":{"$error":"#N/A"}},{"$f":"VLOOKUP(B29+C29,UvaluesFlr!$C$4:$P$12,$P29,TRUE)","v":{"$error":"#N/A"}},{"$f":"VLOOKUP(B29,UvaluesFlr!$C$16:$P$21,$P29,TRUE)","v":{"$error":"#N/A"}},{"$f":"VLOOKUP($C29,UvaluesFlr!$D$26:$P$29,$P29-1,TRUE)","v":{"$error":"#N/A"}},{"$f":"VLOOKUP($C29,UvaluesFlr!$D$30:$P$31,$P29-1,TRUE)","v":{"$error":"#N/A"}},{"$f":"VLOOKUP($C29,UvaluesFlr!$D$32:$P$33,$P29-1,TRUE)","v":{"$error":"#N/A"}},{"$f":"VLOOKUP($C29,UvaluesFlr!$D$34:$P$35,$P29-1,TRUE)","v":{"$error":"#N/A"}},{"$f":"VLOOKUP($C29,UvaluesFlr!$D$39:$P$42,$P29-1,TRUE)","v":{"$error":"#N/A"}},{"$f":"VLOOKUP($C29,UvaluesFlr!$D$43:$P$45,$P29-1,TRUE)","v":{"$error":"#N/A"}},{"$f":"VLOOKUP($C29,UvaluesFlr!$D$46:$P$48,$P29-1,TRUE)","v":{"$error":"#N/A"}},{"$f":"VLOOKUP($C29,UvaluesFlr!$D$49:$P$50,$P29-1,TRUE)","v":{"$error":"#N/A"}}]
[]
[]
[null,"Windows and doors"]
[null,"Wall or roof with window or door","Window or door height (m)","Window or door width (m)","Area (m²)","Wall/roof U-value (W/m²K)","Frame and glazing type ","Entered U-\u001evalue (W/m²K), if required","U-value","Design temperature difference","Heat loss (W)*"]
[null,{"$f":"HLOOKUP($B$1,'Room Inputs'!$D$3:$X$137,B79,0)","v":0},{"$f":"HLOOKUP($B$1,'Room Inputs'!$D$3:$X$137,C79,0)","v":0},{"$f":"HLOOKUP($B$1,'Room Inputs'!$D$3:$X$137,D79,0)","v":0},{"$f":"C34*D34","v":0},{"$f":"IF(B34<>\"\",IF(VLOOKUP(B34,B$14:I$25,6,FALSE)=UvalueWD!$C$6,VLOOKUP(B34,B$14:I$25,7,FALSE),VLOOKUP(B34,B$14:I$25,8,FALSE)),\"\")","v":""},{"$f":"HLOOKUP($B$1,'Room Inputs'!$D$3:$X$137,G79,0)","v":0},{"$f":"HLOOKUP($B$1,'Room Inputs'!$D$3:$X$137,H79,0)","v":0},{"$f":"IF(OR(G34=UvalueWD!C$6,G34=\"\"),\"\",VLOOKUP(G34,Windows,2,FALSE))","v":{"$error":"#N/A"}},{"$f":"IF(ISERROR(VLOOKUP(B34,B$13:K$29,9,FALSE)),\"\",VLOOKUP(B34,B$13:K$29,9,FALSE))","v":""},{"$f":"IF(G34=UvaluesWRF!A$2,IF(ISERROR(F34*J34*(H34-F34)),\"\",F34*J34*(H34-F34)),IF(ISERROR(F34*J34*(F34-I34)),\"\",(I34-F34)*J34*I34))","v":""}]
[null,{"$f":"HLOOKUP($B$1,'Room Inputs'!$D$3:$X$137,B80,0)","v":0},{"$f":"HLOOKUP($B$1,'Room Inputs'!$D$3:$X$137,C80,0)","v":0},{"$f":"HLOOKUP($B$1,'Room Inputs'!$D$3:$X$137,D80,0)","v":0},0,{"$f":"IF(B35<>\"\",IF(VLOOKUP(B35,B$14:I$25,6,FALSE)=UvalueWD!$C$6,VLOOKUP(B35,B$14:I$25,7,FALSE),VLOOKUP(B35,B$14:I$25,8,FALSE)),\"\")","v":""},{"$f":"HLOOKUP($B$1,'Room Inputs'!$D$3:$X$137,G80,0)","v":0},{"$f":"HLOOKUP($B$1,'Room Inputs'!$D$3:$X$137,H80,0)","v":0},{"$f":"IF(OR(G35=UvalueWD!C$6,G35=\"\"),\"\",VLOOKUP(G35,Windows,2,FALSE))","v":{"$error":"#N/A"}},"",{"$f":"IF(G35=UvaluesWRF!A$2,IF(ISERROR(F35*J35*(H35-F35)),\"\",F35*J35*(H35-F35)),IF(ISERROR(F35*J35*(F35-I35)),\"\",(I35-F35)*J35*I35))","v":""}]
[null,{"$f":"HLOOKUP($B$1,'Room Inputs'!$D$3:$X$137,B81,0)","v":0},{"$f":"HLOOKUP($B$1,'Room Inputs'!$D$3:$X$137,C81,0)","v":0},{"$f":"HLOOKUP($B$1,'Room Inputs'!$D$3:$X$137,D81,0)","v":0},0,{"$f":"IF(B36<>\"\",IF(VLOOKUP(B36,B$14:I$25,6,FALSE)=UvalueWD!$C$6,VLOOKUP(B36,B$14:I$25,7,FALSE),VLOOKUP(B36,B$14:I$25,8,FALSE)),\"\")","v":""},{"$f":"HLOOKUP($B$1,'Room Inputs'!$D$3:$X$137,G81,0)","v":0},{"$f":"HLOOKUP($B$1,'Room Inputs'!$D$3:$X$137,H81,0)","v":0},{"$f":"IF(OR(G36=UvalueWD!C$6,G36=\"\"),\"\",VLOOKUP(G36,Windows,2,FALSE))","v":{"$error":"#N/A"}},"",{"$f":"IF(G36=UvaluesWRF!A$2,IF(ISERROR(F36*J36*(H36-F36)),\"\",F36*J36*(H36-F36)),IF(ISERROR(F36*J36*(F36-I36)),\"\",(I36-F36)*J36*I36))","v":""}]
[null,{"$f":"HLOOKUP($B$1,'Room Inputs'!$D$3:$X$137,B82,0)","v":0},{"$f":"HLOOKUP($B$1,'Room Inputs'!$D$3:$X$137,C82,0)","v":0},{"$f":"HLOOKUP($B$1,'Room Inputs'!$D$3:$X$137,D82,0)","v":0},0,{"$f":"IF(B37<>\"\",IF(VLOOKUP(B37,B$14:I$25,6,FALSE)=UvalueWD!$C$6,VLOOKUP(B37,B$14:I$25,7,FALSE),VLOOKUP(B37,B$14:I$25,8,FALSE)),\"\")","v":""},{"$f":"HLOOKUP($B$1,'Room Inputs'!$D$3:$X$137,G82,0)","v":0},{"$f":"HLOOKUP($B$1,'Room Inputs'!$D$3:$X$137,H82,0)","v":0},{"$f":"IF(OR(G37=UvalueWD!C$6,G37=\"\"),\"\",VLOOKUP(G37,Windows,2,FALSE))","v":{"$error":"#N/A"}},"",{"$f":"IF(G37=UvaluesWRF!A$2,IF(ISERROR(F37*J37*(H37-F37)),\"\",F37*J37*(H37-F37)),IF(ISERROR(F37*J37*(F37-I37)),\"\",(I37-F37)*J37*I37))","v":""}]
[null,{"$f":"HLOOKUP($B$1,'Room Inputs'!$D$3:$X$137,B83,0)","v":0},{"$f":"HLOOKUP($B$1,'Room Inputs'!$D$3:$X$137,C83,0)","v":0},{"$f":"HLOOKUP($B$1,'Room Inputs'!$D$3:$X$137,D83,0)","v":0},0,{"$f":"IF(B38<>\"\",IF(VLOOKUP(B38,B$14:I$25,6,FALSE)=UvalueWD!$C$6,VLOOKUP(B38,B$14:I$25,7,FALSE),VLOOKUP(B38,B$14:I$25,8,FALSE)),\"\")","v":""},{"$f":"HLOOKUP($B$1,'Room Inputs'!$D$3:$X$137,G83,0)","v":0},{"$f":"HLOOKUP($B$1,'Room Inputs'!$D$3:$X$137,H83,0)","v":0},{"$f":"IF(OR(G38=UvalueWD!C$6,G38=\"\"),\"\",VLOOKUP(G38,Windows,2,FALSE))","v":{"$error":"#N/A"}},"",{"$f":"IF(G38=UvaluesWRF!A$2,IF(ISERROR(F38*J38*(H38-F38)),\"\",F38*J38*(H38-F38)),IF(ISERROR(F38*J38*(F38-I38)),\"\",(I38-F38)*J38*I38))","v":""}]
[null,{"$f":"HLOOKUP($B$1,'Room Inputs'!$D$3:$X$137,B84,0)","v":0},{"$f":"HLOOKUP($B$1,'Room Inputs'!$D$3:$X$137,C84,0)","v":0},{"$f":"HLOOKUP($B$1,'Room Inputs'!$D$3:$X$137,D84,0)","v":0},0,{"$f":"IF(B39<>\"\",IF(VLOOKUP(B39,B$14:I$25,6,FALSE)=UvalueWD!$C$6,VLOOKUP(B39,B$14:I$25,7,FALSE),VLOOKUP(B39,B$14:I$25,8,FALSE)),\"\")","v":""},{"$f":"HLOOKUP($B$1,'Room Inputs'!$D$3:$X$137,G84,0)","v":0},{"$f":"HLOOKUP($B$1,'Room Inputs'!$D$3:$X$137,H84,0)","v":0},{"$f":"IF(OR(G39=UvalueWD!C$6,G39=\"\"),\"\",VLOOKUP(G39,Windows,2,FALSE))","v":{"$error":"#N/A"}},"",{"$f":"IF(G39=UvaluesWRF!A$2,IF(ISERROR(F39*J39*(H39-F39)),\"\",F39*J39*(H39-F39)),IF(ISERROR(F39*J39*(F39-I39)),\"\",(I39-F39)*J39*I39))","v":""}]
[]
[null,"* this is net heat loss (i.e. the heat loss of the window minus that of a wall of the same area) and so can be negative.  This is done so that the area of the window or door does not have to be subtracted from the wall area.  "]
[null,null,null,null,null,null,null,null,"Room heat loss (W)",null,{"$f":"SUM(K10:K39)","v":0}]
[]
[]
[]
[null,"Row number lookup map"]
[]
[null,"Room name",2,null,"Emitter type",3,"For convectors consult the manufacturer's data and enter the temperature factor (FTEMP) for the appropriate fan speed",4,"For radiators enter the n-coefficient (exponent) from manufacturer's data.  If unknown 1.3 may be used",null,5]
[]
[null,"Enter floor type and construction",6,null,"Enter floor type and construction",7,"For UFH enter Tog value (See Table 14)",8,"For UFH enter  active or exposed area of the heated floor ",null,9]
[]
[null,"Enter Room type below",null,null," Enter Open fire/chimney details below "]
[null,10,null,null,11]
[null,"Room Dimensions"]
[null,"Length (m)",null,"Width (m)",null,"Height (m)"]
[null,13,null,14,null,15]
[null,"Walls, floors not ground floors and ceiling"]
[null,"Name of wall, floor, ceiling","Space on other side","Height or length (m)","Width (m)",null,"Construction","Entered U-\u001evalue (W/m²K), if required"]
[null,16,17,18,19,null,20,21]
[null,22,23,24,25,null,26,27]
[null,28,29,30,31,null,32,33]
[null,35,36,37,38,null,39,40]
[null,41,42,43,44,null,45,46]
[null,47,48,49,50,null,51,52]
[null,53,54,55,56,null,57,58]
[null,59,60,61,62,null,63,64]
[null,65,66,67,68,null,69,70]
[null,71,72,73,74,null,75,76]
[null,77,78,79,80,null,81,82]
[null,83,84,85,86,null,87,88]
[null,"Ground floors \nShort length (m)","long length\n(m)","Edges exposed",null,null,"Type and Insulation  thickness"]
[null,89,90,91,92,null,92,93]
[null,95,96,97,null,null,98,99]
[null,100,101,102,null,null,103,104]
[]
[]
[null,"Windows and doors"]
[null,"Wall or roof with window or door","Window or door height (m)","Window or door width (m)","Area (m²)","Wall/roof U-value (W/m²K)","Frame and glazing type ","Entered U-\u001evalue (W/m²K), if required"]
[null,105,106,107,null,null,108,109]
[null,111,112,113,null,null,114,115]
[null,116,117,118,null,null,119,120]
[null,121,122,123,null,null,124,125]
[null,126,127,128,null,null,129,130]
[null,131,132,133,null,null,134,135]

{"sheet":"20","index":25,"n_rows":84,"n_cols":29,"rows_kept":84,"cut":false,"hidden":true,"merged":[[40,1,40,7],[41,8,41,9],[7,7,7,8],[4,8,4,9],[6,1,6,2],[6,4,6,5],[6,7,6,8],[47,8,47,9],[49,2,49,3],[49,8,49,9],[51,1,51,2],[51,4,51,5],[51,7,51,8],[52,1,52,2],[52,4,52,5],[52,7,52,8],[72,3,72,4],[73,3,73,4],[71,3,71,4]]}
[null,{"$f":"'Room Inputs'!X3","v":"Room20"}]
[]
[null,"Room name",{"$f":"HLOOKUP($B$1,'Room Inputs'!$D$3:$X$137,C48,0)","v":0},null,"Emitter type",{"$f":"HLOOKUP($B$1,'Room Inputs'!$D$3:$X$137,F48,0)","v":0},"For convectors consult the manufacturer's data and enter the temperature factor (FTEMP) for the appropriate fan speed",{"$f":"HLOOKUP($B$1,'Room Inputs'!$D$3:$X$137,H48,0)","v":0.85},"For radiators enter the n-coefficient (exponent) from manufacturer's data.  If unknown 1.3 may be used",null,{"$f":"HLOOKUP($B$1,'Room Inputs'!$D$3:$X$137,K48,0)","v":1.3}]
[]
[null,"Enter floor type and construction",{"$f":"HLOOKUP($B$1,'Room Inputs'!$D$3:$X$137,C50,0)","v":0},null,"Enter floor type and construction",{"$f":"HLOOKUP($B$1,'Room Inputs'!$D$3:$X$137,F50,0)","v":0},"For UFH enter Tog value (See Table 14)",{"$f":"HLOOKUP($B$1,'Room Inputs'!$D$3:$X$137,H50,0)","v":0.25},"For UFH enter  active or exposed area of the heated floor ",null,{"$f":"HLOOKUP($B$1,'Room Inputs'!$D$3:$X$137,K50,0)","v":0}]
[]
[null,"Enter Room type below",null,null," Enter Open fire/chimney details below ",null,null,"Design room ventilation rate (air changes per hour)",null,null,"Design room temperature °C"]
[null,{"$f":"HLOOKUP($B$1,'Room Inputs'!$D$3:$X$137,B53,0)","v":0},null,null,{"$f":"HLOOKUP($B$1,'Room Inputs'!$D$3:$X$137,E53,0)","v":0},null,null,{"$f":"IF(E8=VTables!B20,VLOOKUP(B8,DRVT,3,FALSE),MAX(VLOOKUP(B8,DRVT,3,FALSE),VLOOKUP(E8,ARVR,2,FALSE)))","v":{"$error":"#N/A"}},null,null,{"$f":"VLOOKUP(B8,DRVT,2,FALSE)","v":{"$error":"#N/A"}}]
[null,"Room Dimensions"]
[null,"Length (m)",null,"Width (m)",null,"Height (m)","Room volume (m³) ",null,null,"Design temperature difference","Heat loss (W)"]
[null,{"$f":"HLOOKUP($B$1,'Room Inputs'!$D$3:$X$137,B56,0)","v":0},null,{"$f":"HLOOKUP($B$1,'Room Inputs'!$D$3:$X$137,D56,0)","v":0},null,{"$f":"HLOOKUP($B$1,'Room Inputs'!$D$3:$X$137,F56,0)","v":0},{"$f":"B11*D11*F11","v":0},null,null,{"$f":"K8-'Site Inputs'!C8","v":{"$error":"#N/A"}},{"$f":"IF(G11>0,(ROUND(0.33*G11*H8*J11,2)),\"\")","v":""}]
[null,"Walls, floors not ground floors and ceiling"]
[null,"Name of wall, floor, ceiling","Space on other side","Height or length (m)","Width (m)","Area (m²)","Construction","Entered U-\u001evalue (W/m²K), if required","U-value (W/m²K)","Design temperature difference","Heat loss (W)",null,"`"]
[null,{"$f":"HLOOKUP($B$1,'Room Inputs'!$D$3:$X$137,B59,0)","v":0},{"$f":"HLOOKUP($B$1,'Room Inputs'!$D$3:$X$137,C59,0)","v":0},{"$f":"HLOOKUP($B$1,'Room Inputs'!$D$3:$X$137,D59,0)","v":0},{"$f":"HLOOKUP($B$1,'Room Inputs'!$D$3:$X$137,E59,0)","v":0},{"$f":"D14*E14","v":0},{"$f":"HLOOKUP($B$1,'Room Inputs'!$D$3:$X$137,G59,0)","v":0},{"$f":"HLOOKUP($B$1,'Room Inputs'!$D$3:$X$137,H59,0)","v":0},{"$f":"IF(OR(G14=UvaluesWRF!A$2,ISERROR(VLOOKUP(G14,UvaluesWRF!A$3:B$110,2,FALSE))),\"\",VLOOKUP(G14,UvaluesWRF!A$3:B$110,2,FALSE))","v":""},{"$f":"IF(C14=\"\",\"\",$K$8-VLOOKUP(C14,DRVT,2,FALSE))","v":{"$error":"#N/A"}},{"$f":"IF(G14=UvaluesWRF!A$2,IF(ISERROR(F14*J14*H14),\"\",F14*J14*H14),IF(ISERROR(F14*J14*I14),\"\",F14*J14*I14))","v":""}]
[null,{"$f":"HLOOKUP($B$1,'Room Inputs'!$D$3:$X$137,B60,0)","v":0},{"$f":"HLOOKUP($B$1,'Room Inputs'!$D$3:$X$137,C60,0)","v":0},{"$f":"HLOOKUP($B$1,'Room Inputs'!$D$3:$X$137,D60,0)","v":0},{"$f":"HLOOKUP($B$1,'Room Inputs'!$D$3:$X$137,E60,0)","v":0},{"$f":"D15*E15","v":0},{"$f":"HLOOKUP($B$1,'Room Inputs'!$D$3:$X$137,G60,0)","v":0},{"$f":"HLOOKUP($B$1,'Room Inputs'!$D$3:$X$137,H60,0)","v":0},{"$f":"IF(OR(G15=UvaluesWRF!A$2,ISERROR(VLOOKUP(G15,UvaluesWRF!A$3:B$110,2,FALSE))),\"\",VLOOKUP(G15,UvaluesWRF!A$3:B$110,2,FALSE))","v":""},{"$error":"#N/A"},{"$f":"IF(G15=UvaluesWRF!A$2,IF(ISERROR(F15*J15*H15),\"\",F15*J15*H15),IF(ISERROR(F15*J15*I15),\"\",F15*J15*I15))","v":""}]
[null,{"$f":"HLOOKUP($B$1,'Room Inputs'!$D$3:$X$137,B61,0)","v":0},{"$f":"HLOOKUP($B$1,'Room Inputs'!$D$3:$X$137,C61,0)","v":0},{"$f":"HLOOKUP($B$1,'Room Inputs'!$D$3:$X$137,D61,0)","v":0},{"$f":"HLOOKUP($B$1,'Room Inputs'!$D$3:$X$137,E61,0)","v":0},0,{"$f":"HLOOKUP($B$1,'Room Inputs'!$D$3:$X$137,G61,0)","v":0},{"$f":"HLOOKUP($B$1,'Room Inputs'!$D$3:$X$137,H61,0)","v":0},{"$f":"IF(OR(G16=UvaluesWRF!A$2,ISERROR(VLOOKUP(G16,UvaluesWRF!A$3:B$110,2,FALSE))),\"\",VLOOKUP(G16,UvaluesWRF!A$3:B$110,2,FALSE))","v":""},{"$error":"#N/A"},{"$f":"IF(G16=UvaluesWRF!A$2,IF(ISERROR(F16*J16*H16),\"\",F16*J16*H16),IF(ISERROR(F16*J16*I16),\"\",F16*J16*I16))","v":""}]
[null,{"$f":"HLOOKUP($B$1,'Room Inputs'!$D$3:$X$137,B62,0)","v":0},{"$f":"HLOOKUP($B$1,'Room Inputs'!$D$3:$X$137,C62,0)","v":0},{"$f":"HLOOKUP($B$1,'Room Inputs'!$D$3:$X$137,D62,0)","v":0},{"$f":"HLOOKUP($B$1,'Room Inputs'!$D$3:$X$137,E62,0)","v":0},0,{"$f":"HLOOKUP($B$1,'Room Inputs'!$D$3:$X$137,G62,0)","v":0},{"$f":"HLOOKUP($B$1,'Room Inputs'!$D$3:$X$137,H62,0)","v":0},{"$f":"IF(OR(G17=UvaluesWRF!A$2,ISERROR(VLOOKUP(G17,UvaluesWRF!A$3:B$110,2,FALSE))),\"\",VLOOKUP(G17,UvaluesWRF!A$3:B$110,2,FALSE))","v":""},{"$error":"#N/A"},{"$f":"IF(G17=UvaluesWRF!A$2,IF(ISERROR(F17*J17*H17),\"\",F17*J17*H17),IF(ISERROR(F17*J17*I17),\"\",F17*J17*I17))","v":""}]
[null,{"$f":"HLOOKUP($B$1,'Room Inputs'!$D$3:$X$137,B63,0)","v":0},{"$f":"HLOOKUP($B$1,'Room Inputs'!$D$3:$X$137,C63,0)","v":0},{"$f":"HLOOKUP($B$1,'Room Inputs'!$D$3:$X$137,D63,0)","v":0},{"$f":"HLOOKUP($B$1,'Room Inputs'!$D$3:$X$137,E63,0)","v":0},0,{"$f":"HLOOKUP($B$1,'Room Inputs'!$D$3:$X$137,G63,0)","v":0},{"$f":"HLOOKUP($B$1,'Room Inputs'!$D$3:$X$137,H63,0)","v":0},{"$f":"IF(OR(G18=UvaluesWRF!A$2,ISERROR(VLOOKUP(G18,UvaluesWRF!A$3:B$110,2,FALSE))),\"\",VLOOKUP(G18,UvaluesWRF!A$3:B$110,2,FALSE))","v":""},{"$error":"#N/A"},{"$f":"IF(G18=UvaluesWRF!A$2,IF(ISERROR(F18*J18*H18),\"\",F18*J18*H18),IF(ISERROR(F18*J18*I18),\"\",F18*J18*I18))","v":""}]
[null,{"$f":"HLOOKUP($B$1,'Room Inputs'!$D$3:$X$137,B64,0)","v":0},{"$f":"HLOOKUP($B$1,'Room Inputs'!$D$3:$X$137,C64,0)","v":0},{"$f":"HLOOKUP($B$1,'Room Inputs'!$D$3:$X$137,D64,0)","v":0},{"$f":"HLOOKUP($B$1,'Room Inputs'!$D$3:$X$137,E64,0)","v":0},0,{"$f":"HLOOKUP($B$1,'Room Inputs'!$D$3:$X$137,G64,0)","v":0},{"$f":"HLOOKUP($B$1,'Room Inputs'!$D$3:$X$137,H64,0)","v":0},{"$f":"IF(OR(G19=UvaluesWRF!A$2,ISERROR(VLOOKUP(G19,UvaluesWRF!A$3:B$110,2,FALSE))),\"\",VLOOKUP(G19,UvaluesWRF!A$3:B$110,2,FALSE))","v":""},{"$error":"#N/A"},{"$f":"IF(G19=UvaluesWRF!A$2,IF(ISERROR(F19*J19*H19),\"\",F19*J19*H19),IF(ISERROR(F19*J19*I19),\"\",F19*J19*I19))","v":""}]
[null,{"$f":"HLOOKUP($B$1,'Room Inputs'!$D$3:$X$137,B65,0)","v":0},{"$f":"HLOOKUP($B$1,'Room Inputs'!$D$3:$X$137,C65,0)","v":0},{"$f":"HLOOKUP($B$1,'Room Inputs'!$D$3:$X$137,D65,0)","v":0},{"$f":"HLOOKUP($B$1,'Room Inputs'!$D$3:$X$137,E65,0)","v":0},0,{"$f":"HLOOKUP($B$1,'Room Inputs'!$D$3:$X$137,G65,0)","v":0},{"$f":"HLOOKUP($B$1,'Room Inputs'!$D$3:$X$137,H65,0)","v":0},{"$f":"IF(OR(G20=UvaluesWRF!A$2,ISERROR(VLOOKUP(G20,UvaluesWRF!A$3:B$110,2,FALSE))),\"\",VLOOKUP(G20,UvaluesWRF!A$3:B$110,2,FALSE))","v":""},{"$error":"#N/A"},{"$f":"IF(G20=UvaluesWRF!A$2,IF(ISERROR(F20*J20*H20),\"\",F20*J20*H20),IF(ISERROR(F20*J20*I20),\"\",F20*J20*I20))","v":""}]
[null,{"$f":"HLOOKUP($B$1,'Room Inputs'!$D$3:$X$137,B66,0)","v":0},{"$f":"HLOOKUP($B$1,'Room Inputs'!$D$3:$X$137,C66,0)","v":0},{"$f":"HLOOKUP($B$1,'Room Inputs'!$D$3:$X$137,D66,0)","v":0},{"$f":"HLOOKUP($B$1,'Room Inputs'!$D$3:$X$137,E66,0)","v":0},0,{"$f":"HLOOKUP($B$1,'Room Inputs'!$D$3:$X$137,G66,0)","v":0},{"$f":"HLOOKUP($B$1,'Room Inputs'!$D$3:$X$137,H66,0)","v":0},{"$f":"IF(OR(G21=UvaluesWRF!A$2,ISERROR(VLOOKUP(G21,UvaluesWRF!A$3:B$110,2,FALSE))),\"\",VLOOKUP(G21,UvaluesWRF!A$3:B$110,2,FALSE))","v":""},{"$error":"#N/A"},{"$f":"IF(G21=UvaluesWRF!A$2,IF(ISERROR(F21*J21*H21),\"\",F21*J21*H21),IF(ISERROR(F21*J21*I21),\"\",F21*J21*I21))","v":""}]
[null,{"$f":"HLOOKUP($B$1,'Room Inputs'!$D$3:$X$137,B67,0)","v":0},{"$f":"HLOOKUP($B$1,'Room Inputs'!$D$3:$X$137,C67,0)","v":0},{"$f":"HLOOKUP($B$1,'Room Inputs'!$D$3:$X$137,D67,0)","v":0},{"$f":"HLOOKUP($B$1,'Room Inputs'!$D$3:$X$137,E67,0)","v":0},0,{"$f":"HLOOKUP($B$1,'Room Inputs'!$D$3:$X$137,G67,0)","v":0},{"$f":"HLOOKUP($B$1,'Room Inputs'!$D$3:$X$137,H67,0)","v":0},{"$f":"IF(OR(G22=UvaluesWRF!A$2,ISERROR(VLOOKUP(G22,UvaluesWRF!A$3:B$110,2,FALSE))),\"\",VLOOKUP(G22,UvaluesWRF!A$3:B$110,2,FALSE))","v":""},{"$error":"#N/A"},{"$f":"IF(G22=UvaluesWRF!A$2,IF(ISERROR(F22*J22*H22),\"\",F22*J22*H22),IF(ISERROR(F22*J22*I22),\"\",F22*J22*I22))","v":""}]
[null,{"$f":"HLOOKUP($B$1,'Room Inputs'!$D$3:$X$137,B68,0)","v":0},{"$f":"HLOOKUP($B$1,'Room Inputs'!$D$3:$X$137,C68,0)","v":0},{"$f":"HLOOKUP($B$1,'Room Inputs'!$D$3:$X$137,D68,0)","v":0},{"$f":"HLOOKUP($B$1,'Room Inputs'!$D$3:$X$137,E68,0)","v":0},0,{"$f":"HLOOKUP($B$1,'Room Inputs'!$D$3:$X$137,G68,0)","v":0},{"$f":"HLOOKUP($B$1,'Room Inputs'!$D$3:$X$137,H68,0)","v":0},{"$f":"IF(OR(G23=UvaluesWRF!A$2,ISERROR(VLOOKUP(G23,UvaluesWRF!A$3:B$110,2,FALSE))),\"\",VLOOKUP(G23,UvaluesWRF!A$3:B$110,2,FALSE))","v":""},{"$error":"#N/A"},{"$f":"IF(G23=UvaluesWRF!A$2,IF(ISERROR(F23*J23*H23),\"\",F23*J23*H23),IF(ISERROR(F23*J23*I23),\"\",F23*J23*I23))","v":""}]
[null,{"$f":"HLOOKUP($B$1,'Room Inputs'!$D$3:$X$137,B69,0)","v":0},{"$f":"HLOOKUP($B$1,'Room Inputs'!$D$3:$X$137,C69,0)","v":0},{"$f":"HLOOKUP($B$1,'Room Inputs'!$D$3:$X$137,D69,0)","v":0},{"$f":"HLOOKUP($B$1,'Room Inputs'!$D$3:$X$137,E69,0)","v":0},0,{"$f":"HLOOKUP($B$1,'Room Inputs'!$D$3:$X$137,G69,0)","v":0},{"$f":"HLOOKUP($B$1,'Room Inputs'!$D$3:$X$137,H69,0)","v":0},{"$f":"IF(OR(G24=UvaluesWRF!A$2,ISERROR(VLOOKUP(G24,UvaluesWRF!A$3:B$110,2,FALSE))),\"\",VLOOKUP(G24,UvaluesWRF!A$3:B$110,2,FALSE))","v":""},{"$error":"#N/A"},{"$f":"IF(G24=UvaluesWRF!A$2,IF(ISERROR(F24*J24*H24),\"\",F24*J24*H24),IF(ISERROR(F24*J24*I24),\"\",F24*J24*I24))","v":""}]
[null,{"$f":"HLOOKUP($B$1,'Room Inputs'!$D$3:$X$137,B70,0)","v":0},{"$f":"HLOOKUP($B$1,'Room Inputs'!$D$3:$X$137,C70,0)","v":0},{"$f":"HLOOKUP($B$1,'Room Inputs'!$D$3:$X$137,D70,0)","v":0},{"$f":"HLOOKUP($B$1,'Room Inputs'!$D$3:$X$137,E70,0)","v":0},0,{"$f":"HLOOKUP($B$1,'Room Inputs'!$D$3:$X$137,G70,0)","v":0},{"$f":"HLOOKUP($B$1,'Room Inputs'!$D$3:$X$137,H70,0)","v":0},{"$f":"IF(OR(G25=UvaluesWRF!A$2,ISERROR(VLOOKUP(G25,UvaluesWRF!A$3:B$110,2,FALSE))),\"\",VLOOKUP(G25,UvaluesWRF!A$3:B$110,2,FALSE))","v":""},{"$error":"#N/A"},{"$f":"IF(G25=UvaluesWRF!A$2,IF(ISERROR(F25*J25*H25),\"\",F25*J25*H25),IF(ISERROR(F25*J25*I25),\"\",F25*J25*I25))","v":""}]
[null,"Ground floors \nShort length (m)","long length\n(m)","Edges exposed",null,null,"Type and Insulation  thickness",null,null,null,null,null,"U-value","Edge","Insulation","Column",null,1,2,3,4,5.3,5.4,5.5,5.6,6.3,6.4,6.5,6.6]
[null,{"$f":"HLOOKUP($B$1,'Room Inputs'!$D$3:$X$137,B72,0)","v":0},{"$f":"HLOOKUP($B$1,'Room Inputs'!$D$3:$X$137,C72,0)","v":0},{"$f":"HLOOKUP($B$1,'Room Inputs'!$D$3:$X$137,D72,0)","v":0},{"$f":"HLOOKUP($B$1,'Room Inputs'!$D$3:$X$137,E72,0)","v":0},{"$f":"B27*C27","v":0},{"$f":"HLOOKUP($B$1,'Room Inputs'!$D$3:$X$137,G72,0)","v":0},{"$f":"HLOOKUP($B$1,'Room Inputs'!$D$3:$X$137,H72,0)","v":0},{"$f":"IF(OR(G27=UvaluesFlr!$U$3,G27=UvaluesFlr!$U$4,ISERROR(M27)),\"\",M27)","v":""},{"$f":"$K$8-IF(LEFT(G27,2)=\"So\",10,'Site Inputs'!$C$8)","v":{"$error":"#N/A"}},{"$f":"IF(OR(G27=UvaluesFlr!$U$3,G27=UvaluesFlr!$U$4),IF(ISERROR(F27*J27*H27),\"\",F27*J27*H27),IF(ISERROR(F27*J27*I27),\"\",F27*J27*I27))","v":""},null,{"$f":"HLOOKUP(N27+MIN(0.6,IF(N27>4,O27/10,0)),$R$26:$AC$29,2,TRUE)","v":{"$error":"#N/A"}},{"$f":"VLOOKUP(D27,UvaluesFlr!$U$17:$V$22,2,FALSE)","v":{"$error":"#N/A"}},{"$f":"VLOOKUP(G27,UvaluesFlr!$U$3:$W$14,2,FALSE)","v":{"$error":"#N/A"}},{"$f":"VLOOKUP(G27,UvaluesFlr!$U$3:$W$14,3,FALSE)","v":{"$error":"#N/A"}},null,{"$f":"VLOOKUP(C27,UvaluesFlr!$C$53:$P$59,$P27,TRUE)","v":{"$error":"#N/A"}},{"$f":"VLOOKUP(B27,UvaluesFlr!$C$53:$P$59,$P27,TRUE)","v":{"$error":"#N/A"}},{"$f":"VLOOKUP(B27+C27,UvaluesFlr!$C$4:$P$12,$P27,TRUE)","v":{"$error":"#N/A"}},{"$f":"VLOOKUP(B27,UvaluesFlr!$C$16:$P$21,$P27,TRUE)","v":{"$error":"#N/A"}},{"$f":"VLOOKUP($C27,UvaluesFlr!$D$26:$P$29,$P27-1,TRUE)","v":{"$error":"#N/A"}},{"$f":"VLOOKUP($C27,UvaluesFlr!$D$30:$P$31,$P27-1,TRUE)","v":{"$error":"#N/A"}},{"$f":"VLOOKUP($C27,UvaluesFlr!$D$32:$P$33,$P27-1,TRUE)","v":{"$error":"#N/A"}},{"$f":"VLOOKUP($C27,UvaluesFlr!$D$34:$P$35,$P27-1,TRUE)","v":{"$error":"#N/A"}},{"$f":"VLOOKUP($C27,UvaluesFlr!$D$39:$P$42,$P27-1,TRUE)","v":{"$error":"#N/A"}},{"$f":"VLOOKUP($C27,UvaluesFlr!$D$43:$P$45,$P27-1,TRUE)","v":{"$error":"#N/A"}},{"$f":"VLOOKUP($C27,UvaluesFlr!$D$46:$P$48,$P27-1,TRUE)","v":{"$error":"#N/A"}},{"$f":"VLOOKUP($C27,UvaluesFlr!$D$49:$P$50,$P27-1,TRUE)","v":{"$error":"#N/A"}}]
[null,{"$f":"HLOOKUP($B$1,'Room Inputs'!$D$3:$X$137,B73,0)","v":0},{"$f":"HLOOKUP($B$1,'Room Inputs'!$D$3:$X$137,C73,0)","v":0},{"$f":"HLOOKUP($B$1,'Room Inputs'!$D$3:$X$137,D73,0)","v":0},{"$f":"HLOOKUP($B$1,'Room Inputs'!$D$3:$X$137,E73,0)","v":{"$error":"#VALUE!"}},{"$f":"B28*C28","v":0},{"$f":"HLOOKUP($B$1,'Room Inputs'!$D$3:$X$137,G73,0)","v":0},{"$f":"HLOOKUP($B$1,'Room Inputs'!$D$3:$X$137,H73,0)","v":0},{"$f":"IF(OR(G28=UvaluesFlr!$U$3,G28=UvaluesFlr!$U$4,ISERROR(M28)),\"\",M28)","v":""},{"$f":"$K$8-IF(LEFT(G28,2)=\"So\",10,'Site Inputs'!$C$8)","v":{"$error":"#N/A"}},{"$f":"IF(OR(G28=UvaluesFlr!$U$3,G28=UvaluesFlr!$U$4),IF(ISERROR(F28*J28*H28),\"\",F28*J28*H28),IF(ISERROR(F28*J28*I28),\"\",F28*J28*I28))","v":""},null,{"$f":"HLOOKUP(N28+MIN(0.6,IF(N28>4,O28/10,0)),$R$26:$AC$29,3,TRUE)","v":{"$error":"#N/A"}},{"$f":"VLOOKUP(D28,UvaluesFlr!$U$17:$V$22,2,FALSE)","v":{"$error":"#N/A"}},{"$f":"VLOOKUP(G28,UvaluesFlr!$U$3:$W$14,2,FALSE)","v":{"$error":"#N/A"}},{"$f":"VLOOKUP(G28,UvaluesFlr!$U$3:$W$14,3,FALSE)","v":{"$error":"#N/A"}},null,{"$f":"VLOOKUP(C28,UvaluesFlr!$C$53:$P$59,$P28,TRUE)","v":{"$error":"#N/A"}},{"$f":"VLOOKUP(B28,UvaluesFlr!$C$53:$P$59,$P28,TRUE)","v":{"$error":"#N/A"}},{"$f":"VLOOKUP(B28+C28,UvaluesFlr!$C$4:$P$12,$P28,TRUE)","v":{"$error":"#N/A"}},{"$f":"VLOOKUP(B28,UvaluesFlr!$C$16:$P$21,$P28,TRUE)","v":{"$error":"#N/A"}},{"$f":"VLOOKUP($C28,UvaluesFlr!$D$26:$P$29,$P28-1,TRUE)","v":{"$error":"#N/A"}},{"$f":"VLOOKUP($C28,UvaluesFlr!$D$30:$P$31,$P28-1,TRUE)","v":{"$error":"#N/A"}},{"$f":"VLOOKUP($C28,UvaluesFlr!$D$32:$P$33,$P28-1,TRUE)","v":{"$error":"#N/A"}},{"$f":"VLOOKUP($C28,UvaluesFlr!$D$34:$P$35,$P28-1,TRUE)","v":{"$error":"#N/A"}},{"$f":"VLOOKUP($C28,UvaluesFlr!$D$39:$P$42,$P28-1,TRUE)","v":{"$error":"#N/A"}},{"$f":"VLOOKUP($C28,UvaluesFlr!$D$43:$P$45,$P28-1,TRUE)","v":{"$error":"#N/A"}},{"$f":"VLOOKUP($C28,UvaluesFlr!$D$46:$P$48,$P28-1,TRUE)","v":{"$error":"#N/A"}},{"$f":"VLOOKUP($C28,UvaluesFlr!$D$49:$P$50,$P28-1,TRUE)","v":{"$error":"#N/A"}}]
[null,{"$f":"HLOOKUP($B$1,'Room Inputs'!$D$3:$X$137,B74,0)","v":0},{"$f":"HLOOKUP($B$1,'Room Inputs'!$D$3:$X$137,C74,0)","v":0},{"$f":"HLOOKUP($B$1,'Room Inputs'!$D$3:$X$137,D74,0)","v":0},{"$f":"HLOOKUP($B$1,'Room Inputs'!$D$3:$X$137,E74,0)","v":{"$error":"#VALUE!"}},{"$f":"B29*C29","v":0},{"$f":"HLOOKUP($B$1,'Room Inputs'!$D$3:$X$137,G74,0)","v":0},{"$f":"HLOOKUP($B$1,'Room Inputs'!$D$3:$X$137,H74,0)","v":0},{"$f":"IF(OR(G29=UvaluesFlr!$U$3,G29=UvaluesFlr!$U$4,ISERROR(M29)),\"\",M29)","v":""},{"$f":"$K$8-IF(LEFT(G29,2)=\"So\",10,'Site Inputs'!$C$8)","v":{"$error":"#N/A"}},{"$f":"IF(OR(G29=UvaluesFlr!$U$3,G29=UvaluesFlr!$U$4),IF(ISERROR(F29*J29*H29),\"\",F29*J29*H29),IF(ISERROR(F29*J29*I29),\"\",F29*J29*I29))","v":""},null,{"$f":"HLOOKUP(N29+MIN(0.6,IF(N29>4,O29/10,0)),$R$26:$AC$29,4,TRUE)","v":{"$error":"#N/A"}},{"$f":"VLOOKUP(D29,UvaluesFlr!$U$17:$V$22,2,FALSE)","v":{"$error":"#N/A"}},{"$f":"VLOOKUP(G29,UvaluesFlr!$U$3:$W$14,2,FALSE)","v":{"$error":"#N/A"}},{"$f":"VLOOKUP(G29,UvaluesFlr!$U$3:$W$14,3,FALSE)","v":{"$error":"#N/A"}},null,{"$f":"VLOOKUP(C29,UvaluesFlr!$C$53:$P$59,$P29,TRUE)","v":{"$error":"#N/A"}},{"$f":"VLOOKUP(B29,UvaluesFlr!$C$53:$P$59,$P29,TRUE)","v":{"$error":"#N/A"}},{"$f":"VLOOKUP(B29+C29,UvaluesFlr!$C$4:$P$12,$P29,TRUE)","v":{"$error":"#N/A"}},{"$f":"VLOOKUP(B29,UvaluesFlr!$C$16:$P$21,$P29,TRUE)","v":{"$error":"#N/A"}},{"$f":"VLOOKUP($C29,UvaluesFlr!$D$26:$P$29,$P29-1,TRUE)","v":{"$error":"#N/A"}},{"$f":"VLOOKUP($C29,UvaluesFlr!$D$30:$P$31,$P29-1,TRUE)","v":{"$error":"#N/A"}},{"$f":"VLOOKUP($C29,UvaluesFlr!$D$32:$P$33,$P29-1,TRUE)","v":{"$error":"#N/A"}},{"$f":"VLOOKUP($C29,UvaluesFlr!$D$34:$P$35,$P29-1,TRUE)","v":{"$error":"#N/A"}},{"$f":"VLOOKUP($C29,UvaluesFlr!$D$39:$P$42,$P29-1,TRUE)","v":{"$error":"#N/A"}},{"$f":"VLOOKUP($C29,UvaluesFlr!$D$43:$P$45,$P29-1,TRUE)","v":{"$error":"#N/A"}},{"$f":"VLOOKUP($C29,UvaluesFlr!$D$46:$P$48,$P29-1,TRUE)","v":{"$error":"#N/A"}},{"$f":"VLOOKUP($C29,UvaluesFlr!$D$49:$P$50,$P29-1,TRUE)","v":{"$error":"#N/A"}}]
[]
[]
[null,"Windows and doors"]
[null,"Wall or roof with window or door","Window or door height (m)","Window or door width (m)","Area (m²)","Wall/roof U-value (W/m²K)","Frame and glazing type ","Entered U-\u001evalue (W/m²K), if required","U-value","Design temperature difference","Heat loss (W)*"]
[null,{"$f":"HLOOKUP($B$1,'Room Inputs'!$D$3:$X$137,B79,0)","v":0},{"$f":"HLOOKUP($B$1,'Room Inputs'!$D$3:$X$137,C79,0)","v":0},{"$f":"HLOOKUP($B$1,'Room Inputs'!$D$3:$X$137,D79,0)","v":0},{"$f":"C34*D34","v":0},{"$f":"IF(B34<>\"\",IF(VLOOKUP(B34,B$14:I$25,6,FALSE)=UvalueWD!$C$6,VLOOKUP(B34,B$14:I$25,7,FALSE),VLOOKUP(B34,B$14:I$25,8,FALSE)),\"\")","v":""},{"$f":"HLOOKUP($B$1,'Room Inputs'!$D$3:$X$137,G79,0)","v":0},{"$f":"HLOOKUP($B$1,'Room Inputs'!$D$3:$X$137,H79,0)","v":0},{"$f":"IF(OR(G34=UvalueWD!C$6,G34=\"\"),\"\",VLOOKUP(G34,Windows,2,FALSE))","v":{"$error":"#N/A"}},{"$f":"IF(ISERROR(VLOOKUP(B34,B$13:K$29,9,FALSE)),\"\",VLOOKUP(B34,B$13:K$29,9,FALSE))","v":""},{"$f":"IF(G34=UvaluesWRF!A$2,IF(ISERROR(F34*J34*(H34-F34)),\"\",F34*J34*(H34-F34)),IF(ISERROR(F34*J34*(F34-I34)),\"\",(I34-F34)*J34*I34))","v":""}]
[null,{"$f":"HLOOKUP($B$1,'Room Inputs'!$D$3:$X$137,B80,0)","v":0},{"$f":"HLOOKUP($B$1,'Room Inputs'!$D$3:$X$137,C80,0)","v":0},{"$f":"HLOOKUP($B$1,'Room Inputs'!$D$3:$X$137,D80,0)","v":0},0,{"$f":"IF(B35<>\"\",IF(VLOOKUP(B35,B$14:I$25,6,FALSE)=UvalueWD!$C$6,VLOOKUP(B35,B$14:I$25,7,FALSE),VLOOKUP(B35,B$14:I$25,8,FALSE)),\"\")","v":""},{"$f":"HLOOKUP($B$1,'Room Inputs'!$D$3:$X$137,G80,0)","v":0},{"$f":"HLOOKUP($B$1,'Room Inputs'!$D$3:$X$137,H80,0)","v":0},{"$f":"IF(OR(G35=UvalueWD!C$6,G35=\"\"),\"\",VLOOKUP(G35,Windows,2,FALSE))","v":{"$error":"#N/A"}},"",{"$f":"IF(G35=UvaluesWRF!A$2,IF(ISERROR(F35*J35*(H35-F35)),\"\",F35*J35*(H35-F35)),IF(ISERROR(F35*J35*(F35-I35)),\"\",(I35-F35)*J35*I35))","v":""}]
[null,{"$f":"HLOOKUP($B$1,'Room Inputs'!$D$3:$X$137,B81,0)","v":0},{"$f":"HLOOKUP($B$1,'Room Inputs'!$D$3:$X$137,C81,0)","v":0},{"$f":"HLOOKUP($B$1,'Room Inputs'!$D$3:$X$137,D81,0)","v":0},0,{"$f":"IF(B36<>\"\",IF(VLOOKUP(B36,B$14:I$25,6,FALSE)=UvalueWD!$C$6,VLOOKUP(B36,B$14:I$25,7,FALSE),VLOOKUP(B36,B$14:I$25,8,FALSE)),\"\")","v":""},{"$f":"HLOOKUP($B$1,'Room Inputs'!$D$3:$X$137,G81,0)","v":0},{"$f":"HLOOKUP($B$1,'Room Inputs'!$D$3:$X$137,H81,0)","v":0},{"$f":"IF(OR(G36=UvalueWD!C$6,G36=\"\"),\"\",VLOOKUP(G36,Windows,2,FALSE))","v":{"$error":"#N/A"}},"",{"$f":"IF(G36=UvaluesWRF!A$2,IF(ISERROR(F36*J36*(H36-F36)),\"\",F36*J36*(H36-F36)),IF(ISERROR(F36*J36*(F36-I36)),\"\",(I36-F36)*J36*I36))","v":""}]
[null,{"$f":"HLOOKUP($B$1,'Room Inputs'!$D$3:$X$137,B82,0)","v":0},{"$f":"HLOOKUP($B$1,'Room Inputs'!$D$3:$X$137,C82,0)","v":0},{"$f":"HLOOKUP($B$1,'Room Inputs'!$D$3:$X$137,D82,0)","v":0},0,{"$f":"IF(B37<>\"\",IF(VLOOKUP(B37,B$14:I$25,6,FALSE)=UvalueWD!$C$6,VLOOKUP(B37,B$14:I$25,7,FALSE),VLOOKUP(B37,B$14:I$25,8,FALSE)),\"\")","v":""},{"$f":"HLOOKUP($B$1,'Room Inputs'!$D$3:$X$137,G82,0)","v":0},{"$f":"HLOOKUP($B$1,'Room Inputs'!$D$3:$X$137,H82,0)","v":0},{"$f":"IF(OR(G37=UvalueWD!C$6,G37=\"\"),\"\",VLOOKUP(G37,Windows,2,FALSE))","v":{"$error":"#N/A"}},"",{"$f":"IF(G37=UvaluesWRF!A$2,IF(ISERROR(F37*J37*(H37-F37)),\"\",F37*J37*(H37-F37)),IF(ISERROR(F37*J37*(F37-I37)),\"\",(I37-F37)*J37*I37))","v":""}]
[null,{"$f":"HLOOKUP($B$1,'Room Inputs'!$D$3:$X$137,B83,0)","v":0},{"$f":"HLOOKUP($B$1,'Room Inputs'!$D$3:$X$137,C83,0)","v":0},{"$f":"HLOOKUP($B$1,'Room Inputs'!$D$3:$X$137,D83,0)","v":0},0,{"$f":"IF(B38<>\"\",IF(VLOOKUP(B38,B$14:I$25,6,FALSE)=UvalueWD!$C$6,VLOOKUP(B38,B$14:I$25,7,FALSE),VLOOKUP(B38,B$14:I$25,8,FALSE)),\"\")","v":""},{"$f":"HLOOKUP($B$1,'Room Inputs'!$D$3:$X$137,G83,0)","v":0},{"$f":"HLOOKUP($B$1,'Room Inputs'!$D$3:$X$137,H83,0)","v":0},{"$f":"IF(OR(G38=UvalueWD!C$6,G38=\"\"),\"\",VLOOKUP(G38,Windows,2,FALSE))","v":{"$error":"#N/A"}},"",{"$f":"IF(G38=UvaluesWRF!A$2,IF(ISERROR(F38*J38*(H38-F38)),\"\",F38*J38*(H38-F38)),IF(ISERROR(F38*J38*(F38-I38)),\"\",(I38-F38)*J38*I38))","v":""}]
[null,{"$f":"HLOOKUP($B$1,'Room Inputs'!$D$3:$X$137,B84,0)","v":0},{"$f":"HLOOKUP($B$1,'Room Inputs'!$D$3:$X$137,C84,0)","v":0},{"$f":"HLOOKUP($B$1,'Room Inputs'!$D$3:$X$137,D84,0)","v":0},0,{"$f":"IF(B39<>\"\",IF(VLOOKUP(B39,B$14:I$25,6,FALSE)=UvalueWD!$C$6,VLOOKUP(B39,B$14:I$25,7,FALSE),VLOOKUP(B39,B$14:I$25,8,FALSE)),\"\")","v":""},{"$f":"HLOOKUP($B$1,'Room Inputs'!$D$3:$X$137,G84,0)","v":0},{"$f":"HLOOKUP($B$1,'Room Inputs'!$D$3:$X$137,H84,0)","v":0},{"$f":"IF(OR(G39=UvalueWD!C$6,G39=\"\"),\"\",VLOOKUP(G39,Windows,2,FALSE))","v":{"$error":"#N/A"}},"",{"$f":"IF(G39=UvaluesWRF!A$2,IF(ISERROR(F39*J39*(H39-F39)),\"\",F39*J39*(H39-F39)),IF(ISERROR(F39*J39*(F39-I39)),\"\",(I39-F39)*J39*I39))","v":""}]
[]
[null,"* this is net heat loss (i.e. the heat loss of the window minus that of a wall of the same area) and so can be negative.  This is done so that the area of the window or door does not have to be subtracted from the wall area.  "]
[null,null,null,null,null,null,null,null,"Room heat loss (W)",null,{"$f":"SUM(K10:K39)","v":0}]
[]
[]
[]
[null,"Row number lookup map"]
[]
[null,"Room name",2,null,"Emitter type",3,"For convectors consult the manufacturer's data and enter the temperature factor (FTEMP) for the appropriate fan speed",4,"For radiators enter the n-coefficient (exponent) from manufacturer's data.  If unknown 1.3 may be used",null,5]
[]
[null,"Enter floor type and construction",6,null,"Enter floor type and construction",7,"For UFH enter Tog value (See Table 14)",8,"For UFH enter  active or exposed area of the heated floor ",null,9]
[]
[null,"Enter Room type below",null,null," Enter Open fire/chimney details below "]
[null,10,null,null,11]
[null,"Room Dimensions"]
[null,"Length (m)",null,"Width (m)",null,"Height (m)"]
[null,13,null,14,null,15]
[null,"Walls, floors not ground floors and ceiling"]
[null,"Name of wall, floor, ceiling","Space on other side","Height or length (m)","Width (m)",null,"Construction","Entered U-\u001evalue (W/m²K), if required"]
[null,16,17,18,19,null,20,21]
[null,22,23,24,25,null,26,27]
[null,28,29,30,31,null,32,33]
[null,35,36,37,38,null,39,40]
[null,41,42,43,44,null,45,46]
[null,47,48,49,50,null,51,52]
[null,53,54,55,56,null,57,58]
[null,59,60,61,62,null,63,64]
[null,65,66,67,68,null,69,70]
[null,71,72,73,74,null,75,76]
[null,77,78,79,80,null,81,82]
[null,83,84,85,86,null,87,88]
[null,"Ground floors \nShort length (m)","long length\n(m)","Edges exposed",null,null,"Type and Insulation  thickness"]
[null,89,90,91,92,null,92,93]
[null,95,96,97,null,null,98,99]
[null,100,101,102,null,null,103,104]
[]
[]
[null,"Windows and doors"]
[null,"Wall or roof with window or door","Window or door height (m)","Window or door width (m)","Area (m²)","Wall/roof U-value (W/m²K)","Frame and glazing type ","Entered U-\u001evalue (W/m²K), if required"]
[null,105,106,107,null,null,108,109]
[null,111,112,113,null,null,114,115]
[null,116,117,118,null,null,119,120]
[null,121,122,123,null,null,124,125]
[null,126,127,128,null,null,129,130]
[null,131,132,133,null,null,134,135]

{"sheet":"VTables","index":26,"n_rows":44,"n_cols":14,"rows_kept":44,"cut":false,"hidden":true,"merged":[[2,9,2,13]]}
[]
[]
[null,null,null,null,null,null,null,null,null,"Table 2 - Design room ventilation and temperatures"]
[null,"Table 4 - Design External Temperatures °C",null,null,null,null,null,null,null,"Room","Design Room Temp (DRT)   (°C)","Ventilation Change Rate"]
[null,null,"Altitude (m)","Intermittent","continuous",null,null,null,null,null,null,"Built before 2000","Built in 2000 or later with double glazing and regulatory minimum insulation","Built after 2006 and complies with all current Building Regulations"]
[null,"Belfast",68,-2.6,-1.2,null,null,null,null,"Living room",21,1.5,1,0.5]
[null,"Birmingham",96,-5.4,-3.4,null,null,null,null,"Dining room",21,1.5,1,0.5]
[null,"Cardiff",67,-3.2,-1.6,null,null,null,null,"Bedsitting room",21,1.5,1,0.5]
[null,"Edinburgh",35,-5.4,-3.4,null,null,null,null,"Bedroom",18,1,1,0.5]
[null,"Glasgow",5,-5.9,-3.9,null,null,null,null,"Hall and landing",18,2,1,0.5]
[null,"London",25,-3.3,-1.8,null,null,null,null,"Kitchen",18,2,1.5,1.5]
[null,"Manchester",75,-3.6,-2.2000000000000002,null,null,null,null,"Bathroom",22,3,1.5,1.5]
[null,"Plymouth",27,-1.6,-0.2,null,null,null,null,"Toilet",18,3,1.5,1.5]
[null,null,null,null,null,null,null,null,null,"Outside",{"$f":"'Site Inputs'!C8","v":-3.8},"N/A","N/A","N/A"]
[null,null,null,null,null,null,null,null,null,"Unheated space",{"$f":"K14","v":-3.8},"N/A","N/A","N/A"]
[null,null,null,null,null,null,null,null,null,"Adjoining dwelling",10,"N/A","N/A","N/A"]
[null,"Table 3: Alternative ventilation rates for rooms with an open fire or chimney"]
[null,null,"Air changes per hour"]
[null,null,"Room volume up to 40m3","room volume 40m3 or more"]
[null,"No chimney or open fire"]
[null,"Without throat restrictor fitted to flue",5,4]
[null,"With throat restrictor fitted to flue",3,2]
[]
[]
[]
[null,"Menu_location",null,"Menu_heating_pattern",null,"Menu_Floor_exposure"]
[null,"City and altitude",null,"Intermittent",null,"length and breadth"]
[null,"Specify value",null,"Continuous",null,"Area and exposed perimeter"]
[]
[null,"Emitter_menu",null,"Design_flow_temperature_menu"]
[null,"Underfloor heating (UFH)",null,"Design flow temperature (Tf) ≤35°C",{"$f":"13/14*35","v":32.5}]
[null,"Convector",null,"Design flow temperature (Tf) ≤45°C",{"$f":"13/14*45","v":41.785714285714285}]
[null,"Radiator",null,"Design flow temperature (Tf) ≤55°C",{"$f":"13/14*55","v":51.071428571428577}]
[null,null,null,"Specified design flow temp (Tf) - N/A for SAP 2012"]
[null,"Floor_type"]
[null,"Normally occupied space",9]
[null,"Peripheral zones",15]
[null,"Vinyl floor finish",27]
[null,"Specify Maximum Floor Surface Temperature (°C) - Overwrite here"]
[]
[null,"Floor_construction","Table 13 rows","Table 13 starting row"]
[null,"Floating screed floor",5,1]
[null,"Floating dry floor inc. 18 mm chipboard",4,6]
[null,"Floating dry floor inc. 18 mm gypsum fibreboard",4,10]

{"sheet":"UvaluesWRF","index":27,"n_rows":110,"n_cols":2,"rows_kept":110,"cut":false,"hidden":false,"merged":[]}
["Wall/Roof/ceiling/non-ground floors U-values (SOURCE Domestic heating guide section 6)","U-value W/m²K "]
["Enter a U-value"]
["Brick 102 mm, plaster",2.97]
["Brick 228 mm, plaster",2.11]
["Brick 343 mm, plaster",1.64]
["Stone 305mm (12in)",2.87]
["Stone 457mm (18in)",2.23]
["Stone 610mm (24in)",1.68]
["Concrete 102mm, plaster",3.51]
["Concrete 152mm, plaster",3.12]
["Concrete 204mm, plaster",2.8]
["Concrete 254 mm, plaster",2.54]
["Render 19mm, high performance aerated block (k=0.11) 215mm, 13mm plaster",0.44]
["Tiles, airspace, high performance aerated block, 215mm, 13mm plaster",0.43]
["Brick 102mm, cavity, brick 102mm, 13mm plaster",1.37]
["Brick 102mm, cavity, brick 102mm, 12.5mm plasterboard on dabs",1.21]
["Brick 102mm, 50mm  mineral slab, brick 102mm, 13mm plaster",0.56000000000000005]
["Brick 102mm, 50mm mineral slab, brick 102mm, 12.5mm plasterboard on dabs",0.53]
["Brick 102mm, cavity, 100mm standard aerated block (k=0.17), 13mm plaster",0.87]
["Brick 102mm, cavity, 125mm standard aerated block (k=0.17), 13mm plaster",0.77]
["Brick 102mm, cavity, 100mm standard aerated block (k=0.17), 12.5mm plasterboard on dabs",0.8]
["Brick 102mm, cavity, 125mm standard aerated block (k=0.17), 12.5mm plasterboard on dabs",0.72]
["Brick 102mm, mineral wool slab in cavity 50mm, 100mm standard aerated block (k=0.17), 13mm plaster",0.45]
["Brick 102mm, mineral wool slab in cavity 50mm, 120mm standard aerated block (k=0.17), 13mm plaster",0.42]
["Brick 102mm, mineral wool slab in cavity 50mm,100mm standard aerated block (k=0.17), 12.5mm plasterboard on dabs",0.43]
["Brick 102mm, mineral wool slab in cavity 50mm,125mm standard aerated block (k=0.17), 12.5mm plasterboard on dabs",0.41]
["Brick 102mm, cavity, 100mm high performance aerated block (k=0.11), 13mm plaster",0.68]
["Brick 102mm, cavity, 125mm high performance aerated block (k=0.11), 13mm plaster",0.59]
["Brick 102mm, cavity, 100mm high performance aerated block (k=0.11), 12.5mm plasterboard on dabs",0.64]
["Brick 102mm, cavity, 125mm high performance aerated block (k=0.11), 12.5mm plasterboard on dabs",0.56000000000000005]
["Brick 102mm, mineral wool slab in cavity 50mm, 100mm high performance aerated block (k=0.11), 13mm plaster",0.39]
["Brick 102mm, mineral wool slab in cavity 50mm, 120mm high performance aerated block (k=0.11), 13mm plaster",0.36]
["Brick 102mm, mineral wool slab in cavity 50mm,100mm high performance aerated block (k=0.11), 12.5mm plasterboard on dabs",0.38]
["Brick 102mm, mineral wool slab in cavity 50mm,125mm high performance aerated block (k=0.11), 12.5mm plasterboard on dabs",0.35]
["Render 19mm, brick 102mm, cavity, brick 102mm, 13mm plaster",1.25]
["Render 19mm, brick 102mm, 50mm mineral wool slab,  brick 102mm, 13mm plaster",0.54]
["Render 19mm, brick 102mm, cavity, brick 102mm, 12.5mm plasterboard on dabs",1.1100000000000001]
["Render 19mm, brick 102mm, 50mm mineral wool slab, brick 102mm, 12.5mm plasterboard on dabs",0.51]
["Render 19mm, brick 102mm, cavity, 100mm standard aerated block, 13mm plaster",0.82]
["Render 19mm, brick 102mm, cavity, 125mm standard aerated block, 13mm plaster",0.73]
["Render 19mm, brick 102mm, mineral wool slab in\ncavity 50mm, 100mm standard aerated block, 13mm plaster",0.44]
["Render 19mm, brick 102mm, mineral wool slab in\ncavity 50mm, 125mm standard aerated block, 13mm plaster",0.41]
["Render 19mm, standard aerated block 100mm, cavity, 100mm standard aerated block, 13mm plaster",0.61]
["Render 19mm, standard aerated block 100mm, cavity, 125mm standard aerated block, 13mm plaster",0.56000000000000005]
["Render 19mm, standard aerated block 100mm, mineral wool slab in cavity 50mm, 100mm standard aerated block, 13mm plaster",0.37]
["Render 19mm, standard aerated block 100mm, mineral wool slab in cavity 50mm, 125mm standard aerated block, 13mm plaster",0.35]
["Render 19mm, standard aerated block 100mm, cavity, 100mm  high performance aerated block (k=0.11), 13mm plaster",0.51]
["Render 19mm, standard aerated block 100mm, cavity, 125mm high performance aerated block (k=0.11), 13mm plaster",0.45]
["Render 19mm, standard aerated block 100mm, mineral wool slab in cavity 50mm, 100mm  high performance aerated block (k=0.11), 13mm plaster",0.33]
["Render 19mm, standard aerated block 100mm, mineral wool slab in cavity 50mm, 125mm high performance aerated block (k=0.11), 13mm plaster",0.31]
["Tiles, airspace, standard aerated block 100mm, 13mm plaster",0.57999999999999996]
["Tiles, airspace, standard aerated block 125mm, 13mm plaster",0.53]
["Tiles, airspace, standard aerated block 100mm, mineral wool slab in cavity 50mm, 100mm standard aerated block, 13mm plaster",0.36]
["Tiles, airspace, standard aerated block 100mm, mineral wool slab in cavity 50mm, 120mm standard aerated block, 13mm plaster",0.34]
["Tiles, airspace, standard aerated block 100mm, cavity, 100mm high performance aerated block (k=0.11), 13mm plaster",0.49]
["Tiles, airspace, standard aerated block 100mm, cavity, 125mm high performance aerated block (k=0.11), 13mm plaster",0.44]
["Tiles, airspace, standard aerated block 100mm, mineral wool slab in cavity 50mm, 100mm high performance aerated block (k=0.11), 13mm plaster",0.32]
["Tiles, airspace, standard aerated block 100mm, mineral wool slab in cavity 50mm, 125mm high performance aerated block (k=0.11), 13mm plaster",0.3]
["Shiplap boards, airspace, standard aerated block 100mm, cavity, standard aerated block 100mm, 13mm plaster",0.53]
["Shiplap boards, airspace, standard aerated block 100mm, cavity, standard aerated block 125mm, 13mm plaster",0.49]
["Shiplap boards, airspace, standard aerated block 100mm, mineral wool slab in cavity 50mm, standard aerated block 100mm, 13mm plaster",0.34]
["Shiplap boards, airspace, standard aerated block 100mm, mineral wool slab in cavity 50mm, standard aerated block 125mm, 13mm plaster",0.32]
["Shiplap boards, airspace, standard aerated block 100mm, cavity, 100mm high performance block (K=0.11), 13mm plaster",0.45]
["Shiplap boards, airspace, standard aerated block 100mm, cavity, 125mm high performance block (K=0.11), 13mm plaster",0.41]
["Shiplap boards, airspace, standard aerated block 125mm, mineral wool slab in cavity 50mm, 100mm high performance block (K=0.11), 13mm plaster",0.31]
["Shiplap boards, airspace, standard aerated block 100mm, mineral wool slab in cavity 50mm, 125mm high performance block (K=0.11), 13mm plaster",0.28999999999999998]
["Brick 102.5mm, cavity, membrane, plywood 10mm, studding 100mm, with infill insulation 60mm, vapour membrane, plasterboard 12.5mm",0.43]
["Brick 102.5mm, cavity, membrane, plywood 10mm, studding 100mm, with infill insulation 80mm, vapour membrane, plasterboard 12.5mm",0.36]
["Brick 102.5mm, cavity, membrane, plywood 10mm, studding 100mm, with infill  insulation 80mm, vapour membrane, plasterboard 12.5mm",0.32]
["Tiles, airspace, cavity, membrane, plywood 10mm, studding 100mm, with infill insulation 60mm, vapour membrane, plasterboard 12.5mm",0.47]
["Tiles, airspace, cavity, membrane, plywood 10mm, studding 100mm, with infill insulation 80mm, vapour membrane, plasterboard 12.5mm",0.38]
["Tiles, airspace, cavity, membrane, plywood 10mm, studding 100mm, with infill  insulation 80mm, vapour membrane, plasterboard 12.5mm",0.34]
["shiplap boards, airspace, cavity, membrane, plywood 10mm, studding 100mm, with infill insulation 60mm, vapour membrane, plasterboard 12.5mm",0.44]
["shiplap boards, airspace, cavity, membrane, plywood 10mm, studding 100mm, with infill insulation 80mm, vapour membrane, plasterboard 12.5mm",0.36]
["shiplap boards, airspace, cavity, membrane, plywood 10mm, studding 100mm, with infill  insulation 80mm, vapour membrane, plasterboard 12.5mm",0.32]
["Plasterboard 12.5mm, studding 75mm, plasterboard 12.5mm",1.72]
["Plaster 13mm, block 10mm, cavity, block 100mm, plaster 13mm",1.02]
["Plaster 13mm, brick 102.5mm, plaster 13mm",1.76]
["Plaster 13mm, brick 215mm, plaster 13mm",1.33]
["Plaster, breeze block 100mm, plaster",1.58]
["Plaster 13mm, standard aerated block 100mm, plaster 13mm",1.66]
["Plaster 13mm, standard aerated block 125mm, plaster 13mm",1.53]
["Pitched roof - Slates or tiles, sarking felt, ventilated air space, no insulation, 9.5 mm plasterboard",2.5099999999999998]
["Pitched roof - Slates or tiles, sarking felt, ventilated air space, 50mm insulation between joists, 9.5 mm plasterboard",0.6]
["Pitched roof - Slates or tiles, sarking felt, ventilated air space, 100mm insulation between joists, 9.5 mm plasterboard",0.34]
["Pitched roof - Slates or tiles, sarking felt, ventilated air space, 200mm insulation between joists, 9.5 mm plasterboard",0.18]
["Pitched roof - Slates or tiles, sarking felt, ventilated air space, 300mm insulation between joists, 9.5 mm plasterboard",0.12]
["Pitched roof - Slates or tiles, , ventilated air space, no insulation, 9.5 mm plasterboard",3.13]
["Pitched roof - Slates or tiles, , ventilated air space, 50mm insulation between joists, 9.5 mm plasterboard",0.62]
["Pitched roof - Slates or tiles, , ventilated air space, 100mm insulation between joists, 9.5 mm plasterboard",0.35]
["Pitched roof - Slates or tiles, , ventilated air space, 200mm insulation between joists, 9.5 mm plasterboard",0.18]
["Pitched roof - Slates or tiles, , ventilated air space, 300mm insulation between joists, 9.5 mm plasterboard",0.12]
["Pitched roof - Slates or tiles, sarking felt, ventilated air space, 50mm insulation between rafters, 9.5 mm plasterboard",0.6]
["Pitched roof - Slates or tiles, sarking felt, ventilated air space, 100mm insulation between rafters, 9.5 mm plasterboard",0.34]
["Pitched roof - Slates or tiles, sarking felt, ventilated air space, 200mm insulation between rafters, 9.5 mm plasterboard",0.18]
["Pitched roof - Slates or tiles, sarking felt, ventilated air space, 300mm insulation between rafters, 9.5 mm plasterboard",0.12]
["Chippings, 3 layers of felt, boarding, air space, no insulation, 9.5 mm plasterboard",1.69]
["Chippings, 3 layers of felt, boarding, air space, 50mm insulation, 9.5 mm plasterboard",0.53]
["Chippings, 3 layers of felt, boarding, air space, 100mm insulation, 9.5 mm plasterboard",0.32]
["Chippings, 3 layers of felt, boarding, air space, 200mm insulation, 9.5 mm plasterboard",0.17]
["Chippings, 3 layers of felt, boarding, air space, 300insulation, 9.5 mm plasterboard",0.12]
["Boarding 19mm, airspace between joists, no insulation, 6mm sheeting - heat flow downward exposed to outside air or unheated space",1.75]
["Boarding 19mm, airspace between joists, 100mm insulation, 6mm sheeting - heat flow downward exposed to outside air or unheated space",0.33]
["Boarding 19mm, airspace between joists, 150mm insulation, 6mm sheeting - heat flow downward exposed to outside air or unheated space",0.23]
["Screed 50mm, concrete slab 150mm, no insulation between battens, 6mm sheeting, heat flow downward - exposed to outside air or unheated space",1.82]
["Screed 50mm, concrete slab 150mm, 100mm insulation between battens, 6mm sheeting, heat flow downward - exposed to outside air or unheated space",0.56999999999999995]
["Intermediate floors, boarding 19mm, airspace between joists, 9.5mm plasterboard heat flow upward",1.73]
["Intermediate floors, boarding 19mm, airspace 100mm insulation between joists, 9.5mm plasterboard heat flow upward",0.32]
["Intermediate floors, boarding 19mm, airspace between joists, 9.5mm plasterboard heat flow downward",1.41]
["Intermediate floors, boarding 19mm, airspace 100mm insulation between joists, 9.5mm plasterboard heat flow downward",0.31]

{"sheet":"UvaluesFlr","index":28,"n_rows":63,"n_cols":23,"rows_kept":63,"cut":false,"hidden":false,"merged":[]}
[null,null,"Solid Floors",null,null,null,null,null,null,null,"Suspended Floors"]
[null,null,"Table 6.9 (Two adjacent edges exposed)",null,null,null,null,null,null,null,"Table 6.12 (Two adjacent edges exposed)",null,null,null,null,null,null,null,null,null,"Menu_floor_construction","menu no","col"]
[null,null,"a+b(m)",null,0,25,50,75,100,null,null,0,25,50,75,100,null,null,null,null,"Solid floor - Enter a U-value",0]
[null,"\"5-6",5,null,1.02,0.57999999999999996,0.41,0.31,0.26,null,null,1.05,0.59,0.41,0.32,0.26,null,null,null,null,"Suspended floor - Enter U-value",0]
[null,"\"6-7",6,null,0.9,0.54,0.39,0.3,0.25,null,null,0.93,0.55000000000000004,0.39,0.3,0.25,null,null,null,null,"Solid no insulation",1,3]
[null,"\"7-8",7,null,0.82,0.51,0.37,0.28999999999999998,0.24,null,null,0.86,0.53,0.38,0.3,0.24,null,null,null,null,"Solid 25mm insulation",2,4]
[null,"\"8-9",8,null,0.76,0.49,0.36,0.28000000000000003,0.23,null,null,0.79,0.5,0.37,0.28999999999999998,0.24,null,null,null,null,"Solid 50mm insulation",3,5]
[null,"\"9-10",9,null,0.7,0.46,0.34,0.27,0.23,null,null,0.75,0.48,0.36,0.28000000000000003,0.23,null,null,null,null,"Solid 75mm insulation",4,6]
[null,"\"10-12",10,null,0.6,0.41,0.32,0.26,0.22,null,null,0.65,0.44,0.33,0.27,0.22,null,null,null,null,"Solid 100mm insulation",5,7]
[null,"\"12-14",12,null,0.52,0.38,0.28999999999999998,0.24,0.21,null,null,0.57999999999999996,0.41,0.31,0.25,0.21,null,null,null,null,"Suspended no insulation",6,10]
[null,"\"14-17",14,null,0.45,0.34,0.27,0.23,0.19,null,null,0.71,0.37,0.28999999999999998,0.24,0.2,null,null,null,null,"Suspended 25mm insulation",7,11]
[null,"\"17-20",17,null,0.39,0.3,0.25,0.21,0.18,null,null,0.43,0.33,0.26,0.22,0.19,null,null,null,null,"Suspended 50mm insulation",8,12]
[null,null,null,null,null,null,null,null,null,null,null,null,null,null,null,null,null,null,null,null,"Suspended 75mm insulation",9,13]
[null,null,"Table 6.10c (Two opposite edges exposed)",null,null,null,null,"a",null,null,"Table 6.10c (Two opposite edges exposed)",null,null,null,null,"a",null,null,null,null,"Suspended 100mm insulation",10,14]
[null,null,"a (m)",null,0,25,50,75,100,null,null,0,25,50,75,100]
[null,"\"2-3",2,null,1.1499999999999999,0.62,0.43,0.32,0.26,null,null,1.1000000000000001,0.61,0.42,0.32,0.26,null,null,null,null,"Menu_floor_exposed_sides"]
[null,"\"3-4",3,null,0.9,0.54,0.39,0.3,0.25,null,null,0.95,0.56000000000000005,0.4,0.31,0.25,null,null,null,null,"One edge (short)",1]
[null,"\"4-5",4,null,0.73,0.47,0.35,0.28000000000000003,0.23,null,null,0.83,0.51,0.37,0.28999999999999998,0.23,null,null,null,null,"One edge (long)",2]
[null,"\"5-6",5,null,0.62,0.43,0.32,0.26,0.22,null,null,0.74,0.48,0.35,0.26,0.23,null,null,null,null,"Two adjacent edges",3]
[null,"\"6-8",6,null,0.55000000000000004,0.39,0.3,0.25,0.21,null,null,0.67,0.45,0.34,0.27,0.23,null,null,null,null,"Two opposite edges",4]
[null,"\"8-10",8,null,0.44,0.33,0.27,0.22,0.19,null,null,0.55000000000000004,0.39,0.3,0.25,0.21,null,null,null,null,"Three edges (short outer edge)",5]
[null,null,null,null,null,null,null,null,null,null,null,null,null,null,null,null,null,null,null,null,"Three edges (long outer edge)",6]
[]
[null,null,"Table 6.10a (Three adjacent edges exposed)",null,null,null,null,"s",null,null,"Table 6.13a (Three adjacent edges exposed)",null,null,null,null,"s"]
[null,null,"short","long",0,25,50,75,100,null,null,0,25,50,75,100]
[null,null,3,3,1.1499999999999999,0.62,0.43,0.32,0.26,null,null,1.1499999999999999,0.62,0.43,0.32,0.26]
[null,null,3,4,1.03,0.57999999999999996,0.41,0.31,0.26,null,null,1.03,0.57999999999999996,0.41,0.31,0.26]
[null,null,3,6,1,0.56999999999999995,0.4,0.31,0.25,null,null,1,0.56999999999999995,0.4,0.31,0.25]
[null,null,3,8,0.96,0.56000000000000005,0.4,0.31,0.25,null,null,0.99,0.56000000000000005,0.4,0.31,0.25]
[null,null,4,4,0.95,0.56000000000000005,0.4,0.31,0.25,null,null,0.95,0.56000000000000005,0.4,0.31,0.25]
[null,null,4,6,0.85,0.52,0.38,0.28999999999999998,0.24,null,null,0.87,0.53,0.38,0.3,0.24]
[null,null,5,5,0.81,0.51,0.37,0.28999999999999998,0.24,null,null,0.83,0.51,0.37,0.28999999999999998,0.24]
[null,null,5,7,0.74,0.48,0.35,0.28000000000000003,0.23,null,null,0.8,0.5,0.37,0.28999999999999998,0.24]
[null,null,6,6,0.71,0.46,0.35,0.28000000000000003,0.23,null,null,0.75,0.48,0.36,0.28000000000000003,0.23]
[null,null,6,8,0.65,0.44,0.33,0.27,0.22,null,null,0.72,0.47,0.35,0.28000000000000003,0.23]
[]
[null,null,"Table 6.10b (Three adjacent edges exposed)",null,null,null,null,"L",null,null,"Table 6.13b (Three adjacent edges exposed)",null,null,null,null,"L"]
[null,null,"short","long",0,25,50,75,100,null,null,0,25,50,75,100]
[null,null,3,3,1.05,0.59,0.41,0.32,0.26,null,null,1,0.56999999999999995,0.4,0.31,0.25]
[null,null,3,5,0.9,0.54,0.39,0.3,0.25,null,null,0.85,0.52,0.38,0.28999999999999998,0.24]
[null,null,3,7,0.85,0.52,0.38,0.28999999999999998,0.24,null,null,0.8,0.5,0.37,0.28999999999999998,0.24]
[null,null,3,9,0.77,0.49,0.36,0.28000000000000003,0.24,null,null,0.77,0.49,0.36,0.28000000000000003,0.24]
[null,null,4,4,0.95,0.56000000000000005,0.4,0.31,0.25,null,null,0.85,0.52,0.38,0.28999999999999998,0.24]
[null,null,4,6,0.87,0.53,0.38,0.3,0.24,null,null,0.79,0.5,0.37,0.28999999999999998,0.24]
[null,null,4,8,0.76,0.49,0.36,0.28000000000000003,0.24,null,null,0.73,0.47,0.35,0.28000000000000003,0.23]
[null,null,5,5,0.83,0.51,0.37,0.28999999999999998,0.24,null,null,0.77,0.49,0.36,0.28000000000000003,0.24]
[null,null,5,7,0.77,0.49,0.36,0.28000000000000003,0.24,null,null,0.72,0.47,0.35,0.28000000000000003,0.23]
[null,null,5,9,0.68,0.45,0.34,0.27,0.23,null,null,0.66,0.44,0.33,0.27,0.23]
[null,null,6,6,0.75,0.48,0.36,0.28000000000000003,0.23,null,null,0.69,0.46,0.34,0.27,0.23]
[null,null,6,8,0.7,0.46,0.34,0.27,0.23,null,null,0.67,0.45,0.34,0.27,0.23]
[]
[null,null,"Table 6.11 (One adjacent edge exposed)",null,null,null,null,"a",null,null,"Table 6.14b (One adjacent edge exposed)",null,null,null,null,"a"]
[null,null,"a(m)",null,0,25,50,75,100,null,null,0,25,50,75,100]
[null,"\"1.25-1.75",1.25,null,0.9,0.54,0.39,0.3,0.25,null,null,1.1000000000000001,0.61,0.42,0.32,0.26]
[null,"\"1.75-2",1.75,null,0.73,0.47,0.35,0.28000000000000003,0.23,null,null,0.83,0.51,0.37,0.28999999999999998,0.24]
[null,"\"2-3",2,null,0.55000000000000004,0.39,0.3,0.25,0.21,null,null,0.67,0.45,0.34,0.27,0.23]
[null,"\"3-5",3,null,0.45,0.34,0.27,0.23,0.19,null,null,0.56000000000000005,0.4,0.31,0.25,0.21]
[null,"\"5-7",5,null,0.38,0.3,0.24,0.21,0.18,null,null,0.48,0.35,0.28000000000000003,0.23,0.2]
[null,"\"7-10",7,null,0.28000000000000003,0.23,0.2,0.17,0.15,null,null,0.38,0.3,0.24,0.21,0.19]
[]
[]
[null,null,"λ=0.04"]
[null,null,"Insulation slabs laid below screed with 25mm edge insulation.",null,null,null,null,null,null,null,null,"Insulation slabs between joists"]

{"sheet":"UvalueWD","index":29,"n_rows":24,"n_cols":4,"rows_kept":24,"cut":false,"hidden":false,"merged":[[1,1,1,3],[2,1,2,3],[3,1,3,3]]}
[]
[null,"WINDOWS AND DOORS (source CIBSE)"]
[null,"The U-values listed below apply to the whole window including the frame "]
[null,"and assume a standard gap between panes of 12mm "]
[null,"Windows with wood or PVC-U frames ","Window_description","U-value W/m²K "]
[null,"Enter a U-value","Enter a U-value"]
[null,"Single ",{"$f":"\"Wood/PVC \"&B7","v":"Wood/PVC Single "},4.8]
[null,"Double ",{"$f":"\"Wood/PVC \"&B8","v":"Wood/PVC Double "},2.8]
[null,"Double, low-E glass ","Wood/PVC Double, low-E glass ",2.2999999999999998]
[null,"Double, low-E glass, argon filled ","Wood/PVC Double, low-E glass, argon filled ",2.1]
[null,"Triple ","Wood/PVC Triple ",2.1]
[null,"Triple, low-E glass ","Wood/PVC Triple, low-E glass ",1.7]
[null,"Triple, low-E glass, argon filled ","Wood/PVC Triple, low-E glass, argon filled ",1.6]
[null,"Single ",{"$f":"\"Metal \"&B14","v":"Metal Single "},5.7]
[null,"Double ",{"$f":"\"Metal \"&B15","v":"Metal Double "},3.4]
[null,"Double, low-E glass ","Metal Double, low-E glass ",2.8]
[null,"Double, low-E glass, argon filled ","Metal Double, low-E glass, argon filled ",2.6]
[null,"Triple ","Metal Triple ",2.6]
[null,"Triple, low-E glass ","Metal Triple, low-E glass ",2.1]
[null,"Triple, low-E glass, argon filled ","Metal Triple, low-E glass, argon filled ",2]
[null,"Single glazed window with Secondary Glazing","Secondary glazing",2.4]
[null,"Solid wood door to outside","solid wood door (external)",3]
[null,"Solid wood door to unheated corridor",{"$f":"B23","v":"Solid wood door to unheated corridor"},1.4]
[null,"Glazed wood or PVC-U door",null,"As windows above"]

{"sheet":"Version History","index":30,"n_rows":4,"n_cols":3,"rows_kept":4,"cut":false,"hidden":false,"merged":[]}
["Version Number","Release Date","Change Notes"]
[1,"2014-03-21","First release"]
[1.1000000000000001,"2014-06-19","Corrected calculations for F_temp for certain rooms and floor heat loss"]
[1.2,"2014-08-11","Corrected location options for window/doors 2 to 6"]